| hopach 1.13.1 Katherine S. Pollard
 
 | Snapshot Date: 2008-04-09 00:13:10 -0700 (Wed, 09 Apr 2008) |  | URL: https://hedgehog.fhcrc.org/bioconductor/trunk/madman/Rpacks/hopach |  | Last Changed Rev: 30639 / Revision: 30951 |  | Last Changed Date: 2008-03-24 10:46:05 -0700 (Mon, 24 Mar 2008) | 
 | lamb1 | Linux (SUSE 10.1) / x86_64 | OK | OK |  | 
| wilson2 | Linux (openSUSE 10.3) / x86_64 | OK | OK |  | 
| wellington | Linux (openSUSE 10.3) / i686 | OK | OK |  | 
| liverpool | Windows Server 2003 R2 (32-bit) / x64 | OK | [ OK ] | OK | 
| pelham | Mac OS X Leopard (10.5.1) / i386 | OK | OK | OK | 
* checking for working pdflatex ... OK
* using log directory 'E:/biocbld/bbs-2.2-bioc/meat/hopach.Rcheck'
* using R version 2.7.0 Under development (unstable) (2008-03-10 r44730)
* using session charset: ISO8859-1
* checking for file 'hopach/DESCRIPTION' ... OK
* this is package 'hopach' version '1.13.1'
* checking package dependencies ... OK
* checking if this is a source package ... OK
* checking whether package 'hopach' can be installed ... OK
* checking package directory ... OK
* checking for portable file names ... OK
* checking DESCRIPTION meta-information ... OK
* checking top-level files ... OK
* checking index information ... OK
* checking package subdirectories ... OK
* checking R files for non-ASCII characters ... OK
* checking R files for syntax errors ... OK
* checking whether the package can be loaded ... OK
* checking whether the package can be loaded with stated dependencies ... OK
* checking for unstated dependencies in R code ... OK
* checking S3 generic/method consistency ... OK
* checking replacement functions ... OK
* checking foreign function calls ... OK
* checking R code for possible problems ... OK
* checking Rd files ... OK
* checking Rd cross-references ... OK
* checking for missing documentation entries ... OK
* checking for code/documentation mismatches ... OK
* checking Rd \usage sections ... OK
* checking data for non-ASCII characters ... OK
* creating hopach-Ex.R ... OK
* checking examples ... OK
* checking package vignettes in 'inst/doc' ... OK
* creating hopach-manual.tex ... OK
* checking hopach-manual.tex using pdflatex ... OK
 
installing R.css in E:/biocbld/bbs-2.2-bioc/meat/hopach.Rcheck
---------- Making package hopach ------------
  adding build stamp to DESCRIPTION
  installing R files
  installing inst files
  installing data files
  preparing package hopach for lazy loading
Loading required package: cluster
Loading required package: Biobase
Loading required package: tools
Welcome to Bioconductor
  Vignettes contain introductory material. To view, type
  'openVignette()'. To cite Bioconductor, see
  'citation("Biobase")' and for packages 'citation(pkgname)'.
  installing man source files
  installing indices
  not zipping data
  installing help
 >>> Building/Updating help pages for package 'hopach'
     Formats: text html latex example chm 
  boot2fuzzy                        text    html    latex   example chm
  bootplot                          text    html    latex   example chm
  bootstrap                         text    html    latex   example chm
  correlationordering               text    html    latex   example chm
  disscosangle                      text    html    latex   example chm
  distancematrix                    text    html    latex   example chm
  dplot                             text    html    latex   example chm
  golub                             text    html    latex           chm
  hopach                            text    html    latex   example chm
  hopach.internal                   text    html    latex   example chm
  hopach2tree                       text    html    latex   example chm
  labelstomss                       text    html    latex   example chm
  makeoutput                        text    html    latex   example chm
  prune                             text    html    latex   example chm
Microsoft HTML Help Compiler 4.74.8702
Compiling e:\biocbld\bbs-2.2-bioc\meat\hopach.Rcheck\00_pkg_src\hopach\chm\hopach.chm
Compile time: 0 minutes, 0 seconds
15	Topics
69	Local links
22	Internet links
1	Graphic
Created e:\biocbld\bbs-2.2-bioc\meat\hopach.Rcheck\00_pkg_src\hopach\chm\hopach.chm, 61,311 bytes
Compression decreased file by 52,688 bytes.
  adding MD5 sums
* DONE (hopach)