panp 1.9.1 Peter Warren
 | Snapshot Date: 2008-04-09 00:13:10 -0700 (Wed, 09 Apr 2008) |  | URL: https://hedgehog.fhcrc.org/bioconductor/trunk/madman/Rpacks/panp |  | Last Changed Rev: 30194 / Revision: 30951 |  | Last Changed Date: 2008-02-26 10:06:23 -0800 (Tue, 26 Feb 2008) |  
  | lamb1  | Linux (SUSE 10.1) / x86_64  | [ OK ] |  OK  |  | 
| wilson2  | Linux (openSUSE 10.3) / x86_64  |  OK  |  OK  |  | 
| wellington  | Linux (openSUSE 10.3) / i686  |  OK  |  OK  |  | 
| liverpool  | Windows Server 2003 R2 (32-bit) / x64  |  OK  |  OK  |  OK  | 
| pelham  | Mac OS X Leopard (10.5.1) / i386  |  OK  |  OK  |  OK  | 
* checking for file 'panp/DESCRIPTION' ... OK
* preparing 'panp':
* checking DESCRIPTION meta-information ... OK
* installing the package to re-build vignettes
* Installing *source* package 'panp' ...
** R
** data
** inst
** help
 >>> Building/Updating help pages for package 'panp'
     Formats: text html latex example 
  NSMPnames.hgu133a                 text    html    latex
  NSMPnames.hgu133plus2             text    html    latex
  gcrma.ExpressionSet               text    html    latex
  pa.calls                          text    html    latex   example
** building package indices ...
* DONE (panp)
* creating vignettes ... OK
* removing junk files
* checking for LF line-endings in source and make files
* checking for empty or unneeded directories
* building 'panp_1.9.1.tar.gz'