EBarrays 2.3.1 Ming Yuan
 | Snapshot Date: 2008-04-09 00:13:10 -0700 (Wed, 09 Apr 2008) |  | URL: https://hedgehog.fhcrc.org/bioconductor/trunk/madman/Rpacks/EBarrays |  | Last Changed Rev: 30639 / Revision: 30951 |  | Last Changed Date: 2008-03-24 10:46:05 -0700 (Mon, 24 Mar 2008) |  
  | lamb1  | Linux (SUSE 10.1) / x86_64  |  OK  |  OK  |  | 
| wilson2  | Linux (openSUSE 10.3) / x86_64  |  OK  |  OK  |  | 
| wellington  | Linux (openSUSE 10.3) / i686  |  OK  |  OK  |  | 
| liverpool  | Windows Server 2003 R2 (32-bit) / x64  |  OK  |  OK  | [ OK ] | 
| pelham  | Mac OS X Leopard (10.5.1) / i386  |  OK  |  OK  |  OK  | 
installing R.css in E:/biocbld/bbs-2.2-bioc/meat/EBarrays.buildbin-libdir
Using auto-selected zip options 'EBarrays-ZIPDATA=zip'
---------- Making package EBarrays ------------
  adding build stamp to DESCRIPTION
  making DLL ...
making ebarrays.d from ebarrays.c
gcc  -std=gnu99  -IE:/biocbld/bbs-2.2-bioc/R/include     -O3 -Wall  -c ebarrays.c -o ebarrays.o
windres --preprocessor="gcc -E -xc -DRC_INVOKED" -I E:/biocbld/bbs-2.2-bioc/R/include  -i EBarrays_res.rc -o EBarrays_res.o
gcc  -std=gnu99  -shared -s  -o EBarrays.dll EBarrays.def ebarrays.o EBarrays_res.o  -LE:/biocbld/bbs-2.2-bioc/R/bin    -lR
  ... DLL made
  installing DLL
  installing R files
  installing demos
  installing inst files
  installing data files
  preparing package EBarrays for lazy loading
Loading required package: Biobase
Loading required package: tools
Welcome to Bioconductor
  Vignettes contain introductory material. To view, type
  'openVignette()'. To cite Bioconductor, see
  'citation("Biobase")' and for packages 'citation(pkgname)'.
Loading required package: lattice
Loading required package: cluster
  installing man source files
  installing indices
  zipping data
  installing help
Note: ignoring empty \keyword entries
Note: ignoring empty \keyword entries
Note: removing empty section \examples
Note: removing empty section \examples
 >>> Building/Updating help pages for package 'EBarrays'
     Formats: text html latex example chm 
  EBarrays-Internal                 text    html    latex           chm
  crit.fun                          text    html    latex   example chm
  ebarraysFamily-class              text    html    latex   example chm
  ebplots                           text    html    latex           chm
  emfit                             text    html    latex   example chm
  gould                             text    html    latex   example chm
  postprob                          text    html    latex   example chm
  utilities                         text    html    latex   example chm
Microsoft HTML Help Compiler 4.74.8702
Compiling e:\biocbld\bbs-2.2-bioc\meat\R.INSTALL.3828\EBarrays\chm\EBarrays.chm
Compile time: 0 minutes, 0 seconds
9	Topics
54	Local links
0	Internet links
1	Graphic
Created e:\biocbld\bbs-2.2-bioc\meat\R.INSTALL.3828\EBarrays\chm\EBarrays.chm, 34,231 bytes
Compression decreased file by 17,092 bytes.
  adding MD5 sums
packaged installation of package 'EBarrays' as EBarrays_2.3.1.zip
* DONE (EBarrays)