| rbsurv 1.5.0 Sukwoo Kim
 
 | Snapshot Date: 2008-04-09 00:13:10 -0700 (Wed, 09 Apr 2008) |  | URL: https://hedgehog.fhcrc.org/bioconductor/trunk/madman/Rpacks/rbsurv |  | Last Changed Rev: 30639 / Revision: 30951 |  | Last Changed Date: 2008-03-24 10:46:05 -0700 (Mon, 24 Mar 2008) | 
 | lamb1 | Linux (SUSE 10.1) / x86_64 | OK | OK |  | 
| wilson2 | Linux (openSUSE 10.3) / x86_64 | OK | OK |  | 
| wellington | Linux (openSUSE 10.3) / i686 | OK | OK |  | 
| liverpool | Windows Server 2003 R2 (32-bit) / x64 | OK | OK | [ OK ] | 
| pelham | Mac OS X Leopard (10.5.1) / i386 | OK | OK | OK | 
installing R.css in E:/biocbld/bbs-2.2-bioc/meat/rbsurv.buildbin-libdir
Using auto-selected zip options ''
---------- Making package rbsurv ------------
  adding build stamp to DESCRIPTION
  installing NAMESPACE file and metadata
  installing R files
  installing inst files
  installing data files
  preparing package rbsurv for lazy loading
Loading required package: Biobase
Loading required package: tools
Welcome to Bioconductor
  Vignettes contain introductory material. To view, type
  'openVignette()'. To cite Bioconductor, see
  'citation("Biobase")' and for packages 'citation(pkgname)'.
Loading required package: survival
Loading required package: splines
  installing man source files
  installing indices
  not zipping data
  installing help
 >>> Building/Updating help pages for package 'rbsurv'
     Formats: text html latex example chm 
  glioma                            text    html    latex           chm
  glioma.cov                        text    html    latex           chm
  glioma.x                          text    html    latex           chm
  glioma.y                          text    html    latex           chm
  rbsurv                            text    html    latex   example chm
Microsoft HTML Help Compiler 4.74.8702
Compiling e:\biocbld\bbs-2.2-bioc\meat\R.INSTALL.5560\rbsurv\chm\rbsurv.chm
Compile time: 0 minutes, 0 seconds
6	Topics
10	Local links
0	Internet links
1	Graphic
Created e:\biocbld\bbs-2.2-bioc\meat\R.INSTALL.5560\rbsurv\chm\rbsurv.chm, 18,825 bytes
Compression increased file by 3,703 bytes.
  adding MD5 sums
packaged installation of package 'rbsurv' as rbsurv_1.5.0.zip
* DONE (rbsurv)