pamr 1.37.0 Rob Tibshirani
 | Snapshot Date: 2008-04-09 00:13:10 -0700 (Wed, 09 Apr 2008) |  | URL: https://hedgehog.fhcrc.org/bioconductor/trunk/madman/Rpacks/pamr |  | Last Changed Rev: 27716 / Revision: 30951 |  | Last Changed Date: 2007-10-02 18:16:39 -0700 (Tue, 02 Oct 2007) |  
  | lamb1  | Linux (SUSE 10.1) / x86_64  | [ OK ] |  OK  |  | 
| wilson2  | Linux (openSUSE 10.3) / x86_64  |  OK  |  WARNINGS  |  | 
| wellington  | Linux (openSUSE 10.3) / i686  |  OK  |  WARNINGS  |  | 
| liverpool  | Windows Server 2003 R2 (32-bit) / x64  |  OK  |  OK  |  OK  | 
| pelham  | Mac OS X Leopard (10.5.1) / i386  |  OK  |  WARNINGS  |  OK  | 
* checking for file 'pamr/DESCRIPTION' ... OK
* preparing 'pamr':
* checking DESCRIPTION meta-information ... OK
* cleaning src
* removing junk files
* excluding invalid files from 'pamr'
Subdirectory 'man' contains invalid file names:
  internal.names
* checking for LF line-endings in source and make files
* checking for empty or unneeded directories
* building 'pamr_1.37.0.tar.gz'