| daMA 1.11.0 Jobst Landgrebe
 
 | Snapshot Date: 2008-04-09 00:13:10 -0700 (Wed, 09 Apr 2008) |  | URL: https://hedgehog.fhcrc.org/bioconductor/trunk/madman/Rpacks/daMA |  | Last Changed Rev: 30639 / Revision: 30951 |  | Last Changed Date: 2008-03-24 10:46:05 -0700 (Mon, 24 Mar 2008) | 
 | lamb1 | Linux (SUSE 10.1) / x86_64 | OK | OK |  | 
| wilson2 | Linux (openSUSE 10.3) / x86_64 | OK | OK |  | 
| wellington | Linux (openSUSE 10.3) / i686 | OK | OK |  | 
| liverpool | Windows Server 2003 R2 (32-bit) / x64 | OK | OK | OK | 
| pelham | Mac OS X Leopard (10.5.1) / i386 | OK | OK | [ OK ] | 
                INSTALLATION WITH 'R CMD INSTALL daMA_1.11.0.tar.gz'
* Installing to library 'daMA.buildbin-libdir'
* Installing *source* package 'daMA' ...
** R
** data
** help
Note: removing empty section \note
Note: removing empty section \seealso
Note: removing empty section \source
Note: removing empty section \details
Note: removing empty section \format
Note: removing empty section \source
Note: removing empty section \details
Note: removing empty section \format
Note: ignoring empty \keyword entries
Note: removing empty section \value
Note: removing empty section \details
Note: removing empty section \note
Note: removing empty section \examples
Note: removing empty section \seealso
Note: removing empty section \details
Note: removing empty section \references
Note: removing empty section \note
Note: removing empty section \seealso
Note: removing empty section \source
Note: removing empty section \details
Note: removing empty section \references
 >>> Building/Updating help pages for package 'daMA'
     Formats: text html latex example 
  analyseMA                         text    html    latex   example
  cinfo                             text    html    latex   example
  cinfoB.AB                         text    html    latex   example
  cmat                              text    html    latex   example
  cmatB.AB                          text    html    latex   example
  core                              text    html    latex
  data.3x2                          text    html    latex   example
  designMA                          text    html    latex   example
  designs.basic                     text    html    latex
  designs.composite                 text    html    latex   example
  id.3x2                            text    html    latex   example
** building package indices ...
* DONE (daMA)