| SLqPCR 1.5.0 Matthias Kohl
 
 | Snapshot Date: 2008-04-09 00:13:10 -0700 (Wed, 09 Apr 2008) |  | URL: https://hedgehog.fhcrc.org/bioconductor/trunk/madman/Rpacks/SLqPCR |  | Last Changed Rev: 27716 / Revision: 30951 |  | Last Changed Date: 2007-10-02 18:16:39 -0700 (Tue, 02 Oct 2007) | 
 | lamb1 | Linux (SUSE 10.1) / x86_64 | OK | OK |  | 
| wilson2 | Linux (openSUSE 10.3) / x86_64 | OK | OK |  | 
| wellington | Linux (openSUSE 10.3) / i686 | [ OK ] | OK |  | 
| liverpool | Windows Server 2003 R2 (32-bit) / x64 | OK | OK | OK | 
| pelham | Mac OS X Leopard (10.5.1) / i386 | OK | OK | OK | 
* checking for file 'SLqPCR/DESCRIPTION' ... OK
* preparing 'SLqPCR':
* checking DESCRIPTION meta-information ... OK
* installing the package to re-build vignettes
* Installing *source* package 'SLqPCR' ...
** R
** data
** inst
** help
 >>> Building/Updating help pages for package 'SLqPCR'
     Formats: text html latex example 
  SLqPCR-package                    text    html    latex
  SLqPCRdata                        text    html    latex   example
  geneStabM                         text    html    latex
  geomMean                          text    html    latex
  normPCR                           text    html    latex   example
  relQuantPCR                       text    html    latex
  selectHKgenes                     text    html    latex   example
  vandesompele                      text    html    latex   example
** building package indices ...
* DONE (SLqPCR)
* creating vignettes ... OK
* removing junk files
* checking for LF line-endings in source and make files
* checking for empty or unneeded directories
* building 'SLqPCR_1.5.0.tar.gz'