limmaGUI 1.15.0 Keith Satterley
 | Snapshot Date: 2008-04-09 00:13:10 -0700 (Wed, 09 Apr 2008) |  | URL: https://hedgehog.fhcrc.org/bioconductor/trunk/madman/Rpacks/limmaGUI |  | Last Changed Rev: 28351 / Revision: 30951 |  | Last Changed Date: 2007-10-31 10:04:47 -0700 (Wed, 31 Oct 2007) |  
  | lamb1  | Linux (SUSE 10.1) / x86_64  |  OK  |  OK  |  | 
| wilson2  | Linux (openSUSE 10.3) / x86_64  |  OK  |  OK  |  | 
| wellington  | Linux (openSUSE 10.3) / i686  |  OK  |  OK  |  | 
| liverpool  | Windows Server 2003 R2 (32-bit) / x64  |  OK  |  OK  |  OK  | 
| pelham  | Mac OS X Leopard (10.5.1) / i386  | [ OK ] |  OK  |  OK  | 
* checking for file 'limmaGUI/DESCRIPTION' ... OK
* preparing 'limmaGUI':
* checking DESCRIPTION meta-information ... OK
* installing the package to re-build vignettes
* Installing *source* package 'limmaGUI' ...
** R
** inst
** preparing package for lazy loading
Loading required package: limma
Loading required package: tcltk
Loading Tcl/Tk interface ... done
** help
Note: unmatched right brace in 'limmaGUI' on or after line 139
 >>> Building/Updating help pages for package 'limmaGUI'
     Formats: text html latex example 
  LGchangelog                       text    html    latex
  limmaGUI                          text    html    latex
** building package indices ...
* DONE (limmaGUI)
* creating vignettes ... OK
* removing junk files
* checking for LF line-endings in source and make files
* checking for empty or unneeded directories
* building 'limmaGUI_1.15.0.tar.gz'