| VanillaICE 1.1.18 Robert Scharpf
 
 | Snapshot Date: 2008-04-09 00:13:10 -0700 (Wed, 09 Apr 2008) |  | URL: https://hedgehog.fhcrc.org/bioconductor/trunk/madman/Rpacks/VanillaICE |  | Last Changed Rev: 30913 / Revision: 30951 |  | Last Changed Date: 2008-04-08 03:27:56 -0700 (Tue, 08 Apr 2008) | 
 | lamb1 | Linux (SUSE 10.1) / x86_64 | OK | ERROR |  | 
| wilson2 | Linux (openSUSE 10.3) / x86_64 | OK | ERROR |  | 
| wellington | Linux (openSUSE 10.3) / i686 | OK | ERROR |  | 
| liverpool | Windows Server 2003 R2 (32-bit) / x64 | OK | OK | [ OK ] | 
| pelham | Mac OS X Leopard (10.5.1) / i386 | OK | ERROR | OK | 
installing R.css in E:/biocbld/bbs-2.2-bioc/meat/VanillaICE.buildbin-libdir
Using auto-selected zip options 'VanillaICE-ZIPDATA=zip VanillaICE-HELP=ziponly'
---------- Making package VanillaICE ------------
  adding build stamp to DESCRIPTION
  installing NAMESPACE file and metadata
  installing R files
  installing inst files
  installing data files
  preparing package VanillaICE for lazy loading
Loading required package: SNPchip
Loading required package: Biobase
Loading required package: tools
Welcome to Bioconductor
  Vignettes contain introductory material. To view, type
  'openVignette()'. To cite Bioconductor, see
  'citation("Biobase")' and for packages 'citation(pkgname)'.
Loading required package: oligoClasses
  installing man source files
  installing indices
  zipping data
  installing help
 >>> Building/Updating help pages for package 'VanillaICE'
     Formats: text html latex example chm 
  HmmOptions-class                  text    html    latex   example chm
  HmmParameter-class                text    html    latex   example chm
  HmmPredict-class                  text    html    latex   example chm
  addFeatureData                    text    html    latex           chm
  calculateBreakpoints              text    html    latex           chm
  calculateCnSE                     text    html    latex           chm
  calculateDistance                 text    html    latex           chm
  calls.ICE                         text    html    latex           chm
  calls.emission                    text    html    latex           chm
  chromosome1                       text    html    latex   example chm
  copyNumber.ICE                    text    html    latex           chm
  copyNumber.emission               text    html    latex           chm
  copyNumber.location               text    html    latex           chm
  emission                          text    html    latex           chm
  fit                               text    html    latex   example chm
  genomicDistance                   text    html    latex           chm
  getChromosomeArm                  text    html    latex           chm
  hmm                               text    html    latex   example chm
  makeTable                         text    html    latex   example chm
  pi                                text    html    latex           chm
  scaleTransitionProbability        text    html    latex   example chm
  states                            text    html    latex           chm
  transitionScale                   text    html    latex           chm
  viterbi                           text    html    latex           chm
  zipping help files
Microsoft HTML Help Compiler 4.74.8702
Compiling e:\biocbld\bbs-2.2-bioc\meat\R.INSTALL.4520\VanillaICE\chm\VanillaICE.chm
Compile time: 0 minutes, 1 second
25	Topics
118	Local links
0	Internet links
1	Graphic
Created e:\biocbld\bbs-2.2-bioc\meat\R.INSTALL.4520\VanillaICE\chm\VanillaICE.chm, 36,079 bytes
Compression decreased file by 49,688 bytes.
  adding MD5 sums
packaged installation of package 'VanillaICE' as VanillaICE_1.1.18.zip
* DONE (VanillaICE)