| lapmix 1.5.3 Yann Ruffieux
 
 | Snapshot Date: 2008-04-09 00:13:10 -0700 (Wed, 09 Apr 2008) |  | URL: https://hedgehog.fhcrc.org/bioconductor/trunk/madman/Rpacks/lapmix |  | Last Changed Rev: 30639 / Revision: 30951 |  | Last Changed Date: 2008-03-24 10:46:05 -0700 (Mon, 24 Mar 2008) | 
 | lamb1 | Linux (SUSE 10.1) / x86_64 | OK | OK |  | 
| wilson2 | Linux (openSUSE 10.3) / x86_64 | OK | OK |  | 
| wellington | Linux (openSUSE 10.3) / i686 | OK | OK |  | 
| liverpool | Windows Server 2003 R2 (32-bit) / x64 | [ OK ] | OK | OK | 
| pelham | Mac OS X Leopard (10.5.1) / i386 | OK | OK | OK | 
* checking for file 'lapmix/DESCRIPTION' ... OK
* preparing 'lapmix':
* checking DESCRIPTION meta-information ... OK
* installing the package to re-build vignettes
installing R.css in E:/biocbld/bbs-2.2-bioc/tmpdir/Rinst424068988
---------- Making package lapmix ------------
  adding build stamp to DESCRIPTION
  installing R files
  installing inst files
  installing man source files
  installing indices
  installing help
 >>> Building/Updating help pages for package 'lapmix'
     Formats: text html latex example chm 
  lap.volcanoplot                   text    html    latex   example chm
  lapmix-internal                   text    html    latex           chm
  lapmix.Fit                        text    html    latex   example chm
  laptopTable                       text    html    latex   example chm
Microsoft HTML Help Compiler 4.74.8702
Compiling e:\biocbld\bbs-2.2-bioc\meat\lapmix\chm\lapmix.chm
Compile time: 0 minutes, 1 second
5	Topics
7	Local links
0	Internet links
1	Graphic
Created e:\biocbld\bbs-2.2-bioc\meat\lapmix\chm\lapmix.chm, 21,951 bytes
Compression increased file by 4,034 bytes.
  adding MD5 sums
* DONE (lapmix)
* creating vignettes ... OK
* removing junk files
* checking for LF line-endings in source and make files
* checking for empty or unneeded directories
* building 'lapmix_1.5.3.tar.gz'