| affycomp 1.15.2 Rafael A. Irizarry
 
 | Snapshot Date: 2008-04-09 00:13:10 -0700 (Wed, 09 Apr 2008) |  | URL: https://hedgehog.fhcrc.org/bioconductor/trunk/madman/Rpacks/affycomp |  | Last Changed Rev: 30293 / Revision: 30951 |  | Last Changed Date: 2008-02-29 09:39:23 -0800 (Fri, 29 Feb 2008) | 
 | lamb1 | Linux (SUSE 10.1) / x86_64 | OK | OK |  | 
| wilson2 | Linux (openSUSE 10.3) / x86_64 | OK | OK |  | 
| wellington | Linux (openSUSE 10.3) / i686 | OK | OK |  | 
| liverpool | Windows Server 2003 R2 (32-bit) / x64 | OK | OK | [ OK ] | 
| pelham | Mac OS X Leopard (10.5.1) / i386 | OK | OK | OK | 
installing R.css in E:/biocbld/bbs-2.2-bioc/meat/affycomp.buildbin-libdir
Using auto-selected zip options 'affycomp-ZIPDATA=zip affycomp-HELP=ziponly'
---------- Making package affycomp ------------
  adding build stamp to DESCRIPTION
  installing NAMESPACE file and metadata
  installing R files
  installing inst files
  installing data files
  preparing package affycomp for lazy loading
Loading required package: Biobase
Loading required package: tools
Welcome to Bioconductor
  Vignettes contain introductory material. To view, type
  'openVignette()'. To cite Bioconductor, see
  'citation("Biobase")' and for packages 'citation(pkgname)'.
  installing man source files
  installing indices
  zipping data
  installing help
 >>> Building/Updating help pages for package 'affycomp'
     Formats: text html latex example chm 
  SD                                text    html    latex   example chm
  affycomp.compfigs.auxiliary       text    html    latex   example chm
  affycomp.figures.auxiliary        text    html    latex   example chm
  affycomp.table                    text    html    latex   example chm
  affycompPlot                      text    html    latex   example chm
  assessAll                         text    html    latex           chm
  assessDilution                    text    html    latex           chm
  assessSD                          text    html    latex           chm
  assessSpikeIn                     text    html    latex           chm
  assessSpikeIn2                    text    html    latex           chm
  dilution.phenodata                text    html    latex           chm
  exprset.log                       text    html    latex           chm
  hgu133a.spikein.phenodata         text    html    latex           chm
  lw.sd.assessment                  text    html    latex           chm
  mas5.assessment                   text    html    latex           chm
  readin                            text    html    latex           chm
  remove.hgu133a.xhyb               text    html    latex           chm
  rma.assessment                    text    html    latex           chm
  rma.sd.assessment                 text    html    latex           chm
  spikein.phenodata                 text    html    latex           chm
  xhyb                              text    html    latex           chm
  zipping help files
Microsoft HTML Help Compiler 4.74.8702
Compiling e:\biocbld\bbs-2.2-bioc\meat\R.INSTALL.4240\affycomp\chm\affycomp.chm
Compile time: 0 minutes, 0 seconds
22	Topics
129	Local links
3	Internet links
1	Graphic
Created e:\biocbld\bbs-2.2-bioc\meat\R.INSTALL.4240\affycomp\chm\affycomp.chm, 34,705 bytes
Compression decreased file by 49,098 bytes.
  adding MD5 sums
packaged installation of package 'affycomp' as affycomp_1.15.2.zip
* DONE (affycomp)