| spikeLI 1.7.0 Enrico Carlon
 
 | Snapshot Date: 2008-04-09 00:13:10 -0700 (Wed, 09 Apr 2008) |  | URL: https://hedgehog.fhcrc.org/bioconductor/trunk/madman/Rpacks/spikeLI |  | Last Changed Rev: 28109 / Revision: 30951 |  | Last Changed Date: 2007-10-21 09:10:39 -0700 (Sun, 21 Oct 2007) | 
 | lamb1 | Linux (SUSE 10.1) / x86_64 | OK | OK |  | 
| wilson2 | Linux (openSUSE 10.3) / x86_64 | OK | OK |  | 
| wellington | Linux (openSUSE 10.3) / i686 | OK | OK |  | 
| liverpool | Windows Server 2003 R2 (32-bit) / x64 | [ OK ] | OK | OK | 
| pelham | Mac OS X Leopard (10.5.1) / i386 | OK | OK | OK | 
* checking for file 'spikeLI/DESCRIPTION' ... OK
* preparing 'spikeLI':
* checking DESCRIPTION meta-information ... OK
* installing the package to re-build vignettes
installing R.css in E:/biocbld/bbs-2.2-bioc/tmpdir/Rinst201252011
---------- Making package spikeLI ------------
  adding build stamp to DESCRIPTION
  installing R files
  installing demos
  installing inst files
  installing data files
  installing man source files
  installing indices
  not zipping data
  installing help
 >>> Building/Updating help pages for package 'spikeLI'
     Formats: text html latex example chm 
  IvsDG                             text    html    latex   example chm
  Ivsc                              text    html    latex   example chm
  SPIKE_IN                          text    html    latex   example chm
  SPIKE_IN95                        text    html    latex   example chm
  SPIKE_INA                         text    html    latex   example chm
  SPIKE_INB                         text    html    latex   example chm
  SPIKE_INH                         text    html    latex   example chm
  collapse                          text    html    latex   example chm
  conc133                           text    html    latex   example chm
  conc95                            text    html    latex   example chm
  hgu                               text    html    latex   example chm
  spikeLI.package                   text    html    latex           chm
Microsoft HTML Help Compiler 4.74.8702
Compiling e:\biocbld\bbs-2.2-bioc\meat\spikeLI\chm\spikeLI.chm
Compile time: 0 minutes, 1 second
13	Topics
113	Local links
0	Internet links
1	Graphic
Created e:\biocbld\bbs-2.2-bioc\meat\spikeLI\chm\spikeLI.chm, 26,684 bytes
Compression decreased file by 11,462 bytes.
  adding MD5 sums
* DONE (spikeLI)
* creating vignettes ... OK
* removing junk files
* checking for LF line-endings in source and make files
* checking for empty or unneeded directories
* building 'spikeLI_1.7.0.tar.gz'