flowUtils 0.99.1 Florian Hahne
 | Snapshot Date: 2008-04-09 00:13:10 -0700 (Wed, 09 Apr 2008) |  | URL: https://hedgehog.fhcrc.org/bioconductor/trunk/madman/Rpacks/flowUtils |  | Last Changed Rev: 30941 / Revision: 30951 |  | Last Changed Date: 2008-04-08 18:13:19 -0700 (Tue, 08 Apr 2008) |  
  | lamb1  | Linux (SUSE 10.1) / x86_64  |  OK  |  OK  |  | 
| wilson2  | Linux (openSUSE 10.3) / x86_64  |  OK  |  OK  |  | 
| wellington  | Linux (openSUSE 10.3) / i686  |  OK  |  OK  |  | 
| liverpool  | Windows Server 2003 R2 (32-bit) / x64  |  OK  |  WARNINGS  |  OK  | 
| pelham  | Mac OS X Leopard (10.5.1) / i386  |  OK  | [ OK ] |  OK  | 
* checking for working pdflatex ... OK
* using log directory '/Users/biocbuild/bbs-2.2-bioc/meat/flowUtils.Rcheck'
* using R version 2.7.0 beta (2008-04-07 r45159)
* using session charset: ASCII
* checking for file 'flowUtils/DESCRIPTION' ... OK
* checking extension type ... Package
* this is package 'flowUtils' version '0.99.1'
* checking package name space information ... OK
* checking package dependencies ... OK
* checking if this is a source package ... OK
* checking whether package 'flowUtils' can be installed ... OK
* checking package directory ... OK
* checking for portable file names ... OK
* checking for sufficient/correct file permissions ... OK
* checking DESCRIPTION meta-information ... OK
* checking top-level files ... OK
* checking index information ... OK
* checking package subdirectories ... OK
* checking R files for non-ASCII characters ... OK
* checking R files for syntax errors ... OK
* checking whether the package can be loaded ... OK
* checking whether the package can be loaded with stated dependencies ... OK
* checking whether the name space can be loaded with stated dependencies ... OK
* checking for unstated dependencies in R code ... OK
* checking S3 generic/method consistency ... OK
* checking replacement functions ... OK
* checking foreign function calls ... OK
* checking R code for possible problems ... NOTE
parse.gatingML.http...www.isac.net.org.std.Gating.ML.v1.3._Gating.ML :
  makeCall: possible error in as.symbol("&", LESS, LT): unused
  argument(s) (LESS, LT)
parse.gatingML.http...www.isac.net.org.std.Gating.ML.v1.3._Gating.ML :
  makeCall: possible error in as.call(as.symbol("&"), MORE, GTE):
  unused argument(s) (MORE, GTE)
xmlToClass : <anonymous>: no visible binding for global variable
  'params'
xmlToFUN : <anonymous>: no visible binding for global variable 'params'
* checking Rd files ... OK
* checking Rd cross-references ... OK
* checking for missing documentation entries ... OK
* checking for code/documentation mismatches ... OK
* checking Rd \usage sections ... OK
* creating flowUtils-Ex.R ... OK
* checking examples ... OK
* creating flowUtils-manual.tex ... OK
* checking flowUtils-manual.tex using pdflatex ... OK
 
* Installing *source* package 'flowUtils' ...
** R
** inst
** help
 >>> Building/Updating help pages for package 'flowUtils'
     Formats: text html latex example 
  flowUtil-package                  text    html    latex   example
  read.compensationML               text    html    latex   example
  read.gatingML                     text    html    latex   example
  read.transformML                  text    html    latex   example
** building package indices ...
* DONE (flowUtils)