Harshlight 1.9.0 Maurizio Pellegrino
 | Snapshot Date: 2008-04-09 00:13:10 -0700 (Wed, 09 Apr 2008) |  | URL: https://hedgehog.fhcrc.org/bioconductor/trunk/madman/Rpacks/Harshlight |  | Last Changed Rev: 29019 / Revision: 30951 |  | Last Changed Date: 2007-12-04 13:10:19 -0800 (Tue, 04 Dec 2007) |  
  | lamb1  | Linux (SUSE 10.1) / x86_64  | [ OK ] |  OK  |  | 
| wilson2  | Linux (openSUSE 10.3) / x86_64  |  OK  |  OK  |  | 
| wellington  | Linux (openSUSE 10.3) / i686  |  OK  |  OK  |  | 
| liverpool  | Windows Server 2003 R2 (32-bit) / x64  |  OK  |  OK  |  OK  | 
| pelham  | Mac OS X Leopard (10.5.1) / i386  |  OK  |  OK  |  OK  | 
* checking for file 'Harshlight/DESCRIPTION' ... OK
* preparing 'Harshlight':
* checking DESCRIPTION meta-information ... OK
* cleaning src
* installing the package to re-build vignettes
* Installing *source* package 'Harshlight' ...
** libs
gcc -std=gnu99 -I/home/biocbuild/bbs-2.2-bioc/R/include -I/home/biocbuild/bbs-2.2-bioc/R/include  -I/usr/local/include    -fpic  -g -O2 -Wall -c Harshlight.c -o Harshlight.o
Harshlight.c: In function 'norm':
Harshlight.c:1316: warning: unused variable 'sorted2'
Harshlight.c: In function 'report_overall_header':
Harshlight.c:1467: warning: unknown conversion type character ')' in format
Harshlight.c:1471: warning: unknown conversion type character ')' in format
Harshlight.c:1474: warning: unknown conversion type character ')' in format
Harshlight.c: In function 'chip_summary':
Harshlight.c:1532: warning: unknown conversion type character ')' in format
Harshlight.c:1542: warning: unknown conversion type character ')' in format
Harshlight.c:1543: warning: unknown conversion type character ')' in format
Harshlight.c: In function 'extended_stop':
Harshlight.c:1555: warning: unknown conversion type character ')' in format
gcc -std=gnu99 -shared -L/usr/local/lib64 -o Harshlight.so Harshlight.o   -L/home/biocbuild/bbs-2.2-bioc/R/lib -lR
** R
** data
** inst
** preparing package for lazy loading
Loading required package: affy
Loading required package: Biobase
Loading required package: tools
Welcome to Bioconductor
  Vignettes contain introductory material. To view, type
  'openVignette()'. To cite Bioconductor, see
  'citation("Biobase")' and for packages 'citation(pkgname)'.
Loading required package: affyio
Loading required package: preprocessCore
Loading required package: altcdfenvs
Loading required package: matchprobes
Loading required package: makecdfenv
Loading required package: Biostrings
Loading required package: hypergraph
Loading required package: graph
Attaching package: 'graph'
	The following object(s) are masked from package:Biostrings :
	 complement 
Attaching package: 'hypergraph'
	The following object(s) are masked from package:Biostrings :
	 head,
	 tail 
	The following object(s) are masked from package:utils :
	 head,
	 tail 
** help
 >>> Building/Updating help pages for package 'Harshlight'
     Formats: text html latex example 
  HarshComp                         text    html    latex
  HarshExt                          text    html    latex
  Harshlight                        text    html    latex   example
  sim                               text    html    latex
** building package indices ...
* DONE (Harshlight)
* creating vignettes ... OK
* cleaning src
* removing junk files
* checking for LF line-endings in source and make files
    file 'Harshlight/src/Harshlight.c' had non-LF line endings
* checking for empty or unneeded directories
* building 'Harshlight_1.9.0.tar.gz'