nnNorm 2.3.0 Adi Laurentiu Tarca
 | Snapshot Date: 2008-04-09 00:13:10 -0700 (Wed, 09 Apr 2008) |  | URL: https://hedgehog.fhcrc.org/bioconductor/trunk/madman/Rpacks/nnNorm |  | Last Changed Rev: 30639 / Revision: 30951 |  | Last Changed Date: 2008-03-24 10:46:05 -0700 (Mon, 24 Mar 2008) |  
  | lamb1  | Linux (SUSE 10.1) / x86_64  |  OK  |  OK  |  | 
| wilson2  | Linux (openSUSE 10.3) / x86_64  |  OK  |  OK  |  | 
| wellington  | Linux (openSUSE 10.3) / i686  |  OK  |  OK  |  | 
| liverpool  | Windows Server 2003 R2 (32-bit) / x64  |  OK  |  OK  | [ OK ] | 
| pelham  | Mac OS X Leopard (10.5.1) / i386  |  OK  |  OK  |  OK  | 
installing R.css in E:/biocbld/bbs-2.2-bioc/meat/nnNorm.buildbin-libdir
Using auto-selected zip options ''
---------- Making package nnNorm ------------
  adding build stamp to DESCRIPTION
  installing R files
  installing inst files
  installing man source files
  installing indices
  installing help
Note: unmatched right brace in 'detectSpatialBias' on or after line 32
Note: unmatched right brace in 'detectSpatialBias.Rd' on or after line 32
Note: unmatched right brace in 'maNormNN' on or after line 52
Note: unmatched right brace in 'maNormNN.Rd' on or after line 52
 >>> Building/Updating help pages for package 'nnNorm'
     Formats: text html latex example chm 
  compNorm                          text    html    latex   example chm
  detectSpatialBias                 text    html    latex   example chm
  maNormNN                          text    html    latex   example chm
Microsoft HTML Help Compiler 4.74.8702
Compiling e:\biocbld\bbs-2.2-bioc\meat\R.INSTALL.4592\nnNorm\chm\nnNorm.chm
Compile time: 0 minutes, 0 seconds
4	Topics
9	Local links
0	Internet links
1	Graphic
Created e:\biocbld\bbs-2.2-bioc\meat\R.INSTALL.4592\nnNorm\chm\nnNorm.chm, 22,297 bytes
Compression increased file by 5,005 bytes.
  adding MD5 sums
packaged installation of package 'nnNorm' as nnNorm_2.3.0.zip
* DONE (nnNorm)