| pdmclass 1.11.1 James W. MacDonald
 
 | Snapshot Date: 2008-04-09 00:13:10 -0700 (Wed, 09 Apr 2008) |  | URL: https://hedgehog.fhcrc.org/bioconductor/trunk/madman/Rpacks/pdmclass |  | Last Changed Rev: 30354 / Revision: 30951 |  | Last Changed Date: 2008-03-04 09:56:52 -0800 (Tue, 04 Mar 2008) | 
 | lamb1 | Linux (SUSE 10.1) / x86_64 | OK | OK |  | 
| wilson2 | Linux (openSUSE 10.3) / x86_64 | OK | OK |  | 
| wellington | Linux (openSUSE 10.3) / i686 | OK | OK |  | 
| liverpool | Windows Server 2003 R2 (32-bit) / x64 | [ OK ] | OK | OK | 
| pelham | Mac OS X Leopard (10.5.1) / i386 | OK | OK | OK | 
* checking for file 'pdmclass/DESCRIPTION' ... OK
* preparing 'pdmclass':
* checking DESCRIPTION meta-information ... OK
* installing the package to re-build vignettes
installing R.css in E:/biocbld/bbs-2.2-bioc/tmpdir/Rinst246890939
---------- Making package pdmclass ------------
  adding build stamp to DESCRIPTION
  installing NAMESPACE file and metadata
  installing R files
  installing inst files
  installing man source files
  installing indices
  installing help
 >>> Building/Updating help pages for package 'pdmclass'
     Formats: text html latex example chm 
  my.svd                            text    html    latex           chm
  pdmClass                          text    html    latex   example chm
  pdmClass.cv                       text    html    latex   example chm
  pdmGenes                          text    html    latex   example chm
  pls1c                             text    html    latex           chm
  predict.pls                       text    html    latex   example chm
  svdpls1c                          text    html    latex           chm
  svdr                              text    html    latex           chm
Microsoft HTML Help Compiler 4.74.8702
Compiling e:\biocbld\bbs-2.2-bioc\meat\pdmclass\chm\pdmclass.chm
Compile time: 0 minutes, 1 second
9	Topics
13	Local links
0	Internet links
1	Graphic
Created e:\biocbld\bbs-2.2-bioc\meat\pdmclass\chm\pdmclass.chm, 27,539 bytes
Compression decreased file by 5,298 bytes.
  adding MD5 sums
* DONE (pdmclass)
* creating vignettes ... OK
* removing junk files
* checking for LF line-endings in source and make files
* checking for empty or unneeded directories
* building 'pdmclass_1.11.1.tar.gz'