| convert 1.15.1 Yee Hwa (Jean) Yang
 
 | Snapshot Date: 2008-04-09 00:13:10 -0700 (Wed, 09 Apr 2008) |  | URL: https://hedgehog.fhcrc.org/bioconductor/trunk/madman/Rpacks/convert |  | Last Changed Rev: 30235 / Revision: 30951 |  | Last Changed Date: 2008-02-27 11:46:09 -0800 (Wed, 27 Feb 2008) | 
 | lamb1 | Linux (SUSE 10.1) / x86_64 | OK | OK |  | 
| wilson2 | Linux (openSUSE 10.3) / x86_64 | OK | OK |  | 
| wellington | Linux (openSUSE 10.3) / i686 | OK | OK |  | 
| liverpool | Windows Server 2003 R2 (32-bit) / x64 | OK | OK | [ OK ] | 
| pelham | Mac OS X Leopard (10.5.1) / i386 | OK | OK | OK | 
installing R.css in E:/biocbld/bbs-2.2-bioc/meat/convert.buildbin-libdir
Using auto-selected zip options ''
---------- Making package convert ------------
  adding build stamp to DESCRIPTION
  installing R files
  installing inst files
  installing man source files
  installing indices
  installing help
 >>> Building/Updating help pages for package 'convert'
     Formats: text html latex example chm 
  coerce                            text    html    latex   example chm
Microsoft HTML Help Compiler 4.74.8702
Compiling e:\biocbld\bbs-2.2-bioc\meat\R.INSTALL.5632\convert\chm\convert.chm
Compile time: 0 minutes, 0 seconds
2	Topics
10	Local links
0	Internet links
1	Graphic
Created e:\biocbld\bbs-2.2-bioc\meat\R.INSTALL.5632\convert\chm\convert.chm, 17,924 bytes
Compression increased file by 5,522 bytes.
  adding MD5 sums
packaged installation of package 'convert' as convert_1.15.1.zip
* DONE (convert)