| quantsmooth 1.5.4 Jan Oosting
 
 | Snapshot Date: 2008-04-09 00:13:10 -0700 (Wed, 09 Apr 2008) |  | URL: https://hedgehog.fhcrc.org/bioconductor/trunk/madman/Rpacks/quantsmooth |  | Last Changed Rev: 30914 / Revision: 30951 |  | Last Changed Date: 2008-04-08 08:24:36 -0700 (Tue, 08 Apr 2008) | 
 | lamb1 | Linux (SUSE 10.1) / x86_64 | OK | WARNINGS |  | 
| wilson2 | Linux (openSUSE 10.3) / x86_64 | OK | WARNINGS |  | 
| wellington | Linux (openSUSE 10.3) / i686 | OK | WARNINGS |  | 
| liverpool | Windows Server 2003 R2 (32-bit) / x64 | OK | WARNINGS | [ OK ] | 
| pelham | Mac OS X Leopard (10.5.1) / i386 | OK | WARNINGS | OK | 
installing R.css in E:/biocbld/bbs-2.2-bioc/meat/quantsmooth.buildbin-libdir
Using auto-selected zip options ''
---------- Making package quantsmooth ------------
  adding build stamp to DESCRIPTION
  installing NAMESPACE file and metadata
  installing R files
  installing inst files
  installing data files
  preparing package quantsmooth for lazy loading
Loading required package: quantreg
Loading required package: SparseM
Loading required package: lodplot
Loading required package: grid
  installing man source files
  installing indices
  not zipping data
  installing help
Note: removing empty section \value
Note: removing empty section \value
Note: removing empty section \details
Note: removing empty section \details
Note: removing empty section \details
Note: removing empty section \details
Note: removing empty section \details
Note: removing empty section \details
Note: removing empty section \details
Note: removing empty section \details
 >>> Building/Updating help pages for package 'quantsmooth'
     Formats: text html latex example chm 
  Chromosome14                      text    html    latex           chm
  drawSimpleChrom                   text    html    latex   example chm
  getChangedIdx                     text    html    latex           chm
  getChangedRegions                 text    html    latex   example chm
  getLambdaMin                      text    html    latex   example chm
  lengthChromosome                  text    html    latex   example chm
  numericCHR                        text    html    latex   example chm
  paintCytobands                    text    html    latex   example chm
  plotChromosome                    text    html    latex           chm
  plotSmoothed                      text    html    latex   example chm
  prepareGenomePlot                 text    html    latex           chm
  quantsmooth                       text    html    latex   example chm
  quantsmooth.cv                    text    html    latex   example chm
  quantsmooth.seg                   text    html    latex   example chm
  scaleto                           text    html    latex           chm
Microsoft HTML Help Compiler 4.74.8702
Compiling e:\biocbld\bbs-2.2-bioc\meat\R.INSTALL.3940\quantsmooth\chm\quantsmooth.chm
Compile time: 0 minutes, 0 seconds
16	Topics
47	Local links
0	Internet links
1	Graphic
Created e:\biocbld\bbs-2.2-bioc\meat\R.INSTALL.3940\quantsmooth\chm\quantsmooth.chm, 30,354 bytes
Compression decreased file by 16,038 bytes.
  adding MD5 sums
packaged installation of package 'quantsmooth' as quantsmooth_1.5.4.zip
* DONE (quantsmooth)