| RBioinf 0.7.1 Robert Gentleman
 
 | Snapshot Date: 2008-04-09 00:13:10 -0700 (Wed, 09 Apr 2008) |  | URL: https://hedgehog.fhcrc.org/bioconductor/trunk/madman/Rpacks/RBioinf |  | Last Changed Rev: 30877 / Revision: 30951 |  | Last Changed Date: 2008-04-07 06:51:45 -0700 (Mon, 07 Apr 2008) | 
 | lamb1 | Linux (SUSE 10.1) / x86_64 | OK | OK |  | 
| wilson2 | Linux (openSUSE 10.3) / x86_64 | OK | OK |  | 
| wellington | Linux (openSUSE 10.3) / i686 | OK | OK |  | 
| liverpool | Windows Server 2003 R2 (32-bit) / x64 | OK | [ OK ] | OK | 
| pelham | Mac OS X Leopard (10.5.1) / i386 | OK | OK | OK | 
* checking for working pdflatex ... OK
* using log directory 'E:/biocbld/bbs-2.2-bioc/meat/RBioinf.Rcheck'
* using R version 2.7.0 Under development (unstable) (2008-03-10 r44730)
* using session charset: ISO8859-1
* checking for file 'RBioinf/DESCRIPTION' ... OK
* this is package 'RBioinf' version '0.7.1'
* checking package name space information ... OK
* checking package dependencies ... OK
* checking if this is a source package ... OK
* checking whether package 'RBioinf' can be installed ... OK
* checking package directory ... OK
* checking for portable file names ... OK
* checking DESCRIPTION meta-information ... OK
* checking top-level files ... OK
* checking index information ... OK
* checking package subdirectories ... OK
* checking R files for non-ASCII characters ... OK
* checking R files for syntax errors ... OK
* checking whether the package can be loaded ... OK
* checking whether the package can be loaded with stated dependencies ... OK
* checking whether the name space can be loaded with stated dependencies ... OK
* checking for unstated dependencies in R code ... OK
* checking S3 generic/method consistency ... OK
* checking replacement functions ... OK
* checking foreign function calls ... OK
* checking R code for possible problems ... OK
* checking Rd files ... OK
* checking Rd cross-references ... OK
* checking for missing documentation entries ... OK
* checking for code/documentation mismatches ... OK
* checking Rd \usage sections ... OK
* checking line endings in C/C++/Fortran sources/headers ... OK
* checking line endings in Makefiles ... OK
* checking for portable use of $BLAS_LIBS ... OK
* creating RBioinf-Ex.R ... OK
* checking examples ... OK
* checking package vignettes in 'inst/doc' ... OK
* creating RBioinf-manual.tex ... OK
* checking RBioinf-manual.tex using pdflatex ... OK
 
installing R.css in E:/biocbld/bbs-2.2-bioc/meat/RBioinf.Rcheck
---------- Making package RBioinf ------------
  adding build stamp to DESCRIPTION
  installing NAMESPACE file and metadata
  making DLL ...
making Rinit.d from Rinit.c
making rand.d from rand.c
gcc  -std=gnu99  -Ie:/biocbld/bbs-2.2-bioc/R/include     -O3 -Wall  -c Rinit.c -o Rinit.o
gcc  -std=gnu99  -Ie:/biocbld/bbs-2.2-bioc/R/include     -O3 -Wall  -c rand.c -o rand.o
rand.c: In function 'simpleRand':
rand.c:58: warning: statement with no effect
windres --preprocessor="gcc -E -xc -DRC_INVOKED" -I e:/biocbld/bbs-2.2-bioc/R/include  -i RBioinf_res.rc -o RBioinf_res.o
gcc  -std=gnu99  -shared -s  -o RBioinf.dll RBioinf.def Rinit.o rand.o RBioinf_res.o  -Le:/biocbld/bbs-2.2-bioc/R/bin    -lR
  ... DLL made
  installing DLL
  installing R files
  installing inst files
  installing man source files
  installing indices
  installing help
Note: removing empty section \examples
Note: removing empty section \examples
 >>> Building/Updating help pages for package 'RBioinf'
     Formats: text html latex example chm 
  Rcal                              text    html    latex   example chm
  S4Help                            text    html    latex   example chm
  asSimpleVector                    text    html    latex           chm
  classList2Graph                   text    html    latex   example chm
  computeClassLinearization         text    html    latex   example chm
  printWithNumbers                  text    html    latex   example chm
  randDNA                           text    html    latex   example chm
  simplePVect                       text    html    latex   example chm
  simpleRand                        text    html    latex   example chm
  simpleSort                        text    html    latex   example chm
  subClassNames                     text    html    latex   example chm
  superClasses                      text    html    latex   example chm
Microsoft HTML Help Compiler 4.74.8702
Compiling e:\biocbld\bbs-2.2-bioc\meat\RBioinf.Rcheck\00_pkg_src\RBioinf\chm\RBioinf.chm
Compile time: 0 minutes, 0 seconds
13	Topics
33	Local links
0	Internet links
1	Graphic
Created e:\biocbld\bbs-2.2-bioc\meat\RBioinf.Rcheck\00_pkg_src\RBioinf\chm\RBioinf.chm, 26,480 bytes
Compression decreased file by 10,664 bytes.
  adding MD5 sums
* DONE (RBioinf)