| sagenhaft 1.9.0 Tim Beissbarth
 
 | Snapshot Date: 2008-04-09 00:13:10 -0700 (Wed, 09 Apr 2008) |  | URL: https://hedgehog.fhcrc.org/bioconductor/trunk/madman/Rpacks/sagenhaft |  | Last Changed Rev: 30639 / Revision: 30951 |  | Last Changed Date: 2008-03-24 10:46:05 -0700 (Mon, 24 Mar 2008) | 
 | lamb1 | Linux (SUSE 10.1) / x86_64 | OK | OK |  | 
| wilson2 | Linux (openSUSE 10.3) / x86_64 | OK | OK |  | 
| wellington | Linux (openSUSE 10.3) / i686 | OK | OK |  | 
| liverpool | Windows Server 2003 R2 (32-bit) / x64 | OK | OK | [ OK ] | 
| pelham | Mac OS X Leopard (10.5.1) / i386 | OK | OK | OK | 
installing R.css in E:/biocbld/bbs-2.2-bioc/meat/sagenhaft.buildbin-libdir
Using auto-selected zip options ''
---------- Making package sagenhaft ------------
  adding build stamp to DESCRIPTION
  installing R files
  installing inst files
  installing data files
  preparing package sagenhaft for lazy loading
Loading required package: SparseM
  installing man source files
  installing indices
  not zipping data
  installing help
 >>> Building/Updating help pages for package 'sagenhaft'
     Formats: text html latex example chm 
  error.correction                  text    html    latex   example chm
  extract.lib                       text    html    latex   example chm
  sage.library                      text    html    latex   example chm
  sage.library.comparison           text    html    latex   example chm
  sage.test                         text    html    latex   example chm
  sage.utilities                    text    html    latex   example chm
  sagelibrary.simulate              text    html    latex   example chm
Microsoft HTML Help Compiler 4.74.8702
Compiling e:\biocbld\bbs-2.2-bioc\meat\R.INSTALL.6024\sagenhaft\chm\sagenhaft.chm
Compile time: 0 minutes, 1 second
8	Topics
51	Local links
5	Internet links
1	Graphic
Created e:\biocbld\bbs-2.2-bioc\meat\R.INSTALL.6024\sagenhaft\chm\sagenhaft.chm, 27,924 bytes
Compression decreased file by 12,059 bytes.
  adding MD5 sums
packaged installation of package 'sagenhaft' as sagenhaft_1.9.0.zip
* DONE (sagenhaft)