| geneplotter 1.17.7 Biocore Team c/o BioC user list
 
 | Snapshot Date: 2008-04-09 00:13:10 -0700 (Wed, 09 Apr 2008) |  | URL: https://hedgehog.fhcrc.org/bioconductor/trunk/madman/Rpacks/geneplotter |  | Last Changed Rev: 30220 / Revision: 30951 |  | Last Changed Date: 2008-02-26 16:30:27 -0800 (Tue, 26 Feb 2008) | 
 | lamb1 | Linux (SUSE 10.1) / x86_64 | OK | OK |  | 
| wilson2 | Linux (openSUSE 10.3) / x86_64 | OK | OK |  | 
| wellington | Linux (openSUSE 10.3) / i686 | OK | OK |  | 
| liverpool | Windows Server 2003 R2 (32-bit) / x64 | OK | OK | OK | 
| pelham | Mac OS X Leopard (10.5.1) / i386 | [ OK ] | OK | OK | 
* checking for file 'geneplotter/DESCRIPTION' ... OK
* preparing 'geneplotter':
* checking DESCRIPTION meta-information ... OK
* installing the package to re-build vignettes
* Installing *source* package 'geneplotter' ...
** R
** data
** inst
** preparing package for lazy loading
Loading required package: annotate
Loading required package: Biobase
Loading required package: tools
Welcome to Bioconductor
  Vignettes contain introductory material. To view, type
  'openVignette()'. To cite Bioconductor, see
  'citation("Biobase")' and for packages 'citation(pkgname)'.
Loading required package: AnnotationDbi
Loading required package: DBI
Loading required package: RSQLite
Loading required package: xtable
Loading required package: lattice
KernSmooth 2.22 installed
Copyright M. P. Wand 1997
** help
Note: removing empty section \seealso
 >>> Building/Updating help pages for package 'geneplotter'
     Formats: text html latex example 
  GetColor                          text    html    latex   example
  Makesense                         text    html    latex   example
  alongChrom                        text    html    latex   example
  amplicon.plot                     text    html    latex   example
  cColor                            text    html    latex   example
  cPlot                             text    html    latex   example
  cScale                            text    html    latex   example
  classes                           text    html    latex
  eset133a                          text    html    latex   example
  histStack                         text    html    latex   example
  imageMap                          text    html    latex   example
  make.chromOrd                     text    html    latex   example
  multiecdf                         text    html    latex   example
  openHtmlPage                      text    html    latex   example
  panel.smoothScatter               text    html    latex   example
  plotChr                           text    html    latex   example
  plotExpressionGraph               text    html    latex   example
  savepng                           text    html    latex   example
  smoothscatter                     text    html    latex   example
** building package indices ...
* DONE (geneplotter)
* creating vignettes ... OK
* removing junk files
* checking for LF line-endings in source and make files
* checking for empty or unneeded directories
* building 'geneplotter_1.17.7.tar.gz'