| biocViews 1.7.3 Biocore Team c/o BioC user list
 
 | Snapshot Date: 2008-04-09 00:13:10 -0700 (Wed, 09 Apr 2008) |  | URL: https://hedgehog.fhcrc.org/bioconductor/trunk/madman/Rpacks/biocViews |  | Last Changed Rev: 30113 / Revision: 30951 |  | Last Changed Date: 2008-02-22 11:20:07 -0800 (Fri, 22 Feb 2008) | 
 | lamb1 | Linux (SUSE 10.1) / x86_64 | OK | OK |  | 
| wilson2 | Linux (openSUSE 10.3) / x86_64 | OK | OK |  | 
| wellington | Linux (openSUSE 10.3) / i686 | OK | OK |  | 
| liverpool | Windows Server 2003 R2 (32-bit) / x64 | OK | OK | [ OK ] | 
| pelham | Mac OS X Leopard (10.5.1) / i386 | OK | OK | OK | 
installing R.css in E:/biocbld/bbs-2.2-bioc/meat/biocViews.buildbin-libdir
Using auto-selected zip options ' biocViews-HELP=ziponly'
---------- Making package biocViews ------------
  adding build stamp to DESCRIPTION
  installing NAMESPACE file and metadata
  installing R files
  installing inst files
  installing data files
  preparing package biocViews for lazy loading
Loading required package: tools
Loading required package: graph
Loading required package: RBGL
Loading required package: XML
Attaching package: 'XML'
	The following object(s) are masked from package:graph :
	 addNode 
  installing man source files
  installing indices
  not zipping data
  installing help
 >>> Building/Updating help pages for package 'biocViews'
     Formats: text html latex example chm 
  BiocView-class                    text    html    latex           chm
  Htmlized-class                    text    html    latex           chm
  PackageDetail-class               text    html    latex   example chm
  RepositoryDetail-class            text    html    latex           chm
  biocViews-package                 text    html    latex   example chm
  biocViewsVocab                    text    html    latex   example chm
  extractVignettes                  text    html    latex           chm
  genReposControlFiles              text    html    latex           chm
  getBiocSubViews                   text    html    latex   example chm
  getBiocViews                      text    html    latex   example chm
  getPacksAndViews                  text    html    latex           chm
  getSubTerms                       text    html    latex   example chm
  htmlDoc                           text    html    latex           chm
  htmlFilename                      text    html    latex           chm
  htmlValue                         text    html    latex           chm
  writeBiocViews                    text    html    latex           chm
  writeHtmlDoc                      text    html    latex           chm
  writePackageDetailHtml            text    html    latex           chm
  writeRepositoryHtml               text    html    latex           chm
  writeTopLevelView                 text    html    latex           chm
  write_REPOSITORY                  text    html    latex           chm
  write_SYMBOLS                     text    html    latex           chm
  write_VIEWS                       text    html    latex           chm
  zipping help files
Microsoft HTML Help Compiler 4.74.8702
Compiling e:\biocbld\bbs-2.2-bioc\meat\R.INSTALL.2240\biocViews\chm\biocViews.chm
Compile time: 0 minutes, 1 second
24	Topics
115	Local links
0	Internet links
1	Graphic
Created e:\biocbld\bbs-2.2-bioc\meat\R.INSTALL.2240\biocViews\chm\biocViews.chm, 37,622 bytes
Compression decreased file by 45,223 bytes.
  adding MD5 sums
packaged installation of package 'biocViews' as biocViews_1.7.3.zip
* DONE (biocViews)