| pdInfoBuilder 1.3.18 Vince Carey
 
 | Snapshot Date: 2008-04-09 00:13:10 -0700 (Wed, 09 Apr 2008) |  | URL: https://hedgehog.fhcrc.org/bioconductor/trunk/madman/Rpacks/pdInfoBuilder |  | Last Changed Rev: 30606 / Revision: 30951 |  | Last Changed Date: 2008-03-21 01:53:31 -0700 (Fri, 21 Mar 2008) | 
 | lamb1 | Linux (SUSE 10.1) / x86_64 | OK | WARNINGS |  | 
| wilson2 | Linux (openSUSE 10.3) / x86_64 | OK | WARNINGS |  | 
| wellington | Linux (openSUSE 10.3) / i686 | OK | WARNINGS |  | 
| liverpool | Windows Server 2003 R2 (32-bit) / x64 | OK | WARNINGS | OK | 
| pelham | Mac OS X Leopard (10.5.1) / i386 | OK | WARNINGS | [ OK ] | 
                INSTALLATION WITH 'R CMD INSTALL pdInfoBuilder_1.3.18.tar.gz'
* Installing to library 'pdInfoBuilder.buildbin-libdir'
* Installing *source* package 'pdInfoBuilder' ...
** libs
** arch - i386
gcc-4.2 -arch i386 -std=gnu99 -I/Library/Frameworks/R.framework/Resources/include -I/Library/Frameworks/R.framework/Resources/include/i386  -I/usr/local/include    -fPIC  -g -O2 -march=nocona -Wall -c pdInfoBuilder.c -o pdInfoBuilder.o
gcc-4.2 -arch i386 -std=gnu99 -dynamiclib -Wl,-headerpad_max_install_names  -undefined dynamic_lookup -single_module -multiply_defined suppress -L/usr/local/lib -o pdInfoBuilder.so pdInfoBuilder.o   -F/Library/Frameworks/R.framework/.. -framework R -lintl -liconv -lc -Wl,-framework -Wl,CoreFoundation
** arch - ppc
gcc-4.2 -arch ppc -std=gnu99 -I/Library/Frameworks/R.framework/Resources/include -I/Library/Frameworks/R.framework/Resources/include/ppc  -I/usr/local/include    -fPIC  -g -O2 -Wall -c pdInfoBuilder.c -o pdInfoBuilder.o
gcc-4.2 -arch ppc -std=gnu99 -dynamiclib -Wl,-headerpad_max_install_names  -undefined dynamic_lookup -single_module -multiply_defined suppress -L/usr/local/lib -o pdInfoBuilder.so pdInfoBuilder.o   -F/Library/Frameworks/R.framework/.. -framework R -lintl -liconv -lc -Wl,-framework -Wl,CoreFoundation
** arch - x86_64
gcc-4.2 -arch x86_64 -std=gnu99 -I/Library/Frameworks/R.framework/Resources/include -I/Library/Frameworks/R.framework/Resources/include/x86_64  -I/usr/local/include    -fPIC  -g -O2 -Wall -c pdInfoBuilder.c -o pdInfoBuilder.o
gcc-4.2 -arch x86_64 -std=gnu99 -dynamiclib -Wl,-headerpad_max_install_names  -undefined dynamic_lookup -single_module -multiply_defined suppress -L/usr/local/lib -o pdInfoBuilder.so pdInfoBuilder.o   -F/Library/Frameworks/R.framework/.. -framework R -Wl,-framework -Wl,CoreFoundation
** R
** inst
** preparing package for lazy loading
Loading required package: Biobase
Loading required package: tools
Welcome to Bioconductor
  Vignettes contain introductory material. To view, type
  'openVignette()'. To cite Bioconductor, see
  'citation("Biobase")' and for packages 'citation(pkgname)'.
Loading required package: RSQLite
Loading required package: DBI
Loading required package: affxparser
Loading required package: oligo
Loading required package: splines
Loading required package: preprocessCore
Loading required package: AnnotationDbi
Loading required package: oligoClasses
This is the oligo package
** help
Note: unmatched right brace in 'AffyTilingPDInfoPkgSeed-class' on or after line 41
 >>> Building/Updating help pages for package 'pdInfoBuilder'
     Formats: text html latex example 
  AffyExpressionPDInfoPkgSeed-class text    html    latex   example
  AffySNPCNVPDInfoPkgSeed-class     text    html    latex   example
  AffySNPPDInfoPkgSeed-class        text    html    latex   example
  AffyTilingPDInfoPkgSeed-class     text    html    latex   example
  NgsPDInfoPkgSeed-class            text    html    latex   example
  PDInfoPkgSeed-class               text    html    latex   example
  PkgSeed-class                     text    html    latex   example
  chipName                          text    html    latex
  makePdInfoPackage                 text    html    latex   example
** building package indices ...
* DONE (pdInfoBuilder)