flowViz 1.3.4 Florian Hahne
 | Snapshot Date: 2008-04-09 00:13:10 -0700 (Wed, 09 Apr 2008) |  | URL: https://hedgehog.fhcrc.org/bioconductor/trunk/madman/Rpacks/flowViz |  | Last Changed Rev: 30792 / Revision: 30951 |  | Last Changed Date: 2008-04-01 18:50:29 -0700 (Tue, 01 Apr 2008) |  
  | lamb1  | Linux (SUSE 10.1) / x86_64  | [ OK ] |  WARNINGS  |  | 
| wilson2  | Linux (openSUSE 10.3) / x86_64  |  OK  |  WARNINGS  |  | 
| wellington  | Linux (openSUSE 10.3) / i686  |  OK  |  WARNINGS  |  | 
| liverpool  | Windows Server 2003 R2 (32-bit) / x64  |  OK  |  WARNINGS  |  OK  | 
| pelham  | Mac OS X Leopard (10.5.1) / i386  |  OK  |  WARNINGS  |  OK  | 
* checking for file 'flowViz/DESCRIPTION' ... OK
* preparing 'flowViz':
* checking DESCRIPTION meta-information ... OK
* installing the package to re-build vignettes
* Installing *source* package 'flowViz' ...
** R
** inst
** preparing package for lazy loading
Loading required package: flowCore
Loading required package: Biobase
Loading required package: tools
Welcome to Bioconductor
  Vignettes contain introductory material. To view, type
  'openVignette()'. To cite Bioconductor, see
  'citation("Biobase")' and for packages 'citation(pkgname)'.
Loading required package: rrcov
Loading required package: robustbase
Scalable Robust Estimators with High Breakdown Point (version 0.4-05)
Attaching package: 'rrcov'
	The following object(s) are masked from package:stats :
	 biplot,
	 predict,
	 screeplot 
Loading required package: feature
Loading required package: KernSmooth
KernSmooth 2.22 installed
Copyright M. P. Wand 1997
Loading required package: misc3d
Loading required package: rgl
Attaching package: 'flowCore'
	The following object(s) are masked from package:Biobase :
	 description 
	The following object(s) are masked from package:stats :
	 filter 
Loading required package: geneplotter
Loading required package: annotate
Loading required package: AnnotationDbi
Loading required package: DBI
Loading required package: RSQLite
Loading required package: xtable
Loading required package: lattice
Loading required package: MASS
Loading required package: RColorBrewer
Creating a new generic function for "ecdfplot" in "flowViz"
Creating a new generic function for "densityplot" in "flowViz"
Creating a new generic function for "levelplot" in "flowViz"
Creating a new generic function for "qqmath" in "flowViz"
Creating a new generic function for "splom" in "flowViz"
Creating a new generic function for "parallel" in "flowViz"
Creating a new generic function for "xyplot" in "flowViz"
** help
 >>> Building/Updating help pages for package 'flowViz'
     Formats: text html latex example 
  ecdfplot                          text    html    latex   example
  flowPlot                          text    html    latex   example
  flowViz-package                   text    html    latex   example
  latticeMethods-flowSet            text    html    latex   example
  timeLinePlot                      text    html    latex   example
  xyplot                            text    html    latex   example
** building package indices ...
* DONE (flowViz)
* creating vignettes ... OK
* removing junk files
* checking for LF line-endings in source and make files
* checking for empty or unneeded directories
* building 'flowViz_1.3.4.tar.gz'