| Back to the "Multiple platform build/check report" | A B C D E F G H I J K L [M] N O P Q R S T U V W X Y Z | 
| Package 155/264 | Hostname | OS / Arch | BUILD | CHECK | BUILD BIN | ||||
| multtest 1.19.1 Katherine S. Pollard 
 | lamb1 | Linux (SUSE 10.1) / x86_64 | OK | OK | |||||
| wilson2 | Linux (openSUSE 10.3) / x86_64 | OK | OK | ||||||
| wellington | Linux (openSUSE 10.3) / i686 | OK | OK | ||||||
| liverpool | Windows Server 2003 R2 (32-bit) / x64 | [ OK ] | OK | OK | |||||
| pelham | Mac OS X Leopard (10.5.1) / i386 | OK | OK | OK | 
| Package: multtest | 
| Version: 1.19.1 | 
| Command: E:\biocbld\bbs-2.2-bioc\R\bin\R.exe CMD build multtest | 
| StartedAt: 2008-04-09 03:00:51 -0700 (Wed, 09 Apr 2008) | 
| EndedAt: 2008-04-09 03:00:55 -0700 (Wed, 09 Apr 2008) | 
| EllapsedTime: 3.8 seconds | 
| RetCode: 0 | 
| Status: OK | 
| PackageFile: multtest_1.19.1.tar.gz | 
| PackageFileSize: 1.334 MiB | 
* checking for file 'multtest/DESCRIPTION' ... OK * preparing 'multtest': * checking DESCRIPTION meta-information ... OK * cleaning src * removing junk files * checking for LF line-endings in source and make files * checking for empty or unneeded directories * building 'multtest_1.19.1.tar.gz'