preprocessCore 1.1.9 Benjamin Milo Bolstad
 | Snapshot Date: 2008-04-09 00:13:10 -0700 (Wed, 09 Apr 2008) |  | URL: https://hedgehog.fhcrc.org/bioconductor/trunk/madman/Rpacks/preprocessCore |  | Last Changed Rev: 30840 / Revision: 30951 |  | Last Changed Date: 2008-04-03 20:50:09 -0700 (Thu, 03 Apr 2008) |  
  | lamb1  | Linux (SUSE 10.1) / x86_64  |  OK  |  OK  |  | 
| wilson2  | Linux (openSUSE 10.3) / x86_64  |  OK  |  OK  |  | 
| wellington  | Linux (openSUSE 10.3) / i686  |  OK  |  OK  |  | 
| liverpool  | Windows Server 2003 R2 (32-bit) / x64  |  OK  |  OK  |  OK  | 
| pelham  | Mac OS X Leopard (10.5.1) / i386  | [ OK ] |  OK  |  OK  | 
* checking for file 'preprocessCore/DESCRIPTION' ... OK
* preparing 'preprocessCore':
* checking DESCRIPTION meta-information ... OK
* cleaning src
* removing junk files
* checking for LF line-endings in source and make files
* checking for empty or unneeded directories
* building 'preprocessCore_1.1.9.tar.gz'