| stepNorm 1.11.1 Yuanyuan Xiao
 
 | Snapshot Date: 2008-04-09 00:13:10 -0700 (Wed, 09 Apr 2008) |  | URL: https://hedgehog.fhcrc.org/bioconductor/trunk/madman/Rpacks/stepNorm |  | Last Changed Rev: 30535 / Revision: 30951 |  | Last Changed Date: 2008-03-15 22:32:48 -0700 (Sat, 15 Mar 2008) | 
 | lamb1 | Linux (SUSE 10.1) / x86_64 | OK | OK |  | 
| wilson2 | Linux (openSUSE 10.3) / x86_64 | OK | OK |  | 
| wellington | Linux (openSUSE 10.3) / i686 | OK | OK |  | 
| liverpool | Windows Server 2003 R2 (32-bit) / x64 | OK | OK | [ OK ] | 
| pelham | Mac OS X Leopard (10.5.1) / i386 | OK | OK | OK | 
installing R.css in E:/biocbld/bbs-2.2-bioc/meat/stepNorm.buildbin-libdir
Using auto-selected zip options ''
---------- Making package stepNorm ------------
  adding build stamp to DESCRIPTION
  installing R files
  installing inst files
  installing man source files
  installing indices
  installing help
 >>> Building/Updating help pages for package 'stepNorm'
     Formats: text html latex example chm 
  calcAIC                           text    html    latex   example chm
  calcBIC                           text    html    latex   example chm
  fit2DWithin                       text    html    latex   example chm
  fitWithin                         text    html    latex   example chm
  maCompPlate2                      text    html    latex   example chm
  makeStepList                      text    html    latex   example chm
  marrayFitClass                    text    html    latex   example chm
  seqWithinNorm                     text    html    latex   example chm
  stepNorm-internal                 text    html    latex           chm
  stepWithinNorm                    text    html    latex   example chm
  withinNorm                        text    html    latex   example chm
Microsoft HTML Help Compiler 4.74.8702
Compiling e:\biocbld\bbs-2.2-bioc\meat\R.INSTALL.1416\stepNorm\chm\stepNorm.chm
Compile time: 0 minutes, 0 seconds
12	Topics
71	Local links
0	Internet links
1	Graphic
Created e:\biocbld\bbs-2.2-bioc\meat\R.INSTALL.1416\stepNorm\chm\stepNorm.chm, 40,419 bytes
Compression decreased file by 40,688 bytes.
  adding MD5 sums
packaged installation of package 'stepNorm' as stepNorm_1.11.1.zip
* DONE (stepNorm)