| SMAP 1.3.0 Robin Andersson
 
 | Snapshot Date: 2008-04-09 00:13:10 -0700 (Wed, 09 Apr 2008) |  | URL: https://hedgehog.fhcrc.org/bioconductor/trunk/madman/Rpacks/SMAP |  | Last Changed Rev: 27716 / Revision: 30951 |  | Last Changed Date: 2007-10-02 18:16:39 -0700 (Tue, 02 Oct 2007) | 
 | lamb1 | Linux (SUSE 10.1) / x86_64 | OK | OK |  | 
| wilson2 | Linux (openSUSE 10.3) / x86_64 | OK | OK |  | 
| wellington | Linux (openSUSE 10.3) / i686 | OK | OK |  | 
| liverpool | Windows Server 2003 R2 (32-bit) / x64 | [ OK ] | OK | OK | 
| pelham | Mac OS X Leopard (10.5.1) / i386 | OK | OK | OK | 
* checking for file 'SMAP/DESCRIPTION' ... OK
* preparing 'SMAP':
* checking DESCRIPTION meta-information ... OK
* cleaning src
* installing the package to re-build vignettes
installing R.css in E:/biocbld/bbs-2.2-bioc/tmpdir/Rinst224497399
---------- Making package SMAP ------------
  adding build stamp to DESCRIPTION
  installing NAMESPACE file and metadata
  making DLL ...
making gradient.d from gradient.c
making init.d from init.c
making overlap.d from overlap.c
making prob.d from prob.c
making viterbi.d from viterbi.c
gcc  -std=gnu99  -Ie:/biocbld/bbs-2.2-bioc/R/include     -O3 -Wall  -c gradient.c -o gradient.o
gradient.c: In function 'hmm_update':
gradient.c:247: warning: unused variable 'tmp'
gcc  -std=gnu99  -Ie:/biocbld/bbs-2.2-bioc/R/include     -O3 -Wall  -c init.c -o init.o
gcc  -std=gnu99  -Ie:/biocbld/bbs-2.2-bioc/R/include     -O3 -Wall  -c overlap.c -o overlap.o
gcc  -std=gnu99  -Ie:/biocbld/bbs-2.2-bioc/R/include     -O3 -Wall  -c prob.c -o prob.o
gcc  -std=gnu99  -Ie:/biocbld/bbs-2.2-bioc/R/include     -O3 -Wall  -c viterbi.c -o viterbi.o
windres --preprocessor="gcc -E -xc -DRC_INVOKED" -I e:/biocbld/bbs-2.2-bioc/R/include  -i SMAP_res.rc -o SMAP_res.o
gcc  -std=gnu99  -shared -s  -o SMAP.dll SMAP.def gradient.o init.o overlap.o prob.o viterbi.o SMAP_res.o  -Le:/biocbld/bbs-2.2-bioc/R/bin    -lR
  ... DLL made
  installing DLL
  installing R files
  installing inst files
  installing data files
  preparing package SMAP for lazy loading
Creating a new generic function for "plot" in "SMAP"
  installing man source files
  installing indices
  not zipping data
  installing help
 >>> Building/Updating help pages for package 'SMAP'
     Formats: text html latex example chm 
  GBM                               text    html    latex   example chm
  SMAP-internal                     text    html    latex           chm
  SMAPHMM-class                     text    html    latex           chm
  SMAPHMM                           text    html    latex           chm
  SMAPObservations-class            text    html    latex           chm
  SMAPObservations                  text    html    latex   example chm
  SMAPProfile-class                 text    html    latex           chm
  SMAPProfiles-class                text    html    latex           chm
  smap                              text    html    latex   example chm
Microsoft HTML Help Compiler 4.74.8702
Compiling e:\biocbld\bbs-2.2-bioc\meat\SMAP\chm\SMAP.chm
Compile time: 0 minutes, 1 second
10	Topics
66	Local links
0	Internet links
1	Graphic
Created e:\biocbld\bbs-2.2-bioc\meat\SMAP\chm\SMAP.chm, 28,899 bytes
Compression decreased file by 23,569 bytes.
  adding MD5 sums
* DONE (SMAP)
* creating vignettes ... OK
* cleaning src
* removing junk files
* checking for LF line-endings in source and make files
* checking for empty or unneeded directories
* building 'SMAP_1.3.0.tar.gz'