DynDoc 1.17.0 Biocore Team c/o BioC user list
 | Snapshot Date: 2008-04-09 00:13:10 -0700 (Wed, 09 Apr 2008) |  | URL: https://hedgehog.fhcrc.org/bioconductor/trunk/madman/Rpacks/DynDoc |  | Last Changed Rev: 29752 / Revision: 30951 |  | Last Changed Date: 2008-01-30 09:55:56 -0800 (Wed, 30 Jan 2008) |  
  | lamb1  | Linux (SUSE 10.1) / x86_64  |  OK  |  OK  |  | 
| wilson2  | Linux (openSUSE 10.3) / x86_64  |  OK  | [ OK ] |  | 
| wellington  | Linux (openSUSE 10.3) / i686  |  OK  |  OK  |  | 
| liverpool  | Windows Server 2003 R2 (32-bit) / x64  |  OK  |  OK  |  OK  | 
| pelham  | Mac OS X Leopard (10.5.1) / i386  |  OK  |  OK  |  OK  | 
* checking for working pdflatex ... OK
* using log directory '/loc/home/biocbuild/bbs-2.2-bioc/meat/DynDoc.Rcheck'
* using R version 2.7.0 beta (2008-04-07 r45159)
* using session charset: ISO8859-1
* checking for file 'DynDoc/DESCRIPTION' ... OK
* this is package 'DynDoc' version '1.17.0'
* checking package name space information ... OK
* checking package dependencies ... OK
* checking if this is a source package ... OK
* checking whether package 'DynDoc' can be installed ... OK
* checking package directory ... OK
* checking for portable file names ... OK
* checking for sufficient/correct file permissions ... OK
* checking DESCRIPTION meta-information ... OK
* checking top-level files ... OK
* checking index information ... OK
* checking package subdirectories ... OK
* checking R files for non-ASCII characters ... OK
* checking R files for syntax errors ... OK
* checking whether the package can be loaded ... OK
* checking whether the package can be loaded with stated dependencies ... OK
* checking whether the name space can be loaded with stated dependencies ... OK
* checking for unstated dependencies in R code ... OK
* checking S3 generic/method consistency ... OK
* checking replacement functions ... OK
* checking foreign function calls ... OK
* checking R code for possible problems ... NOTE
editVignetteCode : copyEnv: no visible global function definition for
  'l2e'
getVignette: no visible global function definition for
  'buildVersionNumber'
* checking Rd files ... OK
* checking Rd cross-references ... OK
* checking for missing documentation entries ... OK
* checking for code/documentation mismatches ... OK
* checking Rd \usage sections ... OK
* creating DynDoc-Ex.R ... OK
* checking examples ... OK
* creating DynDoc-manual.tex ... OK
* checking DynDoc-manual.tex using pdflatex ... OK
 
* Installing *source* package 'DynDoc' ...
** R
** preparing package for lazy loading
Creating a new generic function for "summary" in "DynDoc"
** help
 >>> Building/Updating help pages for package 'DynDoc'
     Formats: text html latex example 
  DynDoc-class                      text    html    latex
  SweaveOptions-class               text    html    latex
  Vignette-class                    text    html    latex
  chunkList-class                   text    html    latex   example
  codeChunk-class                   text    html    latex   example
  getPkgVigList                     text    html    latex   example
  getVignette                       text    html    latex
  getVignetteCode                   text    html    latex
  getVignetteHeader                 text    html    latex
  tangleToR                         text    html    latex   example
  vignetteCode-class                text    html    latex
** building package indices ...
* DONE (DynDoc)