This page was generated on 2020-10-17 12:00:00 -0400 (Sat, 17 Oct 2020).
| malbec2 | 
Linux (Ubuntu 18.04.4 LTS) / x86_64  |  |  |  |  |  | 
| tokay2 | 
Windows Server 2012 R2 Standard / x64  |  |  |  |  |  | 
| [machv2] | 
macOS 10.14.6 Mojave / x86_64  |  |  |  |  |  | 
 | 
 | 
 |  | 
| a4 1.36.0 | Tobias Verbeke |  OK  |  OK  |  WARNINGS  |  OK  |   | 
| a4Base 1.36.0 | Tobias Verbeke |  OK  |  OK  |  WARNINGS  |  OK  |   | 
| a4Classif 1.36.0 | Tobias Verbeke |  OK  |  OK  |  OK  |  OK  |   | 
| a4Core 1.36.0 | Tobias Verbeke |  OK  |  OK  |  OK  |  OK  |   | 
| a4Preproc 1.36.0 | Tobias Verbeke |  OK  |  OK  |  OK  |  OK  |   | 
| a4Reporting 1.36.0 | Tobias Verbeke |  OK  |  OK  |  WARNINGS  |  OK  |   | 
| ABAEnrichment 1.18.0 | Steffi Grote |  OK  |  OK  |  OK  |  OK  |   | 
| ABarray 1.56.0 | Yongming Andrew Sun |  OK  |  OK  |  OK  |  OK  |   | 
| abseqR 1.6.0 | JiaHong Fong |  OK  |  OK  |  OK  |  OK  |   | 
| ABSSeq 1.42.0 | Wentao Yang |  OK  |  OK  |  OK  |  OK  |   | 
| acde 1.18.0 | Juan Pablo Acosta |  OK  |  OK  |  OK  |  OK  |   | 
| ACE 1.6.0 | Jos B Poell |  OK  |  OK  |  OK  |  OK  |   | 
| aCGH 1.66.0 | Peter Dimitrov |  OK  |  OK  |  OK  |  OK  |   | 
| ACME 2.44.0 | Sean Davis |  OK  |  OK  |  OK  |  OK  |   | 
| ADaCGH2 2.28.1 | Ramon Diaz-Uriarte |  OK  |  OK  |  OK  |  OK  |   | 
| ADAM 1.4.0 | Jose Luiz Rybarczyk Filho |  OK  |  OK  |  OK  |  OK  |   | 
| ADAMgui 1.4.0 | Jose Luiz Rybarczyk Filho |  OK  |  OK  |  OK  |  OK  |   | 
| adaptest 1.8.0 | Weixin Cai |  OK  |  OK  |  ERROR  |  OK  |  | 
| adductomicsR 1.4.0 | Josie Hayes |  OK  |  OK  |  WARNINGS  |  OK  |   | 
| adSplit 1.58.0 | Claudio Lottaz |  OK  |  OK  |  WARNINGS  |  OK  |   | 
| AffiXcan 1.6.0 | Alessandro Lussana |  OK  |  OK  |  OK  |  OK  |   | 
| affxparser 1.60.0 | Kasper Daniel Hansen |  OK  |  OK  |  WARNINGS  |  OK  |   | 
| affy 1.66.0 | Rafael A. Irizarry |  OK  |  OK  |  WARNINGS  |  OK  |   | 
| affycomp 1.64.0 | Rafael A. Irizarry |  OK  |  OK  |  OK  |  OK  |   | 
| AffyCompatible 1.48.0 | Martin Morgan |  OK  |  OK  |  OK  |  OK  |   | 
| affyContam 1.46.0 | V. Carey |  OK  |  OK  |  OK  |  OK  |   | 
| affycoretools 1.60.1 | James W. MacDonald |  OK  |  OK  |  OK  |  OK  |   | 
| AffyExpress 1.54.0 | Xuejun Arthur Li |  OK  |  OK  |  OK  |  OK  |   | 
| affyILM 1.40.0 | Myriam Kroll and Fabrice Berger |  OK  |  OK  |  OK  |  OK  |   | 
| affyio 1.58.0 | Ben Bolstad |  OK  |  OK  |  OK  |  OK  |   | 
| affylmGUI 1.62.0 | Gordon Smyth |  OK  |  OK  |  OK  |  OK  |   | 
| affyPara 1.48.0 | Markus Schmidberger |  OK  |  OK  |  OK  |  OK  |   | 
affypdnn 1.62.0 | Laurent Gautier |  OK  |  OK  |  ERROR  |  OK  |  | 
| affyPLM 1.64.0 | Ben Bolstad |  OK  |  OK  |  OK  |  OK  |   | 
| affyQCReport 1.66.0 | Craig Parman |  OK  |  OK  |  OK  |  OK  |   | 
| AffyRNADegradation 1.34.0 | Mario Fasold |  OK  |  OK  |  OK  |  OK  |   | 
| AGDEX 1.36.0 | Cuilan lani Gao |  OK  |  OK  |  OK  |  OK  |   | 
| agilp 3.20.0 | Benny Chain |  OK  |  OK  |  OK  |  OK  |   | 
| AgiMicroRna 2.38.0 | Pedro Lopez-Romero |  OK  |  OK  |  OK  |  OK  |   | 
| AIMS 1.20.0 | Eric R Paquet |  OK  |  OK  |  OK  |  OK  |   | 
| ALDEx2 1.20.0 | Greg Gloor |  OK  |  OK  |  OK  |  OK  |   | 
| alevinQC 1.4.0 | Charlotte Soneson |  OK  |  OK  |  OK  |  OK  |   | 
| AllelicImbalance 1.26.0 | Jesper R Gadin |  OK  |  OK  |  OK  |  OK  |   | 
| AlphaBeta 1.2.3 | Yadollah Shahryary Dizaji |  OK  |  OK  |  OK  |  OK  |   | 
| alpine 1.14.0 | Michael Love |  OK  |  OK  |  OK  |  OK  |   | 
| ALPS 1.2.0 | Venu Thatikonda |  OK  |  OK  |  OK  |  OK  |   | 
| alsace 1.24.0 | Ron Wehrens |  OK  |  OK  |  OK  |  OK  |   | 
| altcdfenvs 2.50.0 | Laurent Gautier |  OK  |  OK  |  OK  |  OK  |   | 
| AMARETTO 1.4.0 | Olivier Gevaert |  OK  |  OK  |  OK  |  OK  |   | 
| AMOUNTAIN 1.14.0 | Dong Li |  OK  |  OK  |  OK  |  OK  |   | 
| amplican 1.10.1 | Eivind Valen |  OK  |  OK  |  OK  |  OK  |   | 
AnalysisPageServer 1.22.0 | Brad Friedman |  OK  |  OK  |  ERROR  |  OK  |  | 
anamiR 1.16.0 | Ti-Tai Wang |  OK  |  ERROR  |  skipped  |  skipped  |  | 
| Anaquin 2.12.0 | Ted Wong |  OK  |  OK  |  OK  |  OK  |   | 
| AneuFinder 1.16.0 | Aaron Taudt |  OK  |  OK  |  OK  |  OK  |   | 
| ANF 1.10.0 | Tianle Ma |  OK  |  OK  |  OK  |  OK  |   | 
| animalcules 1.4.0 | Yue Zhao |  OK  |  OK  |  OK  |  OK  |   | 
| annaffy 1.60.0 | Colin A. Smith |  OK  |  OK  |  WARNINGS  |  OK  |   | 
| annmap 1.30.0 | Chris Wirth |  OK  |  OK  |  WARNINGS  |  OK  |   | 
| annotate 1.66.0 | Bioconductor Package Maintainer |  OK  |  OK  |  ERROR  |  OK  |  | 
| AnnotationDbi 1.50.3 | Bioconductor Package Maintainer |  OK  |  OK  |  OK  |  OK  |   | 
| AnnotationFilter 1.12.0 | Bioconductor Package Maintainer |  OK  |  OK  |  OK  |  OK  |   | 
| AnnotationForge 1.30.1 | Bioconductor Package Maintainer |  OK  |  OK  |  OK  |  OK  |   | 
| AnnotationFuncs 1.38.0 | Stefan McKinnon Edwards |  OK  |  OK  |  OK  |  OK  |   | 
| AnnotationHub 2.20.2 | Bioconductor Package Maintainer |  OK  |  OK  |  WARNINGS  |  OK  |   | 
| AnnotationHubData 1.18.1 | Bioconductor Package Maintainer |  OK  |  OK  |  WARNINGS  |  OK  |   | 
| annotationTools 1.62.0 | Alexandre Kuhn |  OK  |  OK  |  OK  |  OK  |   | 
| annotatr 1.14.0 | Raymond G. Cavalcante |  OK  |  OK  |  OK  |  OK  |   | 
| anota 1.36.0 | Ola Larsson |  OK  |  OK  |  OK  |  OK  |   | 
| anota2seq 1.10.0 | Christian Oertlin , Julie Lorent |  OK  |  OK  |  OK  |  OK  |   | 
| antiProfiles 1.28.0 | Hector Corrada Bravo |  OK  |  OK  |  OK  |  OK  |   | 
| AnVIL 1.0.3 | Martin Morgan |  OK  |  OK  |  OK  |  OK  |   | 
| APAlyzer 1.2.0 | Ruijia Wang |  OK  |  OK  |  OK  |  OK  |   | 
| apComplex 2.54.0 | Denise Scholtens |  OK  |  OK  |  OK  |  OK  |   | 
| apeglm 1.10.0 | Anqi Zhu |  OK  |  OK  |  OK  |  OK  |   | 
| appreci8R 1.6.0 | Sarah Sandmann |  OK  |  OK  |  OK  |  OK  |   | 
| aroma.light 3.18.0 | Henrik Bengtsson |  OK  |  OK  |  OK  |  OK  |   | 
| ArrayExpress 1.48.0 | Suhaib Mohammed |  OK  |  OK  |  OK  |  OK  |   | 
| ArrayExpressHTS 1.38.0 | Angela Goncalves , Andrew Tikhonov |  OK  |  OK  |  OK  |  OK  |   | 
| arrayMvout 1.46.0 | V. Carey |  OK  |  OK  |  OK  |  OK  |   | 
| arrayQuality 1.66.0 | Agnes Paquet |  OK  |  OK  |  WARNINGS  |  OK  |   | 
| arrayQualityMetrics 3.44.0 | Mike Smith |  OK  |  OK  |  OK  |  OK  |   | 
| ArrayTools 1.48.0 | Arthur Li |  OK  |  OK  |  OK  |  OK  |   | 
| ArrayTV 1.26.0 | Eitan Halper-Stromberg |  OK  |  ERROR  |  skipped  |  skipped  |  | 
| ARRmNormalization 1.28.0 | Jean-Philippe Fortin |  OK  |  OK  |  OK  |  OK  |   | 
| artMS 1.6.5 | David Jimenez-Morales |  OK  |  OK  |  OK  |  OK  |   | 
| ASAFE 1.14.0 | Qian Zhang |  OK  |  OK  |  OK  |  OK  |   | 
| ASEB 1.32.0 | Likun Wang |  OK  |  OK  |  OK  |  OK  |   | 
| ASGSCA 1.22.0 | Hela Romdhani |  OK  |  OK  |  OK  |  OK  |   | 
| ASICS 2.4.3 | Gaëlle Lefort |  OK  |  OK  |  WARNINGS  |  OK  |   | 
| ASpediaFI 1.2.0 | Doyeong Yu |  OK  |  OK  |  OK  |  OK  |   | 
| ASpli 1.14.0 | Estefania Mancini |  OK  |  OK  |  OK  |  OK  |   | 
| AssessORF 1.6.0 | Deepank Korandla |  OK  |  OK  |  OK  |  OK  |   | 
| ASSET 2.6.0 | Samsiddhi Bhattacharjee |  OK  |  OK  |  WARNINGS  |  OK  |   | 
| ASSIGN 1.24.0 | Ying Shen , W. Evan Johnson |  OK  |  OK  |  OK  |  OK  |   | 
| ATACseqQC 1.12.5 | Jianhong Ou |  OK  |  OK  |  OK  |  OK  |   | 
| atSNP 1.4.0 | Sunyoung Shin |  OK  |  OK  |  OK  |  OK  |   | 
| attract 1.40.0 | Samuel Zimmerman |  OK  |  OK  |  OK  |  OK  |   | 
| AUCell 1.10.0 | Sara Aibar |  OK  |  OK  |  OK  |  OK  |   | 
| Autotuner 1.2.0 | Craig McLean |  OK  |  OK  |  OK  |  OK  |   | 
| AWFisher 1.2.0 | Zhiguang Huo |  OK  |  OK  |  OK  |  OK  |   | 
 | 
 |  | 
| BaalChIP 1.14.0 | Ines de Santiago |  OK  |  OK  |  WARNINGS  |  OK  |   | 
| BAC 1.48.0 | Raphael Gottardo |  OK  |  OK  |  OK  |  OK  |   | 
| bacon 1.16.0 | Maarten van Iterson |  OK  |  OK  |  OK  |  OK  |   | 
| BADER 1.26.0 | Andreas Neudecker |  OK  |  OK  |  OK  |  OK  |   | 
| BadRegionFinder 1.16.0 | Sarah Sandmann |  OK  |  OK  |  OK  |  OK  |   | 
| BAGS 2.28.0 | Alejandro Quiroz-Zarate |  OK  |  OK  |  OK  |  OK  |   | 
| ballgown 2.20.0 | Jack Fu |  OK  |  OK  |  OK  |  OK  |   | 
| bamsignals 1.20.0 | Johannes Helmuth |  OK  |  OK  |  OK  |  OK  |   | 
| BANDITS 1.4.1 | Simone Tiberi |  OK  |  OK  |  OK  |  OK  |   | 
| banocc 1.12.0 | George Weingart |  OK  |  OK  |  OK  |  OK  |   | 
| basecallQC 1.12.0 | Thomas Carroll |  OK  |  OK  |  OK  |  OK  |   | 
| BaseSpaceR 1.32.0 | Jared O'Connell |  OK  |  OK  |  OK  |  OK  |   | 
| Basic4Cseq 1.24.0 | Carolin Walter |  OK  |  OK  |  OK  |  OK  |   | 
| BASiCS 2.0.0 | Catalina Vallejos |  OK  |  OK  |  OK  |  OK  |   | 
| BasicSTARRseq 1.16.0 | Annika Buerger |  OK  |  OK  |  OK  |  OK  |   | 
| basilisk 1.0.2 | Aaron Lun |  OK  |  OK  |  OK  |  OK  |   | 
| basilisk.utils 1.0.4 | Aaron Lun |  OK  |  OK  |  OK  |  OK  |   | 
| batchelor 1.4.0 | Aaron Lun |  OK  |  OK  |  OK  |  OK  |   | 
| BatchQC 1.16.3 | Solaiappan Manimaran |  OK  |  OK  |  OK  |  OK  |   | 
| BayesKnockdown 1.14.0 | William Chad Young |  OK  |  OK  |  OK  |  OK  |   | 
BayesPeak 1.40.0 | Jonathan Cairns |  OK  |  ERROR  |  skipped  |  skipped  |  | 
| bayNorm 1.6.0 | Wenhao Tang |  OK  |  OK  |  OK  |  OK  |   | 
| baySeq 2.22.0 | Thomas J. Hardcastle |  OK  |  OK  |  OK  |  OK  |   | 
| BBCAnalyzer 1.18.0 | Sarah Sandmann |  OK  |  OK  |  OK  |  OK  |   | 
| BCRANK 1.50.0 | Adam Ameur |  OK  |  OK  |  OK  |  OK  |   | 
| bcSeq 1.10.0 | Jiaxing Lin |  OK  |  OK  |  OK  |  OK  |   | 
| BDMMAcorrect 1.6.0 | ZHENWEI DAI |  OK  |  OK  |  OK  |  OK  |   | 
| beachmat 2.4.0 | Aaron Lun |  OK  |  OK  |  OK  |  OK  |   | 
| beadarray 2.38.0 | Mark Dunning |  OK  |  OK  |  OK  |  OK  |   | 
| beadarraySNP 1.54.0 | Jan Oosting |  OK  |  OK  |  OK  |  OK  |   | 
| BeadDataPackR 1.40.0 | Mike Smith |  OK  |  OK  |  OK  |  OK  |   | 
| BEARscc 1.8.1 | Benjamin Schuster-Boeckler |  OK  |  OK  |  OK  |  OK  |   | 
| BEAT 1.26.0 | Kemal Akman |  OK  |  OK  |  OK  |  OK  |   | 
| BEclear 2.4.0 | David Rasp |  OK  |  OK  |  WARNINGS  |  OK  |   | 
bgafun 1.50.0 | Iain Wallace |  OK  |  ERROR  |  skipped  |  skipped  |  | 
| BgeeCall 1.4.1 | Julien Wollbrett |  OK  |  OK  |  OK  |  OK  |   | 
| BgeeDB 2.14.5 | Julien Wollbrett , Julien Roux , Andrea Komljenovic  , Frederic Bastian |  OK  |  OK  |  OK  |  OK  |   | 
| BGmix 1.48.0 | Alex Lewin |  OK  |  OK  |  OK  |  OK  |   | 
| bgx 1.54.1 | Ernest Turro |  OK  |  OK  |  WARNINGS  |  OK  |   | 
| BHC 1.40.0 | Rich Savage |  OK  |  OK  |  OK  |  OK  |   | 
| BicARE 1.46.0 | Pierre Gestraud |  OK  |  OK  |  OK  |  OK  |   | 
| BiFET 1.8.0 | Ahrim Youn |  OK  |  OK  |  OK  |  OK  |   | 
| BiGGR  |  | ...NOT SUPPORTED... | 
| bigmelon 1.14.0 | Tyler J. Gorrie-Stone |  OK  |  OK  |  OK  |  OK  |   | 
| bigmemoryExtras 1.36.0 | Peter M. Haverty |  OK  |  OK  |  WARNINGS  |  OK  |   | 
| bigPint 1.4.0 | Lindsay Rutter |  OK  |  OK  |  OK  |  OK  |   | 
| bioassayR 1.26.0 | Tyler Backman |  OK  |  OK  |  OK  |  OK  |   | 
| Biobase 2.48.0 | Bioconductor Package Maintainer |  OK  |  OK  |  OK  |  OK  |   | 
| biobroom 1.20.0 | John D. Storey  and Andrew J. Bass |  OK  |  OK  |  OK  |  OK  |   | 
| biobtreeR 1.0.0 | Tamer Gur |  OK  |  OK  |  OK  |  OK  |   | 
| bioCancer 1.16.0 | Karim Mezhoud |  OK  |  OK  |  WARNINGS  |  OK  |   | 
| BiocCaseStudies 1.50.0 | Bioconductor Package Maintainer |  OK  |  OK  |  OK  |  OK  |   | 
| BiocCheck 1.24.0 | Bioconductor Package Maintainer |  OK  |  OK  |  OK  |  OK  |   | 
| BiocDockerManager 1.0.1 | Maintainer |  OK  |  OK  |  OK  |  OK  |   | 
| BiocFileCache 1.12.1 | Lori Shepherd |  OK  |  OK  |  OK  |  OK  |   | 
| BiocGenerics 0.34.0 | Bioconductor Package Maintainer |  OK  |  OK  |  WARNINGS  |  OK  |   | 
| biocGraph 1.50.0 | Florian Hahne |  OK  |  OK  |  OK  |  OK  |   | 
| BiocNeighbors 1.6.0 | Aaron Lun |  OK  |  OK  |  OK  |  OK  |   | 
| BiocOncoTK 1.8.0 | VJ Carey |  OK  |  OK  |  OK  |  OK  |   | 
| BioCor 1.12.0 | Lluís Revilla Sancho |  OK  |  OK  |  OK  |  OK  |   | 
| BiocParallel 1.22.0 | Bioconductor Package Maintainer |  OK  |  OK  |  WARNINGS  |  OK  |   | 
| BiocPkgTools 1.6.0 | Sean Davis |  OK  |  OK  |  OK  |  OK  |   | 
| BiocSet 1.2.2 | Kayla Morrell |  OK  |  OK  |  OK  |  OK  |   | 
| BiocSingular 1.4.0 | Aaron Lun |  OK  |  OK  |  OK  |  OK  |   | 
| BiocSklearn 1.10.3 | VJ Carey |  OK  |  OK  |  OK  |  OK  |   | 
| BiocStyle 2.16.1 | Bioconductor Package Maintainer |  OK  |  OK  |  OK  |  OK  |   | 
| BiocVersion 3.11.1 | Bioconductor Package Maintainer |  OK  |  OK  |  OK  |  OK  |   | 
| biocViews 1.56.2 | Bioconductor Package Maintainer |  OK  |  OK  |  OK  |  OK  |   | 
| BiocWorkflowTools 1.14.0 | Mike Smith |  OK  |  OK  |  OK  |  OK  |   | 
| bioDist 1.60.0 | Bioconductor Package Maintainer |  OK  |  OK  |  OK  |  OK  |   | 
| biomaRt 2.44.4 | Mike Smith |  OK  |  OK  |  OK  |  OK  |   | 
| biomformat 1.16.0 | Paul J. McMurdie |  OK  |  OK  |  WARNINGS  |  OK  |   | 
| BioMM 1.4.0 | Junfang Chen |  OK  |  OK  |  OK  |  OK  |   | 
| BioMVCClass 1.56.0 | Elizabeth Whalen |  OK  |  OK  |  OK  |  OK  |   | 
| biomvRCNS 1.28.0 | Yang Du |  OK  |  OK  |  OK  |  OK  |   | 
| BioNet 1.48.0 | Marcus Dittrich |  OK  |  ERROR  |  skipped  |  skipped  |  | 
| BioNetStat 1.8.4 | Vinicius Jardim |  OK  |  OK  |  OK  |  OK  |   | 
| BioQC 1.16.0 | Jitao David Zhang |  OK  |  OK  |  OK  |  OK  |   | 
| BioSeqClass 1.46.0 | Li Hong |  OK  |  ERROR  |  skipped  |  skipped  |  | 
| biosigner 1.16.0 | Philippe Rinaudo , Etienne Thevenot |  OK  |  OK  |  WARNINGS  |  OK  |   | 
| Biostrings 2.56.0 | H. Pagès |  OK  |  OK  |  WARNINGS  |  OK  |   | 
biosvd 2.24.0 | Anneleen Daemen , Matthew Brauer |  OK  |  OK  |  ERROR  |  OK  |  | 
| BioTIP 1.2.0 | Zhezhen Wang , X Holly Yang < xyang2@uchicago> and  Yuxi (Jennifer) Sun |  OK  |  OK  |  WARNINGS  |  OK  |   | 
| biotmle 1.12.0 | Nima Hejazi |  OK  |  OK  |  OK  |  OK  |   | 
| biovizBase 1.36.0 | Michael Lawrence |  OK  |  OK  |  WARNINGS  |  OK  |   | 
| BiRewire 3.20.0 | Andrea Gobbi |  OK  |  OK  |  OK  |  OK  |   | 
birta 1.32.0 | Benedikt Zacher |  OK  |  OK  |  ERROR  |  OK  |  | 
| biscuiteer 1.2.0 | "Jacob Morrison" |  OK  |  OK  |  WARNINGS  |  OK  |   | 
| BiSeq 1.28.0 | Katja Hebestreit |  OK  |  OK  |  OK  |  OK  |   | 
| BitSeq 1.32.0 | Antti Honkela , Panagiotis Papastamoulis |  OK  |  OK  |  WARNINGS  |  OK  |   | 
| blacksheepr 1.2.0 | RugglesLab |  OK  |  OK  |  OK  |  OK  |   | 
| blima 1.22.0 | Vojtěch Kulvait |  OK  |  OK  |  WARNINGS  |  OK  |   | 
| BLMA 1.12.0 | Tin Nguyen |  OK  |  OK  |  OK  |  OK  |   | 
| bnbc 1.10.0 | Kipper Fletez-Brant |  OK  |  OK  |  OK  |  OK  |   | 
| BPRMeth 1.14.1 | Chantriolnt-Andreas Kapourani |  OK  |  OK  |  OK  |  OK  |   | 
| BRAIN 1.34.0 | Piotr Dittwald |  OK  |  OK  |  WARNINGS  |  OK  |   | 
| brainflowprobes 1.2.0 | Amanda Price |  OK  |  OK  |  OK  |  OK  |   | 
| BrainStars 1.32.0 | Itoshi NIKAIDO |  OK  |  ERROR  |  skipped  |  skipped  |  | 
| branchpointer 1.14.0 | Beth Signal |  OK  |  OK  |  OK  |  OK  |   | 
| breakpointR 1.6.0 | David Porubsky |  OK  |  OK  |  OK  |  OK  |   | 
| brendaDb 1.2.0 | Yi Zhou |  OK  |  OK  |  ERROR  |  OK  |  | 
| BRGenomics 1.0.3 | Mike DeBerardine |  OK  |  OK  |  OK  |  OK  |   | 
| bridge 1.52.0 | Raphael Gottardo |  OK  |  OK  |  OK  |  OK  |   | 
| BridgeDbR 1.22.0 | Egon Willighagen |  OK  |  OK  |  OK  |  OK  |   | 
| BrowserViz 2.10.0 | Paul Shannon |  OK  |  OK  |  OK  |  OK  |   | 
| BSgenome 1.56.0 | H. Pagès |  OK  |  OK  |  WARNINGS  |  OK  |   | 
| bsseq 1.24.4 | Kasper Daniel Hansen |  OK  |  OK  |  OK  |  OK  |   | 
| BubbleTree 2.18.0 | Todd Creasy , Wei Zhu |  OK  |  OK  |  OK  |  OK  |   | 
| BufferedMatrix 1.52.0 | Ben Bolstad |  OK  |  OK  |  OK  |  OK  |   | 
| BufferedMatrixMethods 1.52.0 | Ben Bolstad |  OK  |  OK  |  OK  |  OK  |   | 
| BUMHMM 1.12.0 | Alina Selega |  OK  |  OK  |  OK  |  OK  |   | 
| bumphunter 1.30.0 | Rafael A. Irizarry |  OK  |  OK  |  OK  |  OK  |   | 
| BUS 1.44.0 | Yuanhua Liu |  OK  |  OK  |  OK  |  OK  |   | 
| BUScorrect 1.6.0 | Xiangyu Luo |  OK  |  OK  |  OK  |  OK  |   | 
| BUSpaRse 1.2.2 | Lambda Moses |  OK  |  OK  |  OK  |  OK  |   | 
 | 
 |  | 
| CAFE 1.24.0 | Sander Bollen |  OK  |  OK  |  WARNINGS  |  OK  |   | 
| CAGEfightR 1.8.0 | Malte Thodberg |  OK  |  OK  |  OK  |  OK  |   | 
| CAGEr 1.30.3 | Vanja Haberle , Charles Plessy , Damir Baranasic , Sarvesh Nikumbh |  OK  |  OK  |  OK  |  OK  |   | 
CALIB 1.54.0 | Hui Zhao |  OK  |  OK  |  ERROR  |  OK  |  | 
| calm 1.2.0 | Kun Liang |  OK  |  OK  |  OK  |  OK  |   | 
| CAMERA 1.44.0 | Steffen Neumann |  OK  |  OK  |  WARNINGS  |  OK  |   | 
CAMTHC 1.6.0 | Lulu Chen |  OK  |  OK  |  WARNINGS  |  OK  |   | 
| canceR 1.22.01 | Karim Mezhoud |  OK  |  OK  |  OK  |  OK  |   | 
| cancerclass 1.32.0 | Daniel Kosztyla |  OK  |  OK  |  WARNINGS  |  OK  |   | 
| CancerInSilico 2.8.0 | Thomas D. Sherman |  OK  |  OK  |  OK  |  OK  |   | 
| CancerMutationAnalysis 1.30.0 | Simina M. Boca |  OK  |  OK  |  OK  |  OK  |   | 
| CancerSubtypes 1.14.0 | Taosheng Xu |  OK  |  OK  |  OK  |  OK  |   | 
| CAnD 1.20.0 | Caitlin McHugh |  OK  |  OK  |  OK  |  OK  |   | 
| caOmicsV 1.18.0 | Henry Zhang |  OK  |  OK  |  WARNINGS  |  OK  |   | 
| Cardinal 2.6.0 | Kylie A. Bemis |  OK  |  OK  |  OK  |  OK  |   | 
| CARNIVAL 1.0.0 | Enio Gjerga |  OK  |  OK  |  OK  |  OK  |   | 
| casper 2.22.0 | David Rossell |  OK  |  OK  |  WARNINGS  |  OK  |   | 
| CATALYST 1.12.2 | Helena L. Crowell |  OK  |  OK  |  OK  |  OK  |   | 
| Category 2.54.0 | Bioconductor Package Maintainer |  OK  |  OK  |  OK  |  OK  |   | 
| categoryCompare 1.32.0 | Robert M. Flight |  OK  |  OK  |  OK  |  OK  |   | 
| CausalR 1.20.0 | Glyn Bradley , Steven Barrett |  OK  |  OK  |  OK  |  OK  |   | 
| cbaf 1.10.1 | Arman Shahrisa |  OK  |  OK  |  OK  |  OK  |   | 
| cBioPortalData 2.0.10 | Marcel Ramos |  OK  |  OK  |  OK  |  OK  |   | 
| ccfindR 1.8.0 | Jun Woo |  OK  |  OK  |  OK  |  OK  |   | 
| ccmap 1.14.0 | Alex Pickering |  OK  |  OK  |  OK  |  OK  |   | 
| CCPROMISE 1.14.0 | Xueyuan Cao |  OK  |  OK  |  WARNINGS  |  OK  |   | 
| ccrepe 1.24.0 | Emma Schwager ,Craig Bielski, George Weingart |  OK  |  OK  |  OK  |  OK  |   | 
| celaref 1.6.0 | Sarah Williams |  OK  |  OK  |  OK  |  OK  |   | 
| celda 1.4.7 | Joshua Campbell |  OK  |  OK  |  OK  |  OK  |   | 
| cellbaseR 1.12.0 | Mohammed OE Abdallah |  OK  |  OK  |  OK  |  OK  |   | 
| CellBench 1.4.1 | Shian Su |  OK  |  OK  |  OK  |  OK  |   | 
cellGrowth 1.32.0 | Julien Gagneur |  OK  |  ERROR  |  skipped  |  skipped  |  | 
| cellHTS2 2.52.0 | Joseph Barry |  OK  |  OK  |  OK  |  OK  |   | 
| cellity 1.16.0 | Tomislav Ilicic |  OK  |  OK  |  OK  |  OK  |   | 
| CellMapper 1.14.0 | Brad Nelms |  OK  |  OK  |  WARNINGS  |  OK  |   | 
| CellMixS 1.4.2 | Almut Lütge |  OK  |  OK  |  OK  |  OK  |   | 
| CellNOptR 1.34.0 | A.Gabor |  OK  |  OK  |  WARNINGS  |  OK  |   | 
| cellscape 1.12.0 | Maia Smith |  OK  |  OK  |  WARNINGS  |  OK  |   | 
| CellScore 1.8.0 | Nancy Mah |  OK  |  OK  |  OK  |  OK  |   | 
| CellTrails 1.6.1 | Daniel Ellwanger |  OK  |  OK  |  OK  |  OK  |   | 
| cellTree 1.18.0 | David duVerle |  OK  |  OK  |  OK  |  OK  |   | 
| CEMiTool 1.12.2 | Helder Nakaya |  OK  |  OK  |  WARNINGS  |  OK  |   | 
| ceRNAnetsim 1.0.0 | Selcen Ari Yuka |  OK  |  OK  |  OK  |  OK  |   | 
| CeTF 1.0.7 | Carlos Alberto Oliveira de Biagi Junior |  OK  |  OK  |  OK  |  OK  |   | 
| CexoR 1.26.0 | Pedro Madrigal |  OK  |  OK  |  OK  |  OK  |   | 
| CFAssay 1.22.0 | Herbert Braselmann |  OK  |  OK  |  OK  |  OK  |   | 
| CGEN 3.24.0 | William Wheeler |  OK  |  OK  |  ERROR  |  OK  |  | 
| CGHbase 1.48.0 | Mark van de Wiel |  OK  |  OK  |  OK  |  OK  |   | 
| CGHcall 2.50.0 | Mark van de Wiel |  OK  |  OK  |  OK  |  OK  |   | 
| cghMCR 1.46.0 | J. Zhang |  OK  |  OK  |  WARNINGS  |  OK  |   | 
| CGHnormaliter 1.42.0 | Bart P.P. van Houte |  OK  |  OK  |  OK  |  OK  |   | 
| CGHregions 1.46.0 | Sjoerd Vosse |  OK  |  OK  |  OK  |  OK  |   | 
| ChAMP 2.18.3 | Yuan Tian |  OK  |  OK  |  WARNINGS  |  OK  |   | 
| CHARGE 1.8.0 | Benjamin Mayne |  ERROR  |  ERROR  |  skipped  |  skipped  |  | 
| ChemmineOB 1.26.0 | Thomas Girke |  OK  |  OK  |  WARNINGS  |  OK  |   | 
| ChemmineR 3.40.0 | Thomas Girke |  OK  |  OK  |  WARNINGS  |  OK  |   | 
| CHETAH 1.4.0 | Jurrian de Kanter |  OK  |  OK  |  OK  |  OK  |   | 
| ChIC 1.8.0 | Carmen Maria Livi |  OK  |  OK  |  OK  |  OK  |   | 
| Chicago 1.16.1 | Mikhail Spivakov |  OK  |  OK  |  OK  |  OK  |   | 
| chimera 1.30.0 | Raffaele A Calogero |  OK  |  OK  |  OK  |  OK  |   | 
| chimeraviz 1.14.0 | Stian Lågstad |  OK  |  ERROR  |  skipped  |  skipped  |  | 
| ChIPanalyser 1.10.0 | Patrick C.N. Martin |  OK  |  OK  |  OK  |  OK  |   | 
| ChIPComp 1.18.0 | Li Chen |  OK  |  OK  |  OK  |  OK  |   | 
| chipenrich 2.12.0 | Raymond G. Cavalcante |  OK  |  OK  |  OK  |  OK  |   | 
| ChIPexoQual 1.12.0 | Rene Welch |  OK  |  OK  |  OK  |  OK  |   | 
| ChIPpeakAnno 3.22.4 | Lihua Julie Zhu |  OK  |  OK  |  OK  |  OK  |   | 
| ChIPQC 1.24.1 | Tom Carroll , Rory Stark |  OK  |  OK  |  WARNINGS  |  OK  |   | 
| ChIPseeker 1.24.0 | Guangchuang Yu |  OK  |  OK  |  OK  |  OK  |   | 
| chipseq 1.38.0 | Bioconductor Package Maintainer |  OK  |  OK  |  WARNINGS  |  OK  |   | 
| ChIPseqR 1.42.0 | Peter Humburg |  OK  |  OK  |  OK  |  OK  |   | 
| ChIPSeqSpike 1.8.0 | Nicolas Descostes |  OK  |  OK  |  OK  |  OK  |   | 
| ChIPsim 1.42.0 | Peter Humburg |  OK  |  OK  |  OK  |  OK  |   | 
| ChIPXpress 1.32.0 | George Wu |  OK  |  OK  |  OK  |  OK  |   | 
| chopsticks 1.54.0 | Hin-Tak Leung |  OK  |  OK  |  WARNINGS  |  OK  |   | 
chroGPS 2.6.0 | Oscar Reina |  ERROR  |  ERROR  |  skipped  |  skipped  |  | 
| chromDraw 2.18.0 | Jan Janecka |  OK  |  OK  |  WARNINGS  |  OK  |   | 
| ChromHeatMap 1.42.0 | Tim F. Rayner |  OK  |  OK  |  OK  |  OK  |   | 
| chromPlot 1.16.0 | Karen Y. Orostica |  OK  |  OK  |  OK  |  OK  |   | 
| chromstaR 1.14.1 | Aaron Taudt |  OK  |  OK  |  OK  |  OK  |   | 
| chromswitch 1.10.0 | Selin Jessa |  OK  |  OK  |  OK  |  OK  |   | 
| chromVAR 1.10.0 | Alicia Schep |  OK  |  OK  |  OK  |  OK  |   | 
| CHRONOS 1.16.0 | Panos Balomenos |  OK  |  OK  |  OK  |  OK  |   | 
| cicero 1.6.2 | Hannah Pliner |  OK  |  OK  |  OK  |  OK  |   | 
| CINdex 1.16.0 | Yuriy Gusev |  OK  |  OK  |  OK  |  OK  |   | 
| circRNAprofiler 1.2.1 | Simona Aufiero |  OK  |  OK  |  OK  |  OK  |   | 
| cisPath 1.28.0 | Likun Wang |  OK  |  OK  |  WARNINGS  |  OK  |   | 
| CiteFuse 1.0.0 | Yingxin Lin |  OK  |  OK  |  OK  |  OK  |   | 
| ClassifyR 2.8.0 | Dario Strbenac |  OK  |  OK  |  OK  |  OK  |   | 
| cleanUpdTSeq 1.26.0 | Jianhong Ou ; Lihua Julie Zhu |  OK  |  OK  |  OK  |  OK  |   | 
| cleaver 1.26.1 | Sebastian Gibb |  OK  |  ERROR  |  skipped  |  skipped  |  | 
| clippda 1.38.0 | Stephen Nyangoma |  OK  |  OK  |  WARNINGS  |  OK  |   | 
| clipper 1.28.0 | Paolo Martini |  OK  |  OK  |  OK  |  OK  |   | 
| cliqueMS 1.2.1 | Oriol Senan Campos |  OK  |  OK  |  OK  |  OK  |   | 
| Clomial 1.24.0 | Habil Zare |  OK  |  OK  |  OK  |  OK  |   | 
| Clonality 1.36.0 | Irina Ostrovnaya |  OK  |  OK  |  OK  |  OK  |   | 
| clonotypeR 1.26.0 | Charles Plessy |  OK  |  OK  |  OK  |  OK  |   | 
| clst 1.36.0 | Noah Hoffman |  OK  |  OK  |  WARNINGS  |  OK  |   | 
| clstutils 1.36.0 | Noah Hoffman |  OK  |  OK  |  WARNINGS  |  OK  |   | 
| CluMSID 1.4.0 | Tobias Depke |  OK  |  OK  |  OK  |  OK  |   | 
| clustComp 1.16.0 | Aurora Torrente |  OK  |  OK  |  OK  |  OK  |   | 
| clusterExperiment 2.8.0 | Elizabeth Purdom |  OK  |  OK  |  WARNINGS  |  OK  |   | 
| ClusterJudge 1.10.0 | Adrian Pasculescu |  OK  |  OK  |  OK  |  OK  |   | 
| clusterProfiler 3.16.1 | Guangchuang Yu |  OK  |  OK  |  OK  |  OK  |   | 
| clusterSeq 1.12.0 | Thomas J. Hardcastle |  OK  |  OK  |  OK  |  OK  |   | 
| ClusterSignificance 1.16.0 | Jason T Serviss |  OK  |  OK  |  OK  |  OK  |   | 
| clusterStab 1.60.0 | James W. MacDonald |  OK  |  OK  |  OK  |  OK  |   | 
| clustifyr 1.0.0 | Rui Fu |  OK  |  OK  |  OK  |  OK  |   | 
| CMA 1.46.0 | Roman Hornung |  OK  |  OK  |  OK  |  OK  |   | 
| cmapR 1.0.0 | Ted Natoli |  OK  |  OK  |  WARNINGS  |  OK  |   | 
| cn.farms 1.36.0 | Andreas Mitterecker |  OK  |  OK  |  OK  |  OK  |   | 
| cn.mops 1.34.0 | Gundula Povysil |  OK  |  OK  |  OK  |  OK  |   | 
| CNAnorm 1.34.0 | Stefano Berri |  OK  |  OK  |  OK  |  OK  |   | 
| CNEr 1.24.0 | Ge Tan |  OK  |  OK  |  WARNINGS  |  OK  |   | 
| CNORdt 1.30.0 | A. MacNamara |  OK  |  OK  |  OK  |  OK  |   | 
| CNORfeeder 1.28.0 | E.Gjerga |  OK  |  OK  |  OK  |  OK  |   | 
| CNORfuzzy 1.30.0 | T. Cokelaer |  OK  |  OK  |  OK  |  OK  |   | 
| CNORode 1.30.0 | Enio Gjerga |  OK  |  OK  |  WARNINGS  |  OK  |   | 
| CNTools 1.44.0 | J. Zhang |  OK  |  OK  |  OK  |  OK  |   | 
| CNVfilteR 1.2.0 | Jose Marcos Moreno-Cabrera |  OK  |  OK  |  OK  |  OK  |   | 
| cnvGSA 1.32.0 | Joseph Lugo |  OK  |  OK  |  OK  |  OK  |   | 
| CNVPanelizer 1.20.0 | Thomas Wolf |  OK  |  OK  |  OK  |  OK  |   | 
| CNVRanger 1.4.3 | Ludwig Geistlinger |  OK  |  OK  |  OK  |  OK  |   | 
| CNVrd2 1.26.0 | Hoang Tan Nguyen |  OK  |  OK  |  OK  |  OK  |   | 
| CNVtools 1.82.0 | Chris Barnes |  OK  |  ERROR  |  skipped  |  skipped  |  | 
cobindR 1.26.0 | Manuela Benary |  ERROR  |  ERROR  |  skipped  |  skipped  |  | 
| CoCiteStats 1.60.0 | Bioconductor Package Maintainer |  OK  |  OK  |  OK  |  OK  |   | 
| COCOA 2.2.1 | John Lawson |  OK  |  OK  |  OK  |  OK  |   | 
| codelink 1.56.0 | Diego Diez |  OK  |  OK  |  OK  |  OK  |   | 
| CODEX 1.20.0 | Yuchao Jiang |  OK  |  OK  |  OK  |  OK  |   | 
| coexnet 1.10.3 | Juan David Henao |  OK  |  OK  |  OK  |  OK  |   | 
| CoGAPS 3.8.0 | Elana J. Fertig |  OK  |  OK  |  OK  |  OK  |   | 
| cogena 1.22.0 | Zhilong Jia |  OK  |  OK  |  WARNINGS  |  OK  |   | 
| coGPS 1.32.0 | Yingying Wei |  OK  |  OK  |  OK  |  OK  |   | 
| COHCAP 1.34.1 | Charles Warden |  OK  |  OK  |  OK  |  OK  |   | 
| cola 1.4.1 | Zuguang Gu |  OK  |  OK  |  OK  |  OK  |   | 
| combi 1.0.0 | Joris Meys |  OK  |  OK  |  OK  |  OK  |   | 
| coMET 1.20.0 | Tiphaine Martin |  OK  |  OK  |  OK  |  OK  |   | 
| compartmap 1.6.0 | Benjamin Johnson |  OK  |  OK  |  WARNINGS  |  OK  |   | 
| COMPASS 1.26.0 | Greg Finak |  OK  |  OK  |  OK  |  OK  |   | 
| compcodeR 1.24.0 | Charlotte Soneson |  OK  |  OK  |  WARNINGS  |  OK  |   | 
| compEpiTools 1.22.0 | Kamal Kishore |  OK  |  OK  |  OK  |  OK  |   | 
| CompGO 1.24.0 | Ashley J. Waardenberg |  OK  |  OK  |  OK  |  OK  |   | 
| ComplexHeatmap 2.4.3 | Zuguang Gu |  OK  |  OK  |  OK  |  OK  |   | 
| CONFESS 1.16.0 | Diana LOW |  OK  |  OK  |  WARNINGS  |  OK  |   | 
| consensus 1.6.1 | Tim Peters |  OK  |  OK  |  OK  |  OK  |   | 
| ConsensusClusterPlus 1.52.0 | Matt Wilkerson |  OK  |  OK  |  OK  |  OK  |   | 
| consensusDE 1.6.0 | Ashley J. Waardenberg |  OK  |  OK  |  OK  |  OK  |   | 
| consensusOV 1.10.0 | Benjamin Haibe-Kains |  OK  |  OK  |  OK  |  OK  |   | 
| consensusSeekeR 1.16.0 | Astrid Deschenes |  OK  |  OK  |  OK  |  OK  |   | 
| contiBAIT 1.16.0 | Kieran O'Neill |  OK  |  OK  |  WARNINGS  |  OK  |   | 
| conumee 1.22.0 | Volker Hovestadt |  OK  |  OK  |  TIMEOUT  |  OK  |  | 
| convert 1.64.0 | Yee Hwa (Jean) Yang |  OK  |  OK  |  OK  |  OK  |   | 
| copa 1.56.0 | James W. MacDonald |  OK  |  OK  |  OK  |  OK  |   | 
| copynumber 1.28.0 | Gro Nilsen |  OK  |  OK  |  OK  |  OK  |   | 
| CopyNumberPlots 1.4.0 | Bernat Gel |  OK  |  OK  |  OK  |  OK  |   | 
| CopywriteR 2.20.0 | Oscar Krijgsman |  OK  |  OK  |  OK  |  OK  |   | 
| coRdon 1.6.0 | Anamaria Elek |  OK  |  OK  |  OK  |  OK  |   | 
| CoRegFlux 1.4.0 | Pauline Trébulle and Mohamed Elati |  OK  |  OK  |  OK  |  OK  |   | 
| CoRegNet 1.26.0 | Remy Nicolle |  OK  |  OK  |  WARNINGS  |  OK  |   | 
| CoreGx 1.0.2 | Benjamin Haibe-Kains |  OK  |  OK  |  OK  |  OK  |   | 
| Cormotif 1.34.0 | Yingying Wei |  OK  |  OK  |  OK  |  OK  |   | 
| CorMut 1.30.0 | Zhenpeng Li |  OK  |  ERROR  |  skipped  |  skipped  |  | 
| CORREP 1.54.0 | Dongxiao Zhu |  OK  |  OK  |  OK  |  OK  |   | 
| coseq 1.12.0 | Andrea Rau |  OK  |  OK  |  OK  |  OK  |   | 
| cosmiq 1.22.0 | David Fischer |  OK  |  OK  |  OK  |  OK  |   | 
| COSNet 1.22.0 | Marco Frasca |  OK  |  ERROR  |  skipped  |  skipped  |  | 
| CountClust 1.16.0 | Kushal Dey |  OK  |  ERROR  |  skipped  |  skipped  |  | 
| countsimQC 1.6.0 | Charlotte Soneson |  OK  |  OK  |  OK  |  OK  |   | 
| covEB 1.14.0 | C. Pacini |  OK  |  OK  |  OK  |  OK  |   | 
| CoverageView 1.26.0 | Ernesto Lowy |  OK  |  OK  |  OK  |  OK  |   | 
| covRNA 1.14.0 | Lara Urban |  OK  |  OK  |  OK  |  OK  |   | 
| cpvSNP 1.20.0 | Caitlin McHugh |  OK  |  OK  |  OK  |  OK  |   | 
| cqn 1.34.0 | Kasper Daniel Hansen |  OK  |  OK  |  OK  |  OK  |   | 
| CRImage 1.36.0 | Henrik Failmezger , Yinyin Yuan |  OK  |  OK  |  OK  |  OK  |   | 
| CRISPRseek 1.28.0 | Lihua Julie Zhu |  OK  |  OK  |  OK  |  OK  |   | 
| crisprseekplus 1.14.0 | Alper Kucukural |  OK  |  OK  |  OK  |  OK  |   | 
| CrispRVariants 1.16.0 | Helen Lindsay |  OK  |  OK  |  WARNINGS  |  OK  |   | 
| crlmm 1.46.0 | Benilton S Carvalho |  OK  |  OK  |  OK  |  OK  |   | 
| CrossICC 1.2.0 | Yu Sun |  OK  |  OK  |  OK  |  OK  |   | 
| crossmeta 1.14.0 | Alex Pickering |  OK  |  OK  |  WARNINGS  |  OK  |   | 
| CSAR 1.40.0 | Jose M Muino |  OK  |  OK  |  OK  |  OK  |   | 
| csaw 1.22.1 | Aaron Lun |  OK  |  OK  |  OK  |  OK  |   | 
| CSSP 1.26.0 | Chandler Zuo |  OK  |  OK  |  OK  |  OK  |   | 
| CSSQ 1.0.5 | Fan Lab at Georgia Institute of Technology |  OK  |  OK  |  OK  |  OK  |   | 
| ctc 1.62.0 | Antoine Lucas |  OK  |  OK  |  OK  |  OK  |   | 
CTDquerier 1.8.0 | Carles Hernandez-Ferrer |  OK  |  OK  |  ERROR  |  OK  |  | 
| ctgGEM 1.0.3 | USD Biomedical Engineering |  OK  |  OK  |  OK  |  OK  |   | 
| cTRAP 1.6.1 | Nuno Saraiva-Agostinho |  OK  |  OK  |  OK  |  OK  |   | 
| ctsGE 1.14.0 | Michal Sharabi-Schwager |  OK  |  OK  |  OK  |  OK  |   | 
| cummeRbund 2.30.0 | Loyal A. Goff |  OK  |  OK  |  WARNINGS  |  OK  |   | 
| customProDB 1.28.0 | Xiaojing Wang |  OK  |  OK  |  OK  |  OK  |   | 
CVE 1.14.0 | Andreas Mock |  OK  |  OK  |  ERROR  |  OK  |  | 
| cycle 1.42.0 | Matthias Futschik |  OK  |  OK  |  OK  |  OK  |   | 
| cydar 1.12.0 | Aaron Lun |  OK  |  OK  |  ERROR  |  OK  |  | 
| CytoDx 1.8.0 | Zicheng Hu |  OK  |  OK  |  OK  |  OK  |   | 
| cytofast 1.4.0 | K.A. Stam |  OK  |  OK  |  OK  |  OK  |   | 
| cytolib 2.0.3 | Mike Jiang , Jake Wagner |  OK  |  OK  |  OK  |  OK  |   | 
| cytomapper 1.0.0 | Nils Eling |  OK  |  OK  |  OK  |  OK  |   | 
| CytoML 2.0.5 | Mike Jiang , Jake Wagner |  OK  |  OK  |  OK  |  OK  |   | 
 | 
 |  | 
| dada2 1.16.0 | Benjamin Callahan |  OK  |  OK  |  OK  |  OK  |   | 
| dagLogo 1.26.2 | Jianhong Ou |  OK  |  OK  |  OK  |  OK  |   | 
| daMA 1.60.0 | Jobst Landgrebe |  OK  |  OK  |  OK  |  OK  |   | 
| DAMEfinder 1.0.3 | Stephany Orjuela |  OK  |  OK  |  OK  |  OK  |   | 
| DaMiRseq 2.0.0 | Mattia Chiesa |  OK  |  OK  |  WARNINGS  |  OK  |   | 
| DAPAR 1.20.3 | Samuel Wieczorek |  OK  |  OK  |  OK  |  OK  |   | 
| DART 1.36.0 | Charles Shijie Zheng |  OK  |  OK  |  OK  |  OK  |   | 
| DBChIP 1.32.0 | Kun Liang |  OK  |  OK  |  WARNINGS  |  OK  |   | 
| dcanr 1.4.0 | Dharmesh D. Bhuva |  OK  |  OK  |  OK  |  OK  |   | 
| dcGSA 1.16.0 | Jiehuan sun |  OK  |  OK  |  WARNINGS  |  OK  |   | 
DChIPRep 1.18.0 | Bernd Klaus |  OK  |  OK  |  WARNINGS  |  OK  |   | 
| ddCt 1.44.0 | Jitao David Zhang |  OK  |  OK  |  OK  |  OK  |   | 
| ddPCRclust 1.8.0 | Benedikt G. Brink |  OK  |  OK  |  OK  |  OK  |   | 
| dearseq 1.0.0 | Boris P. Hejblum |  OK  |  OK  |  OK  |  OK  |   | 
| debCAM 1.6.0 | Lulu Chen |  OK  |  OK  |  OK  |  OK  |   | 
| debrowser 1.16.3 | Alper Kucukural |  OK  |  OK  |  OK  |  OK  |   | 
| DECIPHER 2.16.1 | Erik Wright |  OK  |  OK  |  OK  |  OK  |   | 
| deco 1.4.1 | Francisco Jose Campos Laborie |  OK  |  OK  |  OK  |  OK  |   | 
| DEComplexDisease 1.8.0 | Guofeng Meng |  OK  |  OK  |  OK  |  OK  |   | 
| decompTumor2Sig 2.4.1 | Rosario M. Piro |  OK  |  OK  |  OK  |  OK  |   | 
| DeconRNASeq 1.30.0 | Ting Gong |  OK  |  OK  |  OK  |  OK  |   | 
| decontam 1.8.0 | Benjamin Callahan |  OK  |  OK  |  OK  |  OK  |   | 
DEDS 1.62.0 | Yuanyuan Xiao |  OK  |  ERROR  |  skipped  |  skipped  |  | 
| DeepBlueR 1.14.0 | Felipe Albrecht , Markus List |  OK  |  OK  |  OK  |  OK  |   | 
| deepSNV 1.34.1 | Moritz Gerstung |  OK  |  OK  |  OK  |  OK  |   | 
| DEFormats 1.16.0 | Andrzej Oleś |  OK  |  OK  |  OK  |  OK  |   | 
| DEGraph  |  | ...NOT SUPPORTED... | 
| DEGreport 1.24.1 | Lorena Pantano |  OK  |  OK  |  OK  |  OK  |   | 
| DEGseq 1.42.0 | Likun Wang |  OK  |  OK  |  OK  |  OK  |   | 
| DelayedArray 0.14.1 | Hervé Pagès |  OK  |  OK  |  WARNINGS  |  OK  |   | 
| DelayedDataFrame 1.4.0 | Qian Liu |  OK  |  OK  |  OK  |  OK  |   | 
| DelayedMatrixStats 1.10.1 | Peter Hickey |  OK  |  OK  |  OK  |  OK  |   | 
| deltaCaptureC 1.2.0 | Michael Shapiro |  OK  |  OK  |  OK  |  OK  |   | 
| deltaGseg 1.28.0 | Diana Low |  OK  |  OK  |  OK  |  OK  |   | 
| DeMAND 1.18.0 | Jung Hoon Woo , Mariano Alvarez |  OK  |  OK  |  OK  |  OK  |   | 
| DeMixT 1.4.0 | Shaolong Cao, Peng Yang |  OK  |  OK  |  OK  |  OK  |   | 
| DEP 1.10.0 | Arne Smits |  OK  |  OK  |  OK  |  OK  |   | 
| DepecheR 1.4.1 | Jakob Theorell |  OK  |  OK  |  OK  |  OK  |   | 
| DEqMS 1.6.0 | Yafeng Zhu |  OK  |  OK  |  OK  |  OK  |   | 
| derfinder 1.22.0 | Leonardo Collado-Torres |  OK  |  OK  |  OK  |  OK  |   | 
| derfinderHelper 1.22.0 | Leonardo Collado-Torres |  OK  |  OK  |  OK  |  OK  |   | 
| derfinderPlot 1.22.0 | Leonardo Collado-Torres |  OK  |  OK  |  OK  |  OK  |   | 
| DEScan2 1.8.0 | Dario Righelli |  OK  |  OK  |  OK  |  OK  |   | 
DESeq 1.40.0 | Simon Anders |  OK  |  ERROR  |  skipped  |  skipped  |  | 
| DESeq2 1.28.1 | Michael Love |  OK  |  OK  |  OK  |  OK  |   | 
| DEsingle 1.8.2 | Zhun Miao |  OK  |  OK  |  OK  |  OK  |   | 
| destiny 3.2.0 | Philipp Angerer |  OK  |  ERROR  |  skipped  |  skipped  |  | 
| DEsubs 1.14.0 | Aristidis G. Vrahatis , Panos Balomenos |  OK  |  OK  |  OK  |  OK  |   | 
| DEWSeq 1.2.0 | Hentze bioinformatics team |  OK  |  OK  |  OK  |  OK  |   | 
| DEXSeq 1.34.1 | Alejandro Reyes |  OK  |  OK  |  OK  |  OK  |   | 
| dexus 1.28.0 | Guenter Klambauer |  OK  |  OK  |  OK  |  OK  |   | 
| DFP 1.46.0 | Rodrigo Alvarez-Glez |  OK  |  OK  |  OK  |  OK  |   | 
| DIAlignR 1.0.5 | Shubham Gupta |  OK  |  OK  |  OK  |  OK  |   | 
| DiffBind 2.16.2 | Rory Stark |  OK  |  OK  |  OK  |  OK  |   | 
| diffcoexp 1.8.0 | Wenbin Wei |  OK  |  OK  |  OK  |  OK  |   | 
| diffcyt 1.8.8 | Lukas M. Weber |  OK  |  OK  |  OK  |  OK  |   | 
| diffGeneAnalysis 1.70.0 | Choudary Jagarlamudi |  OK  |  OK  |  OK  |  OK  |   | 
| diffHic 1.20.0 | Aaron Lun |  OK  |  OK  |  OK  |  OK  |   | 
| DiffLogo 2.12.2 | Hendrik Treutler |  OK  |  OK  |  OK  |  OK  |   | 
| diffloop 1.16.0 | Caleb Lareau |  OK  |  OK  |  OK  |  OK  |   | 
| diffuStats 1.8.0 | Sergio Picart-Armada |  OK  |  OK  |  WARNINGS  |  OK  |   | 
| diggit 1.20.0 | Mariano J Alvarez |  OK  |  OK  |  WARNINGS  |  OK  |   | 
| Director 1.14.0 | Katherine Icay |  OK  |  OK  |  OK  |  OK  |   | 
| DirichletMultinomial 1.30.0 | Martin Morgan |  OK  |  OK  |  OK  |  OK  |   | 
| discordant 1.12.0 | Charlotte Siska |  OK  |  OK  |  OK  |  OK  |   | 
| DiscoRhythm 1.4.2 | Matthew Carlucci |  OK  |  OK  |  OK  |  OK  |   | 
| distinct 1.0.4 | Simone Tiberi |  OK  |  OK  |  OK  |  OK  |   | 
| dittoSeq 1.0.2 | Daniel Bunis |  OK  |  OK  |  OK  |  OK  |   | 
| divergence 1.4.0 | Wikum Dinalankara , Luigi Marchionni |  OK  |  OK  |  OK  |  OK  |   | 
| dks 1.34.0 | Jeffrey T. Leek |  OK  |  OK  |  OK  |  OK  |   | 
| DMCFB 1.2.0 | Farhad Shokoohi |  OK  |  OK  |  OK  |  OK  |   | 
| DMCHMM 1.10.0 | Farhad Shokoohi |  OK  |  OK  |  OK  |  OK  |   | 
| DMRcaller 1.20.0 | Nicolae Radu Zabet |  OK  |  OK  |  OK  |  OK  |   | 
| DMRcate 2.2.3 | Tim Peters |  OK  |  OK  |  OK  |  OK  |   | 
| DMRforPairs 1.24.0 | Martin Rijlaarsdam |  OK  |  OK  |  OK  |  OK  |   | 
| DMRScan 1.10.0 | Christian M Page |  OK  |  OK  |  OK  |  OK  |   | 
| dmrseq 1.8.0 | Keegan Korthauer |  OK  |  OK  |  WARNINGS  |  OK  |   | 
| DNABarcodeCompatibility 1.4.0 | Céline Trébeau |  OK  |  OK  |  OK  |  OK  |   | 
| DNABarcodes 1.18.0 | Tilo Buschmann |  OK  |  OK  |  OK  |  OK  |   | 
| DNAcopy 1.62.0 | Venkatraman E. Seshan |  OK  |  OK  |  OK  |  OK  |   | 
| DNAshapeR 1.16.0 | Tsu-Pei Chiu |  OK  |  OK  |  OK  |  OK  |   | 
| DominoEffect 1.8.0 | Marija Buljan |  OK  |  OK  |  OK  |  OK  |   | 
| doppelgangR 1.16.0 | Levi Waldron |  OK  |  OK  |  OK  |  OK  |   | 
| Doscheda 1.10.4 | Bruno Contrino |  OK  |  OK  |  OK  |  OK  |   | 
| DOSE 3.14.0 | Guangchuang Yu |  OK  |  OK  |  OK  |  OK  |   | 
| doseR 1.4.0 | ake.vastermark |  OK  |  OK  |  OK  |  OK  |   | 
| dpeak 1.0.0 | Dongjun Chung |  OK  |  OK  |  OK  |  OK  |   | 
| drawProteins  |  |  ERROR  (Bad DESCRIPTION file) | 
| DRIMSeq 1.16.1 | Malgorzata Nowicka |  OK  |  OK  |  WARNINGS  |  OK  |   | 
| DriverNet 1.28.0 | Jiarui Ding |  OK  |  OK  |  OK  |  OK  |   | 
| DropletUtils 1.8.0 | Aaron Lun |  OK  |  OK  |  OK  |  OK  |   | 
| DrugVsDisease 2.30.0 | j. Saez-Rodriguez |  OK  |  OK  |  OK  |  OK  |   | 
| DSS 2.36.0 | Hao Wu , Hao Feng |  OK  |  OK  |  OK  |  OK  |   | 
| DTA 2.34.0 | Bjoern Schwalb |  OK  |  OK  |  OK  |  OK  |   | 
| dualKS 1.48.0 | Eric J. Kort |  OK  |  OK  |  OK  |  OK  |   | 
| Dune 1.0.1 | Hector Roux de Bezieux |  OK  |  OK  |  OK  |  OK  |   | 
DupChecker 1.26.0 | "Quanhu SHENG" |  OK  |  ERROR  |  skipped  |  skipped  |  | 
| dupRadar 1.18.0 | Sergi Sayols , Holger Klein |  OK  |  OK  |  OK  |  OK  |   | 
| dyebias 1.48.0 | Philip Lijnzaad |  OK  |  OK  |  OK  |  OK  |   | 
| DynDoc 1.66.0 | Bioconductor Package Maintainer |  OK  |  OK  |  OK  |  OK  |   | 
 | 
 |  | 
| EasyqpcR 1.30.0 | Le Pape Sylvain |  ERROR  |  ERROR  |  skipped  |  skipped  |  | 
| easyreporting 1.0.0 | Dario Righelli |  OK  |  OK  |  OK  |  OK  |   | 
| easyRNASeq 2.24.1 | Nicolas Delhomme |  OK  |  OK  |  OK  |  OK  |   | 
| EBarrays 2.52.0 | Ming Yuan |  OK  |  OK  |  OK  |  OK  |   | 
| EBcoexpress 1.32.0 | John A. Dawson |  OK  |  OK  |  OK  |  OK  |   | 
| EBImage 4.30.0 | Andrzej Oleś |  OK  |  OK  |  OK  |  OK  |   | 
| EBSEA 1.16.0 | Arfa Mehmood |  OK  |  OK  |  OK  |  OK  |   | 
| EBSeq 1.28.0 | Ning Leng |  OK  |  OK  |  OK  |  OK  |   | 
| EBSeqHMM 1.22.0 | Ning Leng |  OK  |  OK  |  OK  |  OK  |   | 
| ecolitk 1.60.0 | Laurent Gautier |  OK  |  OK  |  WARNINGS  |  OK  |   | 
| EDASeq 2.22.0 | Davide Risso |  OK  |  OK  |  OK  |  OK  |   | 
| EDDA 1.26.0 | Chia Kuan Hui Burton , Niranjan Nagarajan |  OK  |  OK  |  WARNINGS  |  OK  |   | 
| edge 2.20.0 | John D. Storey , Andrew J. Bass |  OK  |  OK  |  WARNINGS  |  OK  |   | 
| edgeR 3.30.3 | Yunshun Chen , Gordon Smyth , Aaron Lun , Mark Robinson |  OK  |  OK  |  OK  |  OK  |   | 
| eegc 1.14.0 | Xiaoyuan Zhou |  OK  |  OK  |  WARNINGS  |  OK  |   | 
| EGAD 1.16.0 | Sara Ballouz |  OK  |  OK  |  OK  |  OK  |   | 
| EGSEA 1.16.0 | Monther Alhamdoosh |  OK  |  OK  |  OK  |  OK  |   | 
| eiR 1.28.0 | Thomas Girke |  OK  |  OK  |  OK  |  OK  |   | 
| eisa 1.40.0 | Gabor Csardi |  OK  |  OK  |  OK  |  OK  |   | 
| eisaR 1.0.0 | Michael Stadler |  OK  |  OK  |  OK  |  OK  |   | 
| ELBOW 1.24.0 | Graham Alvare , Xiangli Zhang |  OK  |  OK  |  OK  |  OK  |   | 
| ELMER 2.12.0 | Tiago Chedraoui Silva |  OK  |  OK  |  OK  |  OK  |   | 
| EMDomics 2.18.0 | Sadhika Malladi  and Daniel Schmolze |  OK  |  OK  |  OK  |  OK  |   | 
| EmpiricalBrownsMethod 1.16.0 | David Gibbs |  OK  |  OK  |  OK  |  OK  |   | 
| ENCODExplorer 2.14.0 | Charles Joly Beauparlant |  OK  |  OK  |  OK  |  OK  |   | 
| EnhancedVolcano 1.6.0 | Kevin Blighe |  OK  |  OK  |  OK  |  OK  |   | 
| EnMCB 1.0.11 | Xin Yu |  OK  |  OK  |  OK  |  OK  |   | 
| ENmix 1.25.1 | Zongli Xu |  OK  |  OK  |  OK  |  OK  |   | 
| EnrichedHeatmap 1.18.2 | Zuguang Gu |  OK  |  OK  |  OK  |  OK  |   | 
| EnrichmentBrowser 2.18.2 | Ludwig Geistlinger |  OK  |  OK  |  OK  |  OK  |   | 
| enrichplot 1.8.1 | Guangchuang Yu |  OK  |  OK  |  OK  |  OK  |   | 
| enrichTF 1.4.0 | Zheng Wei |  OK  |  OK  |  OK  |  OK  |   | 
| ensembldb 2.12.1 | Johannes Rainer |  OK  |  OK  |  OK  |  OK  |   | 
| ensemblVEP 1.30.0 | Bioconductor Package Maintainer |  OK  |  OK  |  OK  |  OK  |   | 
| ENVISIONQuery 1.36.0 | Alex Lisovich , Roger Day |  OK  |  ERROR  |  skipped  |  skipped  |  | 
| EpiDISH 2.4.0 | Shijie Charles Zheng |  OK  |  OK  |  OK  |  OK  |   | 
| epigenomix 1.28.0 | Hans-Ulrich Klein |  OK  |  OK  |  OK  |  OK  |   | 
| epihet 1.4.0 | Xiaowen Chen |  OK  |  OK  |  OK  |  OK  |   | 
| epiNEM 1.12.0 | Martin Pirkl |  OK  |  OK  |  OK  |  OK  |   | 
| EpiTxDb 1.0.0 | Felix G.M. Ernst |  OK  |  OK  |  OK  |  OK  |   | 
| epivizr 2.18.0 | Hector Corrada Bravo |  OK  |  OK  |  OK  |  OK  |   | 
| epivizrChart 1.10.0 | Hector Corrada Bravo |  OK  |  OK  |  OK  |  OK  |   | 
| epivizrData 1.16.0 | Hector Corrada Bravo |  OK  |  OK  |  OK  |  OK  |   | 
| epivizrServer 1.16.0 | Hector Corrada Bravo |  OK  |  OK  |  OK  |  OK  |   | 
| epivizrStandalone 1.16.0 | Hector Corrada Bravo |  OK  |  OK  |  OK  |  OK  |   | 
| erccdashboard 1.22.0 | Sarah Munro |  OK  |  OK  |  OK  |  OK  |   | 
| erma 1.4.0 | VJ Carey |  OK  |  OK  |  OK  |  OK  |   | 
| ERSSA 1.6.0 | Zixuan Shao |  OK  |  OK  |  OK  |  OK  |   | 
| esATAC 1.10.0 | Zheng Wei |  OK  |  OK  |  OK  |  OK  |   | 
| esetVis 1.14.0 | Laure Cougnaud |  OK  |  OK  |  OK  |  OK  |   | 
| eudysbiome 1.18.0 | Xiaoyuan Zhou |  OK  |  OK  |  OK  |  OK  |   | 
| evaluomeR 1.4.0 | José Antonio Bernabé-Díaz |  OK  |  OK  |  OK  |  OK  |   | 
| EventPointer 2.6.0 | Juan Pablo Romero |  OK  |  OK  |  OK  |  OK  |   | 
| ExCluster 1.6.0 | R. Matthew Tanner |  OK  |  OK  |  OK  |  OK  |   | 
| ExiMiR 2.30.0 | Sylvain Gubian |  OK  |  OK  |  OK  |  OK  |   | 
| exomeCopy 1.34.0 | Michael Love |  OK  |  OK  |  OK  |  OK  |   | 
| exomePeak2 1.0.0 | Zhen Wei |  OK  |  OK  |  OK  |  OK  |   | 
| ExperimentHub 1.14.2 | Bioconductor Package Maintainer |  OK  |  OK  |  OK  |  OK  |   | 
| ExperimentHubData 1.14.1 | Bioconductor Package Maintainer |  OK  |  OK  |  OK  |  OK  |   | 
| explorase  |  | ...NOT SUPPORTED... | 
| ExploreModelMatrix 1.0.2 | Charlotte Soneson |  OK  |  OK  |  OK  |  OK  |   | 
| ExpressionAtlas 1.16.0 | Suhaib Mohammed |  OK  |  OK  |  OK  |  OK  |   | 
| ExpressionView 1.40.0 | Gabor Csardi |  OK  |  OK  |  WARNINGS  |  OK  |   | 
 | 
 |  | 
| fabia 2.34.0 | Andreas Mitterecker |  OK  |  OK  |  OK  |  OK  |   | 
| factDesign 1.64.0 | Denise Scholtens |  OK  |  OK  |  OK  |  OK  |   | 
| FamAgg 1.16.0 | Johannes Rainer |  OK  |  OK  |  OK  |  OK  |   | 
| farms 1.40.0 | Djork-Arne Clevert |  OK  |  OK  |  OK  |  OK  |   | 
| fastLiquidAssociation 1.24.0 | Tina Gunderson |  OK  |  OK  |  WARNINGS  |  OK  |   | 
| FastqCleaner 1.6.0 | Leandro Roser |  OK  |  OK  |  OK  |  OK  |   | 
| fastseg 1.34.0 | Guenter Klambauer |  OK  |  OK  |  WARNINGS  |  OK  |   | 
| FCBF 1.6.0 | Tiago Lubiana |  OK  |  OK  |  OK  |  OK  |   | 
| fCCAC 1.14.0 | Pedro Madrigal |  OK  |  OK  |  OK  |  OK  |   | 
| fCI 1.18.0 | Shaojun Tang |  OK  |  OK  |  WARNINGS  |  OK  |   | 
| fcoex 1.2.0 | Tiago Lubiana |  OK  |  OK  |  WARNINGS  |  OK  |   | 
| fcScan 1.2.0 | Pierre Khoueiry  Abdallah El-Kurdi |  OK  |  OK  |  OK  |  OK  |   | 
| fdrame 1.60.0 | Effi Kenigsberg |  OK  |  OK  |  OK  |  OK  |   | 
| FELLA 1.8.0 | Sergio Picart-Armada |  OK  |  OK  |  OK  |  OK  |   | 
FEM 3.16.0 | Zhen Yang |  OK  |  OK  |  ERROR  |  OK  |  | 
| ffpe 1.32.0 | Levi Waldron |  OK  |  OK  |  OK  |  OK  |   | 
| FGNet 3.22.1 | Sara Aibar |  OK  |  OK  |  WARNINGS  |  OK  |   | 
| fgsea 1.14.0 | Alexey Sergushichev |  OK  |  OK  |  OK  |  OK  |   | 
| FindMyFriends 1.18.0 | Thomas Lin Pedersen |  OK  |  OK  |  WARNINGS  |  OK  |   | 
| FISHalyseR 1.22.0 | Karesh Arunakirinathan |  OK  |  OK  |  WARNINGS  |  OK  |   | 
| fishpond 1.4.1 | Michael Love |  OK  |  OK  |  OK  |  OK  |   | 
| FitHiC 1.14.0 | Ruyu Tan |  OK  |  OK  |  OK  |  OK  |   | 
| flagme 1.44.0 | Mark Robinson , Riccardo Romoli |  OK  |  OK  |  WARNINGS  |  OK  |   | 
| flowAI 1.18.5 | Gianni Monaco |  OK  |  OK  |  OK  |  OK  |   | 
| flowBeads 1.26.0 | Nikolas Pontikos |  OK  |  OK  |  WARNINGS  |  OK  |   | 
| flowBin 1.24.0 | Kieran O'Neill |  OK  |  OK  |  OK  |  OK  |   | 
| flowcatchR 1.22.0 | Federico Marini |  OK  |  OK  |  OK  |  OK  |   | 
| flowCHIC 1.22.0 | Author: Joachim Schumann |  OK  |  OK  |  OK  |  OK  |   | 
| flowCL 1.26.0 | Justin Meskas |  OK  |  OK  |  OK  |  OK  |   | 
| flowClean 1.26.0 | Kipper Fletez-Brant |  OK  |  OK  |  WARNINGS  |  OK  |   | 
| flowClust 3.26.0 | Greg Finak , Mike Jiang , Jake Wagner |  OK  |  OK  |  WARNINGS  |  OK  |   | 
| flowCore 2.0.1 | Mike Jiang , Jake Wagner |  OK  |  OK  |  OK  |  OK  |   | 
| flowCyBar 1.24.0 | Joachim Schumann |  OK  |  OK  |  OK  |  OK  |   | 
| flowDensity 1.22.0 | Mehrnoush Malek |  OK  |  OK  |  WARNINGS  |  OK  |   | 
| flowFit 1.26.0 | Davide Rambaldi |  ERROR  |  ERROR  |  skipped  |  skipped  |  | 
| flowFP 1.46.0 | Herb Holyst |  OK  |  OK  |  OK  |  OK  |   | 
| flowMap 1.26.0 | Chiaowen Joyce Hsiao |  OK  |  OK  |  WARNINGS  |  OK  |   | 
| flowMatch 1.24.0 | Ariful Azad |  OK  |  OK  |  OK  |  OK  |   | 
| flowMeans 1.48.0 | Nima Aghaeepour |  OK  |  OK  |  OK  |  OK  |   | 
| flowMerge 2.36.0 | Greg Finak |  OK  |  OK  |  OK  |  OK  |   | 
| flowPeaks 1.34.0 | Yongchao Ge |  OK  |  OK  |  OK  |  OK  |   | 
| flowPloidy 1.14.0 | Tyler Smith |  OK  |  OK  |  OK  |  OK  |   | 
| flowPlots 1.36.0 | N. Hawkins |  OK  |  OK  |  OK  |  OK  |   | 
| FlowRepositoryR 1.20.0 | Josef Spidlen |  OK  |  OK  |  OK  |  OK  |   | 
| FlowSOM 1.20.0 | Sofie Van Gassen |  OK  |  OK  |  WARNINGS  |  OK  |   | 
| flowSpecs 1.2.0 | Jakob Theorell |  OK  |  OK  |  OK  |  OK  |   | 
| flowSpy 1.2.3 | Yuting Dai |  OK  |  OK  |  OK  |  OK  |   | 
| flowStats 4.0.0 | Greg Finak , Mike Jiang , Jake Wagner |  OK  |  OK  |  OK  |  OK  |   | 
| flowTime 1.12.0 | R. Clay Wright |  OK  |  OK  |  OK  |  OK  |   | 
| flowTrans 1.40.0 | Greg Finak |  OK  |  OK  |  OK  |  OK  |   | 
| flowType 2.26.0 | Nima Aghaeepour |  OK  |  OK  |  ERROR  |  OK  |  | 
| flowUtils 1.52.0 | Josef Spidlen |  OK  |  OK  |  WARNINGS  |  OK  |   | 
| flowViz 1.52.0 | Mike Jiang , Jake Wagner |  OK  |  OK  |  OK  |  OK  |   | 
| flowVS 1.20.0 | Ariful Azad |  OK  |  OK  |  ERROR  |  OK  |  | 
| flowWorkspace 4.0.6 | Greg Finak ,Mike Jiang ,Jake Wagner |  OK  |  OK  |  OK  |  OK  |   | 
| fmcsR 1.30.0 | Thomas Girke |  OK  |  OK  |  OK  |  OK  |   | 
| focalCall 1.22.0 | Oscar Krijgsman |  OK  |  OK  |  ERROR  |  OK  |  | 
| FoldGO 1.6.0 | Daniil Wiebe |  OK  |  OK  |  OK  |  OK  |   | 
FourCSeq 1.22.1 | Mike Smith |  OK  |  OK  |  WARNINGS  |  OK  |   | 
| FRASER 1.0.2 | Christian Mertes |  OK  |  OK  |  OK  |  OK  |   | 
| frenchFISH 1.0.0 | Adam Berman |  OK  |  OK  |  OK  |  OK  |   | 
| FRGEpistasis 1.24.0 | Futao Zhang |  OK  |  OK  |  OK  |  OK  |   | 
| frma 1.40.0 | Matthew N. McCall |  OK  |  OK  |  OK  |  OK  |   | 
| frmaTools 1.40.0 | Matthew N. McCall |  OK  |  OK  |  OK  |  OK  |   | 
| FunChIP 1.14.0 | Alice Parodi |  OK  |  OK  |  WARNINGS  |  OK  |   | 
| FunciSNP 1.32.0 | Simon G. Coetzee |  OK  |  OK  |  OK  |  OK  |   | 
| funtooNorm 1.12.0 | Kathleen Klein |  OK  |  OK  |  WARNINGS  |  OK  |   | 
 | 
 |  | 
| GA4GHclient 1.12.0 | Welliton Souza |  OK  |  OK  |  OK  |  OK  |   | 
| GA4GHshiny 1.10.0 | Welliton Souza |  OK  |  OK  |  OK  |  OK  |   | 
| gaga 2.34.0 | David Rossell |  OK  |  OK  |  WARNINGS  |  OK  |   | 
| gage 2.38.3 | Weijun Luo |  OK  |  OK  |  WARNINGS  |  OK  |   | 
| gaggle 1.56.0 | Christopher Bare |  OK  |  OK  |  OK  |  OK  |   | 
| gaia 2.32.0 | S. Morganella |  OK  |  OK  |  OK  |  OK  |   | 
| GAPGOM 1.4.0 | Casper van Mourik |  OK  |  OK  |  OK  |  OK  |   | 
| GAprediction 1.14.0 | Jon Bohlin |  OK  |  OK  |  OK  |  OK  |   | 
| garfield 1.16.0 | Valentina Iotchkova |  OK  |  OK  |  OK  |  OK  |   | 
| GARS 1.8.0 | Mattia Chiesa |  OK  |  OK  |  WARNINGS  |  OK  |   | 
| GateFinder 1.8.0 | Nima Aghaeepour |  OK  |  OK  |  OK  |  OK  |   | 
| gcapc 1.12.0 | Mingxiang Teng |  OK  |  OK  |  OK  |  OK  |   | 
| gcatest 1.18.0 | Wei Hao , John D. Storey |  OK  |  OK  |  OK  |  OK  |   | 
gCMAP 1.32.0 | Thomas Sandmann |  OK  |  OK  |  WARNINGS  |  OK  |   | 
gCMAPWeb 1.28.0 | Thomas Sandmann |  ERROR  |  ERROR  |  skipped  |  skipped  |  | 
| gCrisprTools 1.16.0 | Russell Bainer |  OK  |  OK  |  WARNINGS  |  OK  |   | 
| gcrma 2.60.0 | Z. Wu |  OK  |  OK  |  OK  |  OK  |   | 
| GCSConnection 1.0.1 | Jiefei Wang |  OK  |  OK  |  OK  |  OK  |   | 
| GCSscore 1.2.0 | Guy M. Harris |  OK  |  OK  |  OK  |  OK  |   | 
| GDCRNATools 1.8.0 | Ruidong Li |  OK  |  OK  |  OK  |  OK  |   | 
| GDSArray 1.8.0 | Qian Liu |  OK  |  OK  |  OK  |  OK  |   | 
| gdsfmt 1.24.1 | Xiuwen Zheng |  OK  |  OK  |  OK  |  OK  |   | 
geecc 1.22.0 | Markus Boenn |  OK  |  OK  |  ERROR  |  OK  |  | 
| GEM 1.14.0 | Hong Pan |  OK  |  OK  |  OK  |  OK  |   | 
| gemini 1.2.0 | Sidharth Jain |  OK  |  OK  |  OK  |  OK  |   | 
| genArise 1.64.0 | IFC Development Team |  OK  |  OK  |  WARNINGS  |  OK  |   | 
| genbankr 1.16.0 | Gabriel Becker |  OK  |  OK  |  OK  |  OK  |   | 
| GeneAccord 1.6.0 | Ariane L. Moore |  OK  |  OK  |  OK  |  OK  |   | 
| GeneAnswers 2.30.0 | Lei Huang  and Gang Feng |  OK  |  OK  |  WARNINGS  |  OK  |   | 
| geneAttribution 1.14.0 | Arthur Wuster |  OK  |  OK  |  OK  |  OK  |   | 
| GeneBreak 1.18.0 | Evert van den Broek |  OK  |  OK  |  OK  |  OK  |   | 
| geneClassifiers 1.12.0 | R Kuiper |  OK  |  OK  |  OK  |  OK  |   | 
| GeneExpressionSignature 1.34.0 | Yang Cao , Fei Li |  OK  |  OK  |  WARNINGS  |  OK  |   | 
| genefilter 1.70.0 | Bioconductor Package Maintainer |  OK  |  OK  |  OK  |  OK  |   | 
| genefu 2.20.0 | Benjamin Haibe-Kains |  OK  |  OK  |  OK  |  OK  |   | 
| GeneGA 1.38.0 | Zhenpeng Li |  OK  |  OK  |  OK  |  OK  |   | 
| GeneGeneInteR 1.14.0 | Mathieu Emily , Magalie Houee-Bigot |  OK  |  OK  |  OK  |  OK  |   | 
| GeneMeta 1.60.0 | Bioconductor Package Maintainer |  OK  |  OK  |  OK  |  OK  |   | 
| GeneNetworkBuilder 1.30.0 | Jianhong Ou |  OK  |  OK  |  OK  |  OK  |   | 
| GeneOverlap 1.24.0 | Li Shen, Mount Sinai |  OK  |  OK  |  OK  |  OK  |   | 
| geneplast 1.14.0 | Mauro Castro |  OK  |  OK  |  WARNINGS  |  OK  |   | 
| geneplotter 1.66.0 | Bioconductor Package Maintainer |  OK  |  OK  |  OK  |  OK  |   | 
| geneRecommender 1.60.0 | Greg Hather |  OK  |  OK  |  OK  |  OK  |   | 
| GeneRegionScan 1.44.0 | Lasse Folkersen |  OK  |  OK  |  OK  |  OK  |   | 
| geneRxCluster 1.24.0 | Charles Berry |  OK  |  OK  |  OK  |  OK  |   | 
| GeneSelectMMD 2.32.0 | Weiliang Qiu |  OK  |  OK  |  WARNINGS  |  OK  |   | 
| GENESIS 2.18.0 | Stephanie M. Gogarten |  OK  |  OK  |  OK  |  OK  |   | 
| GeneStructureTools 1.8.0 | Beth Signal |  OK  |  OK  |  OK  |  OK  |   | 
| geNetClassifier 1.28.0 | Sara Aibar |  OK  |  OK  |  OK  |  OK  |   | 
| GeneticsDesign 1.56.0 | The R Genetics Project |  OK  |  OK  |  ERROR  |  OK  |  | 
| GeneticsPed 1.50.0 | David Henderson |  OK  |  OK  |  OK  |  OK  |   | 
| GeneTonic 1.0.1 | Federico Marini |  OK  |  OK  |  OK  |  OK  |   | 
| geneXtendeR 1.14.0 | Bohdan Khomtchouk |  OK  |  OK  |  OK  |  OK  |   | 
| GENIE3 1.10.0 | Van Anh Huynh-Thu |  OK  |  OK  |  OK  |  OK  |   | 
| genoCN 1.40.0 | Wei Sun |  OK  |  OK  |  OK  |  OK  |   | 
| GenoGAM 2.6.0 | Georg Stricker |  OK  |  OK  |  WARNINGS  |  OK  |   | 
| genomation 1.20.0 | Altuna Akalin , Vedran Franke |  OK  |  OK  |  WARNINGS  |  OK  |   | 
| GenomeInfoDb 1.24.2 | Bioconductor Package Maintainer |  OK  |  OK  |  OK  |  OK  |   | 
| genomeIntervals 1.44.2 | Julien Gagneur |  OK  |  OK  |  OK  |  OK  |   | 
| genomes 3.18.0 | Chris Stubben |  OK  |  OK  |  OK  |  OK  |   | 
| GenomicAlignments 1.24.0 | Bioconductor Package Maintainer |  OK  |  OK  |  OK  |  OK  |   | 
| GenomicDataCommons 1.12.0 | Sean Davis |  OK  |  OK  |  WARNINGS  |  OK  |   | 
| GenomicFeatures 1.40.1 | Bioconductor Package Maintainer |  OK  |  OK  |  OK  |  OK  |   | 
| GenomicFiles 1.24.0 | Bioconductor Package Maintainer |  OK  |  OK  |  OK  |  OK  |   | 
| GenomicInteractions 1.22.0 | Liz Ing-Simmons |  OK  |  OK  |  OK  |  OK  |   | 
| GenomicOZone 1.2.0 | Hua Zhong, Mingzhou Song |  OK  |  OK  |  OK  |  OK  |   | 
| GenomicRanges 1.40.0 | Bioconductor Package Maintainer |  OK  |  OK  |  WARNINGS  |  OK  |   | 
| GenomicScores 2.0.0 | Robert Castelo |  OK  |  OK  |  OK  |  OK  |   | 
| GenomicTuples 1.22.1 | Peter Hickey |  OK  |  OK  |  OK  |  OK  |   | 
Genominator 1.42.0 | James Bullard |  ERROR  |  ERROR  |  skipped  |  skipped  |  | 
| genoset 1.44.0 | Peter M. Haverty |  OK  |  OK  |  WARNINGS  |  OK  |   | 
| genotypeeval 1.20.0 | Jennifer Tom |  OK  |  OK  |  OK  |  OK  |   | 
| genphen 1.16.0 | Simo Kitanovski |  OK  |  OK  |  OK  |  OK  |   | 
| GenRank 1.16.0 | Chakravarthi Kanduri |  OK  |  ERROR  |  skipped  |  skipped  |  | 
| GenVisR 1.20.0 | Zachary Skidmore |  OK  |  OK  |  OK  |  OK  |   | 
| GEOmetadb 1.50.0 | Jack Zhu |  OK  |  OK  |  WARNINGS  |  OK  |   | 
| GEOquery 2.56.0 | Sean Davis |  OK  |  OK  |  OK  |  OK  |   | 
| GEOsubmission 1.40.0 | Alexandre Kuhn |  OK  |  OK  |  OK  |  OK  |   | 
| gep2pep 1.8.0 | Francesco Napolitano |  OK  |  OK  |  OK  |  OK  |   | 
| gespeR 1.20.0 | Fabian Schmich |  OK  |  OK  |  WARNINGS  |  OK  |   | 
| GEWIST 1.32.0 | Wei Q. Deng |  OK  |  OK  |  OK  |  OK  |   | 
| GGBase 3.50.0 | VJ Carey |  OK  |  OK  |  OK  |  OK  |   | 
| ggbio 1.36.0 | Michael Lawrence |  OK  |  OK  |  WARNINGS  |  OK  |   | 
| ggcyto 1.16.0 | Mike Jiang ,Jake Wagner |  OK  |  OK  |  OK  |  OK  |   | 
| GGPA 1.0.0 | Dongjun Chung |  OK  |  OK  |  OK  |  OK  |   | 
| GGtools 5.24.0 | VJ Carey |  OK  |  OK  |  ERROR  |  OK  |  | 
| ggtree 2.2.4 | Guangchuang Yu |  OK  |  OK  |  OK  |  OK  |   | 
| GIGSEA 1.6.0 | Shijia Zhu |  OK  |  OK  |  OK  |  OK  |   | 
| girafe 1.40.0 | J. Toedling |  OK  |  OK  |  OK  |  OK  |   | 
| GISPA 1.12.0 | Bhakti Dwivedi |  OK  |  OK  |  OK  |  OK  |   | 
| GLAD 2.52.0 | Philippe Hupe |  OK  |  OK  |  OK  |  OK  |   | 
| GladiaTOX 1.4.0 | PMP S.A. R Support |  OK  |  OK  |  OK  |  OK  |   | 
| Glimma 1.16.0 | Shian Su |  OK  |  OK  |  OK  |  OK  |   | 
| glmGamPoi 1.0.0 | Constantin Ahlmann-Eltze |  OK  |  OK  |  OK  |  OK  |   | 
| glmSparseNet 1.6.0 | André Veríssimo |  OK  |  OK  |  OK  |  OK  |   | 
| GlobalAncova 4.6.0 | Manuela Hummel |  OK  |  OK  |  OK  |  OK  |   | 
| globalSeq 1.16.1 | Armin Rauschenberger |  OK  |  OK  |  OK  |  OK  |   | 
| globaltest 5.42.0 | Jelle Goeman |  OK  |  OK  |  OK  |  OK  |   | 
| gmapR 1.30.0 | Michael Lawrence |  OK  |  OK  |  WARNINGS  |  OK  |   | 
| GmicR 1.2.0 | Richard Virgen-Slane |  OK  |  OK  |  OK  |  OK  |   | 
| gmoviz 1.0.1 | Kathleen Zeglinski |  OK  |  OK  |  OK  |  OK  |   | 
| GMRP 1.16.0 | Yuan-De Tan |  OK  |  OK  |  WARNINGS  |  OK  |   | 
| GNET2 1.4.0 | Chen Chen |  OK  |  OK  |  OK  |  OK  |   | 
| GOexpress 1.22.0 | Kevin Rue-Albrecht |  OK  |  OK  |  OK  |  OK  |   | 
| GOfuncR 1.8.0 | Steffi Grote |  OK  |  OK  |  OK  |  OK  |   | 
| GOFunction 1.36.0 | Jing Wang |  OK  |  ERROR  |  skipped  |  skipped  |  | 
| GOpro 1.14.0 | Lidia Chrabaszcz |  OK  |  OK  |  WARNINGS  |  OK  |   | 
| goProfiles 1.50.0 | Alex Sanchez |  OK  |  OK  |  OK  |  OK  |   | 
| GOSemSim 2.14.2 | Guangchuang Yu |  OK  |  OK  |  OK  |  OK  |   | 
| goseq 1.40.0 | Matthew Young , Nadia Davidson |  OK  |  OK  |  OK  |  OK  |   | 
| GOSim 1.26.0 | Holger Froehlich |  OK  |  OK  |  OK  |  OK  |   | 
| goSTAG 1.12.1 | Brian D. Bennett |  OK  |  OK  |  OK  |  OK  |   | 
| GOstats 2.54.0 | Bioconductor Package Maintainer |  OK  |  OK  |  OK  |  OK  |   | 
| GOsummaries 2.24.0 | Raivo Kolde |  OK  |  OK  |  OK  |  OK  |   | 
| GOTHiC 1.24.0 | Borbala Mifsud |  OK  |  OK  |  OK  |  OK  |   | 
| goTools 1.62.0 | Agnes Paquet |  OK  |  OK  |  OK  |  OK  |   | 
| GPA 1.0.0 | Dongjun Chung |  OK  |  OK  |  OK  |  OK  |   | 
| gpart 1.6.0 | Sun Ah Kim |  OK  |  OK  |  OK  |  OK  |   | 
| gpls 1.60.0 | Bioconductor Package Maintainer |  OK  |  OK  |  WARNINGS  |  OK  |   | 
| gprege 1.32.0 | Alfredo Kalaitzis |  OK  |  OK  |  OK  |  OK  |   | 
| gpuMagic 1.4.0 | Jiefei Wang |  OK  |  OK  |  OK  |  OK  |   | 
| gQTLBase 1.20.4 | VJ Carey |  OK  |  OK  |  OK  |  OK  |   | 
| gQTLstats 1.20.0 | VJ Carey |  OK  |  OK  |  OK  |  OK  |   | 
| gramm4R 1.2.0 | Tianlu Chen |  OK  |  OK  |  OK  |  OK  |   | 
| graper 1.4.0 | Britta Velten |  OK  |  OK  |  OK  |  OK  |   | 
| graph 1.66.0 | Bioconductor Package Maintainer |  OK  |  OK  |  OK  |  OK  |   | 
| GraphAlignment 1.52.0 | Joern P. Meier |  OK  |  OK  |  OK  |  OK  |   | 
| GraphAT 1.60.0 | Thomas LaFramboise |  OK  |  OK  |  OK  |  OK  |   | 
| graphite 1.34.0 | Gabriele Sales |  OK  |  OK  |  OK  |  OK  |   | 
| GraphPAC 1.30.0 | Gregory Ryslik |  OK  |  OK  |  OK  |  OK  |   | 
| GRENITS 1.40.0 | Edward Morrissey |  OK  |  OK  |  OK  |  OK  |   | 
| GreyListChIP 1.20.0 | Gordon Brown |  OK  |  OK  |  OK  |  OK  |   | 
| GRmetrics 1.14.0 | Nicholas Clark , Mario Medvedovic |  OK  |  OK  |  OK  |  OK  |   | 
| groHMM 1.22.0 | Anusha Nagari , Tulip Nandu , W. Lee Kraus |  OK  |  OK  |  OK  |  OK  |   | 
| GRridge 1.12.0 | Mark A. van de Wiel |  OK  |  OK  |  WARNINGS  |  OK  |   | 
| GSALightning 1.16.0 | Billy Heung Wing Chang |  OK  |  OK  |  OK  |  OK  |   | 
| GSAR 1.22.0 | Yasir Rahmatallah , Galina Glazko |  OK  |  OK  |  OK  |  OK  |   | 
| GSCA 2.18.0 | Zhicheng Ji |  OK  |  OK  |  ERROR  |  OK  |  | 
| gscreend 1.2.0 | Katharina Imkeller |  OK  |  OK  |  OK  |  OK  |   | 
| GSEABase 1.50.1 | Bioconductor Package Maintainer |  OK  |  OK  |  OK  |  OK  |   | 
| GSEABenchmarkeR 1.8.0 | Ludwig Geistlinger |  OK  |  OK  |  OK  |  OK  |   | 
| GSEAlm 1.48.0 | Assaf Oron |  OK  |  OK  |  OK  |  OK  |   | 
| gsean 1.8.0 | Dongmin Jung |  OK  |  OK  |  OK  |  OK  |   | 
| GSReg 1.22.0 | Bahman Afsari , Elana J. Fertig |  OK  |  OK  |  WARNINGS  |  OK  |   | 
| GSRI 2.36.0 | Julian Gehring |  OK  |  OK  |  OK  |  OK  |   | 
| GSVA 1.36.3 | Justin Guinney |  OK  |  OK  |  OK  |  OK  |   | 
| gtrellis 1.20.1 | Zuguang Gu |  OK  |  OK  |  OK  |  OK  |   | 
| GUIDEseq 1.18.0 | Lihua Julie Zhu |  OK  |  OK  |  OK  |  OK  |   | 
| Guitar 2.4.0 | Jia Meng |  OK  |  OK  |  OK  |  OK  |   | 
| Gviz 1.32.0 | Robert Ivanek |  OK  |  OK  |  OK  |  OK  |   | 
| gwascat 2.20.1 | VJ Carey |  OK  |  OK  |  OK  |  OK  |   | 
| GWASTools 1.34.0 | Stephanie M. Gogarten |  OK  |  OK  |  OK  |  OK  |   | 
| gwasurvivr 1.6.0 | Abbas Rizvi |  OK  |  OK  |  OK  |  OK  |   | 
 | 
 |  | 
| h5vc 2.22.0 | Paul Theodor Pyl |  OK  |  OK  |  OK  |  OK  |   | 
| hapFabia 1.30.0 | Andreas Mitterecker |  OK  |  OK  |  OK  |  OK  |   | 
| Harman 1.16.0 | Jason Ross |  OK  |  OK  |  OK  |  OK  |   | 
| Harshlight 1.60.0 | Maurizio Pellegrino |  OK  |  OK  |  OK  |  OK  |   | 
| HCABrowser 1.4.0 | Bioconductor Package Maintainer |  OK  |  OK  |  OK  |  OK  |   | 
| HCAExplorer 1.2.0 | Bioconductor Package Maintainer |  OK  |  OK  |  WARNINGS  |  OK  |   | 
| HDF5Array 1.16.1 | Hervé Pagès |  OK  |  OK  |  OK  |  OK  |   | 
| HDTD 1.22.0 | Anestis Touloumis |  OK  |  OK  |  OK  |  OK  |   | 
| heatmaps 1.12.0 | Malcolm Perry |  OK  |  OK  |  OK  |  OK  |   | 
| Heatplus 2.34.0 | Alexander Ploner |  OK  |  OK  |  OK  |  OK  |   | 
| HelloRanges 1.14.0 | Michael Lawrence |  OK  |  OK  |  OK  |  OK  |   | 
| HELP 1.46.0 | Reid F. Thompson |  OK  |  OK  |  OK  |  OK  |   | 
| HEM 1.60.0 | HyungJun Cho |  OK  |  OK  |  OK  |  OK  |   | 
| hiAnnotator 1.22.0 | Nirav V Malani |  OK  |  OK  |  OK  |  OK  |   | 
| HIBAG 1.24.0 | Xiuwen Zheng |  OK  |  OK  |  OK  |  OK  |   | 
| HiCBricks 1.6.0 | Koustav Pal |  OK  |  OK  |  OK  |  OK  |   | 
| HiCcompare 1.10.0 | John Stansfield |  OK  |  OK  |  OK  |  OK  |   | 
| hicrep 1.12.0 | Tao Yang |  ERROR  |  ERROR  |  skipped  |  skipped  |  | 
| hierGWAS 1.18.0 | Laura Buzdugan |  OK  |  OK  |  OK  |  OK  |   | 
| hierinf 1.6.0 | Claude Renaux |  OK  |  OK  |  OK  |  OK  |   | 
| HilbertCurve 1.18.0 | Zuguang Gu |  OK  |  OK  |  OK  |  OK  |   | 
| HilbertVis 1.46.0 | Simon Anders |  OK  |  OK  |  WARNINGS  |  OK  |   | 
| HilbertVisGUI  |  | ...NOT SUPPORTED... | 
| HiLDA 1.2.0 | Zhi Yang |  OK  |  OK  |  OK  |  OK  |   | 
| hipathia 2.4.0 | Marta R. Hidalgo |  OK  |  OK  |  OK  |  OK  |   | 
| HIPPO 1.0.0 | Tae Kim |  OK  |  OK  |  OK  |  OK  |   | 
| hiReadsProcessor 1.24.0 | Nirav V Malani |  OK  |  OK  |  OK  |  OK  |   | 
| HIREewas 1.6.0 | Xiangyu Luo |  OK  |  OK  |  OK  |  OK  |   | 
| HiTC 1.32.0 | Nicolas Servant |  OK  |  OK  |  OK  |  OK  |   | 
| hmdbQuery 1.8.0 | VJ Carey |  OK  |  OK  |  OK  |  OK  |   | 
| HMMcopy 1.30.0 | Daniel Lai , Sohrab Shah |  OK  |  OK  |  OK  |  OK  |   | 
| hopach 2.48.0 | Katherine S. Pollard |  OK  |  OK  |  OK  |  OK  |   | 
| HPAanalyze 1.6.0 | Anh Nhat Tran |  OK  |  OK  |  OK  |  OK  |   | 
| hpar 1.30.0 | Laurent Gatto |  OK  |  OK  |  OK  |  OK  |   | 
| HTqPCR 1.42.0 | Heidi Dvinge |  OK  |  OK  |  OK  |  OK  |   | 
| HTSeqGenie  |  | ...NOT SUPPORTED... | 
| HTSFilter 1.28.0 | Andrea Rau |  OK  |  OK  |  OK  |  OK  |   | 
| HumanTranscriptomeCompendium 1.4.0 | VJ Carey |  OK  |  OK  |  OK  |  OK  |   | 
| HybridMTest 1.32.0 | Demba Fofana |  OK  |  OK  |  OK  |  OK  |   | 
| hypeR 1.4.0 | Anthony Federico |  OK  |  OK  |  WARNINGS  |  OK  |   | 
| hyperdraw 1.40.0 | Paul Murrell |  OK  |  OK  |  OK  |  OK  |   | 
| hypergraph 1.60.0 | Bioconductor Package Maintainer |  OK  |  OK  |  OK  |  OK  |   | 
 | 
 |  | 
| iASeq 1.32.0 | Yingying Wei |  OK  |  OK  |  OK  |  OK  |   | 
| iasva 1.6.0 | Donghyung Lee , Anthony Cheng |  OK  |  OK  |  OK  |  OK  |   | 
| iBBiG 1.32.0 | Aedin Culhane |  OK  |  OK  |  OK  |  OK  |   | 
| ibh 1.36.0 | Kircicegi Korkmaz |  OK  |  OK  |  OK  |  OK  |   | 
| iBMQ  |  | ...NOT SUPPORTED... | 
| iCARE 1.16.0 | Bill Wheeler |  OK  |  OK  |  WARNINGS  |  OK  |   | 
| Icens 1.60.0 | Bioconductor Package Maintainer |  OK  |  OK  |  OK  |  OK  |   | 
| icetea 1.6.1 | Vivek Bhardwaj |  OK  |  OK  |  OK  |  OK  |   | 
| iCheck 1.18.0 | Weiliang Qiu |  OK  |  OK  |  WARNINGS  |  OK  |   | 
| iChip 1.42.0 | Qianxing Mo |  OK  |  OK  |  OK  |  OK  |   | 
| iClusterPlus 1.24.0 | Qianxing Mo , Ronglai Shen |  OK  |  OK  |  WARNINGS  |  OK  |   | 
| iCNV 1.8.0 | Zilu Zhou |  OK  |  OK  |  WARNINGS  |  OK  |   | 
| iCOBRA 1.16.0 | Charlotte Soneson |  OK  |  OK  |  OK  |  OK  |   | 
| ideal 1.12.1 | Federico Marini |  OK  |  OK  |  OK  |  OK  |   | 
| IdeoViz 1.24.0 | Shraddha Pai |  OK  |  OK  |  WARNINGS  |  OK  |   | 
| idiogram 1.64.0 | Karl J. Dykema |  OK  |  OK  |  OK  |  OK  |   | 
IdMappingAnalysis 1.32.0 | Alex Lisovich , Roger Day |  ERROR  |  ERROR  |  skipped  |  skipped  |  | 
IdMappingRetrieval 1.36.0 | Alex Lisovich , Roger Day |  OK  |  OK  |  ERROR  |  OK  |  | 
| idr2d 1.2.2 | Konstantin Krismer |  OK  |  OK  |  OK  |  OK  |   | 
| iGC 1.18.0 | Liang-Bo Wang |  OK  |  OK  |  OK  |  OK  |   | 
| IgGeneUsage 1.2.2 | Simo Kitanovski |  OK  |  OK  |  OK  |  OK  |   | 
| igvR 1.8.2 | Paul Shannon |  OK  |  OK  |  WARNINGS  |  OK  |   | 
| IHW 1.16.0 | Nikos Ignatiadis |  OK  |  OK  |  OK  |  OK  |   | 
| illuminaio 0.30.0 | Kasper Daniel Hansen |  OK  |  OK  |  OK  |  OK  |   | 
| imageHTS 1.38.0 | Joseph Barry |  OK  |  OK  |  OK  |  OK  |   | 
| IMAS 1.12.0 | Seonggyun Han |  OK  |  OK  |  OK  |  OK  |   | 
| Imetagene 1.18.0 | Audrey Lemacon |  ERROR  |  ERROR  |  skipped  |  skipped  |  | 
| IMMAN 1.8.2 | Minoo Ashtiani |  OK  |  ERROR  |  skipped  |  skipped  |  | 
| ImmuneSpaceR 1.16.0 | ImmuneSpace Package Maintainer |  OK  |  OK  |  OK  |  OK  |   | 
| immunoClust 1.20.1 | Till Soerensen |  OK  |  OK  |  WARNINGS  |  OK  |   | 
| IMPCdata 1.24.0 | Jeremy Mason |  OK  |  OK  |  OK  |  OK  |   | 
| ImpulseDE 1.14.0 | Jil Sander , Nir Yosef |  OK  |  OK  |  ERROR  |  OK  |  | 
| ImpulseDE2 1.12.0 | David S Fischer |  OK  |  OK  |  ERROR  |  OK  |  | 
| impute 1.62.0 | Balasubramanian Narasimhan |  OK  |  OK  |  OK  |  OK  |   | 
| INDEED 2.2.0 | Ressom group |  OK  |  OK  |  OK  |  OK  |   | 
| infercnv 1.4.0 | Christophe Georgescu |  OK  |  OK  |  OK  |  OK  |   | 
| InPAS 1.20.0 | Jianhong Ou |  OK  |  OK  |  OK  |  OK  |   | 
| INPower 1.24.0 | Bill Wheeler |  OK  |  OK  |  OK  |  OK  |   | 
| INSPEcT 1.18.1 | Stefano de Pretis |  OK  |  OK  |  OK  |  OK  |   | 
| InTAD 1.8.0 | Konstantin Okonechnikov |  OK  |  OK  |  OK  |  OK  |   | 
| intansv 1.28.0 | Wen Yao |  OK  |  OK  |  OK  |  OK  |   | 
| InteractionSet 1.16.0 | Aaron Lun |  OK  |  OK  |  OK  |  OK  |   | 
| interactiveDisplay 1.26.0 | Shawn Balcome |  OK  |  OK  |  WARNINGS  |  OK  |   | 
| interactiveDisplayBase 1.26.3 | Shawn Balcome |  OK  |  OK  |  OK  |  OK  |   | 
| IntEREst 1.12.0 | Ali Oghabian , Mikko Frilander |  OK  |  OK  |  OK  |  OK  |   | 
| InterMineR 1.10.0 | InterMine Team |  OK  |  OK  |  WARNINGS  |  OK  |   | 
| IntramiRExploreR 1.10.0 | Surajit Bhattacharya |  OK  |  OK  |  OK  |  OK  |   | 
| inveRsion 1.36.0 | Alejandro Caceres |  OK  |  OK  |  OK  |  OK  |   | 
| IONiseR 2.12.0 | Mike Smith |  OK  |  OK  |  OK  |  OK  |   | 
| iPAC 1.32.0 | Gregory Ryslik |  OK  |  OK  |  OK  |  OK  |   | 
| ipdDb 1.6.0 | Steffen Klasberg |  OK  |  OK  |  OK  |  OK  |   | 
| IPO 1.14.0 | Thomas Riebenbauer |  OK  |  OK  |  OK  |  OK  |   | 
IPPD 1.36.0 | Martin Slawski |  OK  |  OK  |  ERROR  |  OK  |  | 
| IRanges 2.22.2 | Bioconductor Package Maintainer |  OK  |  OK  |  WARNINGS  |  OK  |   | 
| iSEE 2.0.0 | Charlotte Soneson |  OK  |  OK  |  WARNINGS  |  OK  |   | 
| iSEEu 1.0.1 | Kevin Rue-Albrecht |  OK  |  OK  |  OK  |  OK  |   | 
| iSeq 1.40.0 | Qianxing Mo |  OK  |  OK  |  OK  |  OK  |   | 
| isobar 1.34.0 | Florian P Breitwieser |  OK  |  OK  |  WARNINGS  |  OK  |   | 
| IsoCorrectoR 1.6.2 | Christian Kohler |  OK  |  OK  |  OK  |  OK  |   | 
| IsoCorrectoRGUI 1.4.0 | Christian Kohler |  OK  |  OK  |  OK  |  OK  |   | 
| IsoformSwitchAnalyzeR 1.10.0 | Kristoffer Vitting-Seerup |  OK  |  OK  |  OK  |  OK  |   | 
| IsoGeneGUI 2.24.0 | Setia Pramana |  OK  |  OK  |  OK  |  OK  |   | 
| ISoLDE 1.16.0 | Christelle Reynès |  OK  |  OK  |  ERROR  |  OK  |  | 
| isomiRs 1.16.2 | Lorena Pantano |  OK  |  OK  |  OK  |  OK  |   | 
| ITALICS 2.48.0 | Guillem Rigaill |  OK  |  OK  |  OK  |  OK  |   | 
| iterativeBMA 1.46.0 | Ka Yee Yeung |  OK  |  OK  |  OK  |  OK  |   | 
| iterativeBMAsurv 1.46.0 | Ka Yee Yeung |  OK  |  OK  |  OK  |  OK  |   | 
| iterClust 1.10.0 | Hongxu Ding |  OK  |  OK  |  OK  |  OK  |   | 
| iteremoval 1.8.0 | Jiacheng Chuan |  OK  |  OK  |  OK  |  OK  |   | 
| IVAS 2.8.0 | Seonggyun Han |  OK  |  OK  |  WARNINGS  |  OK  |   | 
| ivygapSE 1.10.0 | VJ Carey |  OK  |  OK  |  OK  |  OK  |   | 
| IWTomics 1.12.0 | Marzia A Cremona |  OK  |  OK  |  WARNINGS  |  OK  |   | 
 | 
 |  | 
| joda 1.36.0 | Ewa Szczurek |  OK  |  OK  |  ERROR  |  OK  |  | 
| JunctionSeq 1.18.0 | Stephen Hartley |  OK  |  OK  |  ERROR  |  OK  |  | 
 | 
 |  | 
| karyoploteR 1.14.1 | Bernat Gel |  OK  |  OK  |  OK  |  OK  |   | 
| KCsmart 2.46.0 | Jorma de Ronde |  OK  |  OK  |  WARNINGS  |  OK  |   | 
| kebabs 1.22.0 | Ulrich Bodenhofer |  OK  |  OK  |  WARNINGS  |  OK  |   | 
| KEGGgraph 1.48.0 | Jitao David Zhang |  OK  |  OK  |  OK  |  OK  |   | 
| KEGGlincs 1.14.0 | Shana White , Mario Medvedovic |  OK  |  OK  |  OK  |  OK  |   | 
| keggorthology 2.40.0 | VJ Carey |  OK  |  OK  |  OK  |  OK  |   | 
| KEGGprofile 1.30.0 | Shilin Zhao |  OK  |  OK  |  OK  |  OK  |   | 
| KEGGREST 1.28.0 | Bioconductor Package Maintainer |  OK  |  OK  |  OK  |  OK  |   | 
kimod 1.16.0 | M L Zingaretti |  OK  |  OK  |  ERROR  |  OK  |  | 
| KinSwingR 1.6.0 | Ashley J. Waardenberg |  OK  |  OK  |  OK  |  OK  |   | 
| kissDE 1.8.0 | Aurélie Siberchicot |  OK  |  OK  |  OK  |  OK  |   | 
| KnowSeq 1.2.2 | Daniel Castillo-Secilla |  OK  |  OK  |  OK  |  OK  |   | 
 | 
 |  | 
| LACE 1.0.0 | Davide Maspero |  OK  |  OK  |  OK  |  OK  |   | 
| lapmix 1.54.0 | Yann Ruffieux |  OK  |  OK  |  OK  |  OK  |   | 
| LBE 1.56.0 | Cyril Dalmasso |  OK  |  OK  |  OK  |  OK  |   | 
| ldblock 1.18.0 | VJ Carey |  OK  |  OK  |  OK  |  OK  |   | 
| LEA 3.0.0 | Olivier Francois |  OK  |  OK  |  OK  |  OK  |   | 
| LedPred 1.22.0 | Aitor Gonzalez |  OK  |  OK  |  OK  |  OK  |   | 
| les 1.38.0 | Julian Gehring |  OK  |  OK  |  OK  |  OK  |   | 
| levi 1.6.0 | Jose Luiz Rybarczyk Filho |  OK  |  OK  |  OK  |  OK  |   | 
| lfa 1.18.0 | Wei Hao , John D. Storey |  OK  |  OK  |  WARNINGS  |  OK  |   | 
| limma 3.44.3 | Gordon Smyth |  OK  |  OK  |  OK  |  OK  |   | 
| limmaGUI 1.64.0 | Gordon Smyth |  OK  |  OK  |  OK  |  OK  |   | 
| LINC 1.16.0 | Manuel Goepferich |  OK  |  OK  |  ERROR  |  OK  |  | 
| LineagePulse 1.8.0 | David S Fischer |  OK  |  OK  |  WARNINGS  |  OK  |   | 
| LinkHD 1.2.0 | "Laura M Zingaretti" |  OK  |  OK  |  OK  |  OK  |   | 
| Linnorm 2.12.0 | Ken Shun Hang Yip |  OK  |  OK  |  OK  |  OK  |   | 
| lionessR 1.2.0 | Ping-Han Hsieh |  OK  |  OK  |  OK  |  OK  |   | 
| lipidr 2.2.0 | Ahmed Mohamed |  OK  |  OK  |  OK  |  OK  |   | 
| LiquidAssociation 1.42.0 | Yen-Yi Ho |  OK  |  OK  |  OK  |  OK  |   | 
| lmdme 1.30.0 | Cristobal Fresno |  OK  |  OK  |  WARNINGS  |  OK  |   | 
LMGene 2.44.0 | Blythe Durbin-Johnson |  OK  |  OK  |  ERROR  |  OK  |  | 
| LOBSTAHS 1.14.0 | James Collins |  OK  |  OK  |  WARNINGS  |  OK  |   | 
| loci2path 1.8.0 | Tianlei Xu |  OK  |  OK  |  OK  |  OK  |   | 
| logicFS 2.8.0 | Holger Schwender |  OK  |  OK  |  OK  |  OK  |   | 
| logitT 1.46.0 | Tobias Guennel |  OK  |  OK  |  OK  |  OK  |   | 
| Logolas 1.12.0 | Kushal Dey |  OK  |  OK  |  ERROR  |  OK  |  | 
lol 1.36.0 | Yinyin Yuan |  OK  |  ERROR  |  skipped  |  skipped  |  | 
| LOLA 1.18.1 | Nathan Sheffield |  OK  |  OK  |  OK  |  OK  |   | 
| LoomExperiment 1.6.0 | Bioconductor Package Maintainer |  OK  |  OK  |  OK  |  OK  |   | 
| LowMACA 1.18.0 | Stefano de Pretis , Giorgio Melloni |  OK  |  OK  |  OK  |  OK  |   | 
| LPE 1.62.0 | Nitin Jain |  OK  |  OK  |  OK  |  OK  |   | 
| LPEadj 1.48.0 | Carl Murie |  OK  |  OK  |  OK  |  OK  |   | 
| lpNet 2.20.0 | Lars Kaderali |  OK  |  OK  |  WARNINGS  |  OK  |   | 
| lpsymphony 1.16.0 | Vladislav Kim |  OK  |  OK  |  OK  |  OK  |   | 
| LRBaseDbi 1.6.0 | Koki Tsuyuzaki |  OK  |  OK  |  OK  |  OK  |   | 
| lumi 2.40.0 | Lei Huang |  OK  |  OK  |  WARNINGS  |  OK  |   | 
LVSmiRNA 1.38.0 | Stefano Calza |  OK  |  ERROR  |  skipped  |  skipped  |  | 
| LymphoSeq 1.16.0 | David Coffey |  OK  |  OK  |  OK  |  OK  |   | 
 | 
 |  | 
| M3C 1.10.0 | Christopher John |  OK  |  OK  |  OK  |  OK  |   | 
M3D 1.22.0 | Tom Mayo |  OK  |  OK  |  WARNINGS  |  OK  |   | 
| M3Drop 1.14.0 | Tallulah Andrews |  OK  |  OK  |  OK  |  OK  |   | 
| maanova 1.58.0 | Keith Sheppard |  OK  |  OK  |  WARNINGS  |  OK  |   | 
| Maaslin2 1.2.0 | Lauren McIver |  OK  |  OK  |  OK  |  OK  |   | 
| macat 1.62.0 | Joern Toedling |  OK  |  OK  |  OK  |  OK  |   | 
| maCorrPlot 1.58.0 | Alexander Ploner |  OK  |  OK  |  OK  |  OK  |   | 
| MACPET 1.8.0 | Ioannis Vardaxis |  OK  |  OK  |  OK  |  OK  |   | 
| MACSQuantifyR 1.2.0 | Raphaël Bonnet |  OK  |  OK  |  OK  |  OK  |   | 
| made4 1.62.0 | Aedin Culhane |  OK  |  OK  |  ERROR  |  OK  |  | 
| MADSEQ 1.14.0 | Yu Kong |  OK  |  OK  |  OK  |  OK  |   | 
| maftools 2.4.12 | Anand Mayakonda |  OK  |  OK  |  OK  |  OK  |   | 
| MAGeCKFlute 1.8.0 | Wubing Zhang |  OK  |  ERROR  |  skipped  |  skipped  |  | 
| maigesPack 1.52.0 | Gustavo H. Esteves |  OK  |  OK  |  OK  |  OK  |   | 
| MAIT 1.22.1 | Pol Sola-Santos |  OK  |  OK  |  OK  |  OK  |   | 
| makecdfenv 1.64.0 | James W. MacDonald |  OK  |  OK  |  OK  |  OK  |   | 
| MANOR 1.60.0 | Pierre Neuvial |  OK  |  OK  |  OK  |  OK  |   | 
manta 1.34.0 | Chris Berthiaume , Adrian Marchetti |  OK  |  ERROR  |  skipped  |  skipped  |  | 
| MantelCorr 1.58.0 | Brian Steinmeyer |  OK  |  OK  |  OK  |  OK  |   | 
| mAPKL 1.18.0 | Argiris Sakellariou |  OK  |  OK  |  WARNINGS  |  OK  |   | 
| maPredictDSC 1.26.0 | Adi Laurentiu Tarca |  OK  |  OK  |  OK  |  OK  |   | 
| mapscape 1.12.0 | Maia Smith |  OK  |  OK  |  WARNINGS  |  OK  |   | 
| marray 1.66.0 | Yee Hwa (Jean) Yang |  OK  |  OK  |  OK  |  OK  |   | 
| martini 1.8.0 | Hector Climente-Gonzalez |  OK  |  OK  |  OK  |  OK  |   | 
| maser 1.6.0 | Diogo F.T. Veiga |  OK  |  OK  |  OK  |  OK  |   | 
| maSigPro 1.60.0 | Maria Jose Nueda |  OK  |  OK  |  OK  |  OK  |   | 
| maskBAD 1.32.0 | Michael Dannemann |  OK  |  OK  |  OK  |  OK  |   | 
| MassArray 1.40.0 | Reid F. Thompson |  OK  |  OK  |  OK  |  OK  |   | 
| massiR 1.24.0 | Sam Buckberry |  OK  |  OK  |  OK  |  OK  |   | 
| MassSpecWavelet 1.54.0 | Pan Du |  OK  |  OK  |  OK  |  OK  |   | 
| MAST 1.14.0 | Andrew McDavid |  OK  |  OK  |  OK  |  OK  |   | 
| matchBox 1.30.0 | Luigi Marchionni , Anuj Gupta |  OK  |  OK  |  OK  |  OK  |   | 
| MatrixGenerics 1.0.2 | Peter Hickey |  OK  |  OK  |  OK  |  OK  |   | 
| MatrixRider 1.20.0 | Elena Grassi |  OK  |  OK  |  OK  |  OK  |   | 
| matter 1.14.0 | Kylie A. Bemis |  OK  |  OK  |  OK  |  OK  |   | 
MaxContrastProjection 1.12.0 | Jan Sauer |  OK  |  OK  |  ERROR  |  OK  |  | 
| MBAmethyl 1.22.0 | Tao Wang |  OK  |  OK  |  OK  |  OK  |   | 
| MBASED 1.22.0 | Oleg Mayba |  OK  |  OK  |  OK  |  OK  |   | 
| MBCB 1.42.0 | Jeff Allen |  OK  |  OK  |  OK  |  OK  |   | 
| mbkmeans 1.4.1 | Davide Risso |  OK  |  OK  |  OK  |  OK  |   | 
| mBPCR 1.42.0 | P.M.V. Rancoita |  OK  |  OK  |  OK  |  OK  |   | 
| MBQN 2.0.3 | Ariane Schad |  OK  |  OK  |  OK  |  OK  |   | 
| MBttest 1.16.0 | Yuan-De Tan |  OK  |  OK  |  OK  |  OK  |   | 
| mcaGUI 1.36.0 | Wade K. Copeland |  ERROR  |  OK  |  ERROR  |  ERROR  |  | 
| MCbiclust 1.12.0 | Robert Bentham |  OK  |  OK  |  OK  |  OK  |   | 
MCRestimate 2.44.0 | Marc Johannes |  OK  |  ERROR  |  skipped  |  skipped  |  | 
| mCSEA 1.8.0 | Jordi Martorell-Marugán |  OK  |  OK  |  OK  |  OK  |   | 
| mdgsa 1.20.0 | David Montaner |  OK  |  OK  |  OK  |  OK  |   | 
| mdp 1.8.0 | Helder Nakaya |  OK  |  OK  |  OK  |  OK  |   | 
| mdqc 1.50.0 | Gabriela Cohen-Freue |  OK  |  OK  |  OK  |  OK  |   | 
| MDTS 1.8.0 | Jack M.. Fu |  OK  |  OK  |  OK  |  OK  |   | 
| MEAL 1.18.0 | Carlos Ruiz-Arenas |  OK  |  OK  |  WARNINGS  |  OK  |   | 
| MeasurementError.cor 1.60.0 | Beiying Ding |  OK  |  OK  |  OK  |  OK  |   | 
| MEAT 1.0.4 | Sarah Voisin |  OK  |  OK  |  OK  |  OK  |   | 
| MEB 1.2.0 | Jiadi Zhu |  OK  |  OK  |  OK  |  OK  |   | 
| MEDIPS 1.40.0 | Lukas Chavez |  OK  |  OK  |  OK  |  OK  |   | 
| MEDME 1.48.0 | Mattia Pelizzola |  OK  |  OK  |  WARNINGS  |  OK  |   | 
| MEIGOR 1.22.0 | Jose A. Egea |  OK  |  OK  |  WARNINGS  |  OK  |   | 
| Melissa 1.4.1 | C. A. Kapourani |  OK  |  OK  |  OK  |  OK  |   | 
MergeMaid 2.60.0 | Xiaogang Zhong |  OK  |  OK  |  ERROR  |  OK  |  | 
| Mergeomics 1.16.0 | Zeyneb Kurt |  OK  |  OK  |  OK  |  OK  |   | 
| MeSHDbi 1.24.0 | Koki Tsuyuzaki |  OK  |  OK  |  OK  |  OK  |   | 
| meshes 1.14.0 | Guangchuang Yu |  OK  |  OK  |  OK  |  OK  |   | 
| meshr 1.24.1 | Koki Tsuyuzaki |  OK  |  OK  |  OK  |  OK  |   | 
| messina 1.24.0 | Mark Pinese |  OK  |  OK  |  OK  |  OK  |   | 
| metaArray 1.66.0 | Hyungwon Choi |  OK  |  OK  |  WARNINGS  |  OK  |   | 
| Metab 1.22.0 | Raphael Aggio |  OK  |  OK  |  OK  |  OK  |   | 
| metabomxtr 1.22.0 | Michael Nodzenski |  OK  |  OK  |  OK  |  OK  |   | 
| MetaboSignal 1.18.0 | Andrea Rodriguez-Martinez |  OK  |  OK  |  OK  |  OK  |   | 
| metaCCA 1.16.0 | Anna Cichonska |  OK  |  OK  |  WARNINGS  |  OK  |   | 
| MetaCyto 1.10.0 | Zicheng Hu |  OK  |  OK  |  OK  |  OK  |   | 
| metagene 2.20.0 | Charles Joly Beauparlant |  OK  |  OK  |  OK  |  OK  |   | 
| metagene2 1.4.0 | Eric Fournier |  OK  |  OK  |  OK  |  OK  |   | 
| metagenomeFeatures 2.8.0 | Nathan D. Olson |  OK  |  OK  |  OK  |  OK  |   | 
| metagenomeSeq 1.30.0 | Joseph N. Paulson |  OK  |  OK  |  OK  |  OK  |   | 
| metahdep 1.46.0 | John R. Stevens |  OK  |  OK  |  WARNINGS  |  OK  |   | 
| metaMS 1.24.0 | Yann Guitton |  OK  |  OK  |  OK  |  OK  |   | 
| MetaNeighbor 1.8.0 | Manthan Shah |  OK  |  OK  |  OK  |  OK  |   | 
| metaSeq 1.28.0 | Koki Tsuyuzaki |  OK  |  OK  |  OK  |  OK  |   | 
| metaseqR 1.28.0 | Panagiotis Moulos |  OK  |  OK  |  WARNINGS  |  OK  |   | 
| metaseqR2 1.0.11 | Panagiotis Moulos |  OK  |  OK  |  OK  |  OK  |   | 
| metavizr 1.12.0 | Hector Corrada Bravo |  OK  |  OK  |  OK  |  OK  |   | 
| MetaVolcanoR 1.2.0 | Cesar Prada |  OK  |  OK  |  OK  |  OK  |   | 
| MetCirc 1.18.0 | Thomas Naake |  OK  |  OK  |  OK  |  OK  |   | 
| MethCP 1.2.0 | Boying Gong |  OK  |  OK  |  OK  |  OK  |   | 
| methimpute 1.10.0 | Aaron Taudt |  OK  |  OK  |  OK  |  OK  |   | 
| methInheritSim 1.10.0 | Pascal Belleau |  OK  |  OK  |  OK  |  OK  |   | 
| MethPed 1.16.0 | Helena Carén |  OK  |  OK  |  OK  |  OK  |   | 
| methrix 1.2.06 | Anand Mayakonda |  OK  |  OK  |  OK  |  OK  |   | 
| MethTargetedNGS 1.20.0 | Muhammad Ahmer Jamil |  OK  |  OK  |  OK  |  OK  |   | 
| methVisual 1.40.0 | Arie Zackay |  OK  |  OK  |  ERROR  |  OK  |  | 
| methyAnalysis 1.30.0 | Lei Huang |  OK  |  OK  |  WARNINGS  |  OK  |   | 
| MethylAid 1.22.0 | L.J.Sinke |  OK  |  OK  |  OK  |  OK  |   | 
| methylCC 1.2.0 | Stephanie C. Hicks |  OK  |  OK  |  OK  |  OK  |   | 
| methylGSA 1.6.1 | Xu Ren |  OK  |  OK  |  OK  |  OK  |   | 
| methylInheritance 1.12.0 | Astrid Deschenes |  OK  |  OK  |  OK  |  OK  |   | 
| methylKit 1.14.2 | Altuna Akalin , Alexander Gosdschan |  OK  |  OK  |  OK  |  OK  |   | 
| MethylMix 2.18.0 | Olivier Gevaert |  OK  |  OK  |  OK  |  OK  |   | 
| methylMnM 1.26.0 | Yan Zhou |  OK  |  OK  |  OK  |  OK  |   | 
| methylPipe 1.22.0 | Kamal Kishore |  OK  |  OK  |  WARNINGS  |  OK  |   | 
| MethylSeekR 1.28.0 | Lukas Burger |  OK  |  OK  |  OK  |  OK  |   | 
| methylSig 1.0.0 | Raymond G. Cavalcante |  OK  |  OK  |  OK  |  OK  |   | 
| methylumi 2.34.0 | Sean Davis |  OK  |  OK  |  WARNINGS  |  OK  |   | 
| methyvim 1.10.0 | Nima Hejazi |  OK  |  ERROR  |  skipped  |  skipped  |  | 
| MetID 1.6.0 | Zhenzhi Li |  OK  |  OK  |  OK  |  OK  |   | 
| MetNet 1.6.0 | Thomas Naake |  OK  |  OK  |  OK  |  OK  |   | 
| mfa 1.10.0 | Kieran Campbell |  OK  |  OK  |  OK  |  OK  |   | 
| Mfuzz 2.48.0 | Matthias Futschik |  OK  |  OK  |  OK  |  OK  |   | 
| MGFM 1.22.0 | Khadija El Amrani |  OK  |  OK  |  OK  |  OK  |   | 
| MGFR 1.14.0 | Khadija El Amrani |  OK  |  OK  |  OK  |  OK  |   | 
| mgsa 1.36.0 | Sebastian Bauer |  OK  |  OK  |  OK  |  OK  |   | 
| MiChip 1.42.0 | Jonathon Blake |  OK  |  OK  |  OK  |  OK  |   | 
| microbiome 1.10.0 | Leo Lahti |  OK  |  OK  |  OK  |  OK  |   | 
| microbiomeDASim 1.2.0 | Justin Williams |  OK  |  OK  |  OK  |  OK  |   | 
| MicrobiotaProcess 1.0.5 | Shuangbin Xu |  OK  |  OK  |  OK  |  OK  |   | 
| microRNA 1.46.0 | "James F. Reid" |  OK  |  OK  |  OK  |  OK  |   | 
| MIGSA 1.12.0 | Juan C. Rodriguez |  OK  |  OK  |  OK  |  OK  |   | 
| mimager 1.12.0 | Aaron Wolen |  OK  |  OK  |  OK  |  OK  |   | 
| MIMOSA 1.26.0 | Greg Finak |  OK  |  OK  |  OK  |  OK  |   | 
| MineICA 1.28.0 | Anne Biton |  OK  |  OK  |  WARNINGS  |  OK  |   | 
| minet 3.46.0 | Patrick E. Meyer |  OK  |  OK  |  OK  |  OK  |   | 
| minfi 1.34.0 | Kasper Daniel Hansen |  OK  |  OK  |  OK  |  OK  |   | 
| MinimumDistance 1.32.0 | Robert B Scharpf |  OK  |  OK  |  WARNINGS  |  OK  |   | 
| MiPP 1.60.0 | Sukwoo Kim |  OK  |  OK  |  OK  |  OK  |   | 
| MIRA 1.10.0 | John Lawson |  OK  |  OK  |  OK  |  OK  |   | 
| MiRaGE 1.30.0 | Y-h. Taguchi |  OK  |  OK  |  OK  |  OK  |   | 
| miRBaseConverter 1.12.0 | Taosheng Xu |  OK  |  OK  |  OK  |  OK  |   | 
| miRcomp 1.18.0 | Matthew N. McCall |  OK  |  OK  |  WARNINGS  |  OK  |   | 
| mirIntegrator 1.18.0 | Diana Diaz |  OK  |  OK  |  OK  |  OK  |   | 
| miRLAB 1.18.0 | Thuc Duy Le |  OK  |  OK  |  OK  |  OK  |   | 
| miRmine 1.10.0 | Dusan Randjelovic |  OK  |  OK  |  OK  |  OK  |   | 
| miRNAmeConverter 1.16.0 | Stefan J. Haunsberger |  OK  |  OK  |  WARNINGS  |  OK  |   | 
| miRNApath 1.48.0 | James M. Ward |  OK  |  OK  |  OK  |  OK  |   | 
| miRNAtap 1.22.0 | T. Ian Simpson |  OK  |  OK  |  OK  |  OK  |   | 
| miRSM 1.6.4 | Junpeng Zhang |  OK  |  OK  |  OK  |  OK  |   | 
| miRspongeR 1.14.0 | Junpeng Zhang |  OK  |  OK  |  OK  |  OK  |   | 
| Mirsynergy 1.24.0 | Yue Li |  OK  |  OK  |  ERROR  |  OK  |  | 
| missMethyl 1.22.0 | Belinda Phipson |  OK  |  OK  |  OK  |  OK  |   | 
| missRows 1.8.0 | Gonzalez Ignacio |  OK  |  OK  |  OK  |  OK  |   | 
| mitch 1.0.10 | Mark Ziemann |  OK  |  OK  |  OK  |  OK  |   | 
mitoODE 1.26.1 | Gregoire Pau |  OK  |  OK  |  WARNINGS  |  OK  |   | 
| mixOmics 6.12.2 | Kim-Anh Le Cao |  OK  |  OK  |  OK  |  OK  |   | 
| MLInterfaces 1.68.0 | V. Carey |  OK  |  OK  |  OK  |  OK  |   | 
| MLP 1.36.0 | Tobias Verbeke |  OK  |  OK  |  OK  |  OK  |   | 
| MLSeq 2.6.0 | Gokmen Zararsiz |  OK  |  OK  |  OK  |  OK  |   | 
| MMAPPR2 1.2.0 | Jonathon Hill |  OK  |  OK  |  OK  |  OK  |   | 
| MMDiff2 1.16.0 | Gabriele Schweikert |  OK  |  OK  |  OK  |  OK  |   | 
| MmPalateMiRNA 1.38.0 | Guy Brock |  OK  |  OK  |  ERROR  |  OK  |  | 
| MMUPHin 1.2.0 | Siyuan MA |  OK  |  ERROR  |  skipped  |  skipped  |  | 
| mnem 1.4.5 | Martin Pirkl |  OK  |  OK  |  OK  |  OK  |   | 
| MODA 1.14.0 | Dong Li |  OK  |  OK  |  OK  |  OK  |   | 
| Modstrings 1.4.1 | Felix G.M. Ernst |  OK  |  OK  |  OK  |  OK  |   | 
| MOFA 1.4.0 | Britta Velten |  OK  |  OK  |  OK  |  OK  |   | 
| mogsa 1.22.1 | Chen Meng |  OK  |  OK  |  OK  |  OK  |   | 
| MOMA 1.0.2 | Sunny Jones |  OK  |  OK  |  OK  |  OK  |   | 
| monocle 2.16.0 | Cole Trapnell |  OK  |  OK  |  OK  |  OK  |   | 
| MoonlightR 1.14.1 | Antonio Colaprico |  OK  |  OK  |  WARNINGS  |  OK  |   | 
MoPS 1.22.0 | Philipp Eser |  OK  |  ERROR  |  skipped  |  skipped  |  | 
| mosaics 2.26.0 | Dongjun Chung |  OK  |  OK  |  OK  |  OK  |   | 
| MOSim 1.2.0 | Carlos Martínez |  OK  |  OK  |  OK  |  OK  |   | 
| motifbreakR 2.2.0 | Simon Gert Coetzee |  OK  |  OK  |  WARNINGS  |  OK  |   | 
| motifcounter 1.12.0 | Wolfgang Kopp |  OK  |  OK  |  OK  |  OK  |   | 
| MotifDb 1.30.0 | Paul Shannon |  OK  |  OK  |  WARNINGS  |  OK  |   | 
| motifmatchr 1.10.0 | Alicia Schep |  OK  |  OK  |  OK  |  OK  |   | 
motifRG 1.32.0 | Zizhen Yao |  OK  |  ERROR  |  skipped  |  skipped  |  | 
| motifStack 1.32.1 | Jianhong Ou |  OK  |  OK  |  OK  |  OK  |   | 
| MotIV 1.44.0 | Eloi Mercier , Raphael Gottardo |  OK  |  OK  |  ERROR  |  OK  |  | 
| MPFE 1.24.1 | Conrad Burden |  OK  |  OK  |  OK  |  OK  |   | 
| mpra 1.10.0 | Leslie Myint |  OK  |  OK  |  OK  |  OK  |   | 
| MPRAnalyze 1.6.0 | Tal Ashuach |  OK  |  OK  |  OK  |  OK  |   | 
| msa 1.20.1 | Ulrich Bodenhofer |  OK  |  OK  |  WARNINGS  |  OK  |   | 
| MsCoreUtils 1.0.0 | RforMassSpectrometry Package Maintainer |  OK  |  OK  |  OK  |  OK  |   | 
| msgbsR 1.12.0 | Benjamin Mayne |  OK  |  OK  |  WARNINGS  |  OK  |   | 
| MSGFgui 1.22.0 | Thomas Lin Pedersen |  ERROR  |  ERROR  |  skipped  |  skipped  |  | 
| MSGFplus 1.22.0 | Thomas Lin Pedersen |  ERROR  |  ERROR  |  skipped  |  skipped  |  | 
| msmsEDA 1.26.0 | Josep Gregori |  OK  |  OK  |  OK  |  OK  |   | 
| msmsTests 1.26.0 | Josep Gregori i Font |  OK  |  OK  |  OK  |  OK  |   | 
| MSnbase 2.14.2 | Laurent Gatto |  OK  |  OK  |  OK  |  OK  |   | 
| MSnID 1.22.0 | Vlad Petyuk |  OK  |  OK  |  WARNINGS  |  OK  |   | 
| msPurity 1.14.1 | Thomas N. Lawson |  OK  |  OK  |  OK  |  OK  |   | 
| MSstats 3.20.3 | Meena Choi |  OK  |  OK  |  OK  |  OK  |   | 
| MSstatsQC 2.6.0 | Eralp Dogu |  OK  |  OK  |  OK  |  OK  |   | 
| MSstatsQCgui 1.8.0 | Eralp Dogu |  OK  |  OK  |  OK  |  OK  |   | 
| MSstatsSampleSize 1.2.0 | Ting Huang |  OK  |  OK  |  WARNINGS  |  OK  |   | 
| MSstatsTMT 1.6.6 | Ting Huang |  OK  |  OK  |  OK  |  OK  |   | 
MTseeker 1.6.0 | Tim Triche |  OK  |  ERROR  |  skipped  |  skipped  |  | 
| Mulcom 1.38.0 | Claudio Isella |  OK  |  OK  |  WARNINGS  |  OK  |   | 
| MultiAssayExperiment 1.14.0 | Marcel Ramos |  OK  |  OK  |  OK  |  OK  |   | 
| multiClust 1.18.0 | Nathan Lawlor |  OK  |  OK  |  OK  |  OK  |   | 
| MultiDataSet 1.16.0 | Carlos Ruiz-Arenas |  OK  |  OK  |  OK  |  OK  |   | 
| multiHiCcompare 1.6.0 | John Stansfield |  OK  |  OK  |  OK  |  OK  |   | 
| MultiMed 2.10.0 | Simina M. Boca |  OK  |  OK  |  OK  |  OK  |   | 
| multiMiR 1.10.0 | Matt Mulvahill |  OK  |  OK  |  OK  |  OK  |   | 
| multiOmicsViz 1.12.0 | Jing Wang |  OK  |  OK  |  OK  |  OK  |   | 
| multiscan 1.48.0 | Mizanur Khondoker |  OK  |  OK  |  OK  |  OK  |   | 
| multtest 2.44.0 | Katherine S. Pollard |  OK  |  OK  |  WARNINGS  |  OK  |   | 
| muscat 1.2.1 | Helena L. Crowell |  OK  |  OK  |  OK  |  OK  |   | 
| muscle 3.30.0 | Alex T. Kalinka |  OK  |  OK  |  OK  |  OK  |   | 
| MutationalPatterns 2.0.0 | Rurika Oka |  OK  |  OK  |  OK  |  OK  |   | 
| MVCClass 1.62.0 | Elizabeth Whalen |  OK  |  OK  |  OK  |  OK  |   | 
| MWASTools 1.12.0 | Andrea Rodriguez-Martinez , Rafael Ayala |  OK  |  OK  |  OK  |  OK  |   | 
| mygene 1.24.0 | Adam Mark, Cyrus Afrasiabi, Chunlei Wu |  OK  |  OK  |  OK  |  OK  |   | 
| myvariant 1.18.0 | Adam Mark, Chunlei Wu |  OK  |  OK  |  OK  |  OK  |   | 
| mzID 1.26.0 | Laurent Gatto |  OK  |  OK  |  OK  |  OK  |   | 
| mzR 2.22.0 | Steffen Neumann |  OK  |  OK  |  WARNINGS  |  OK  |   | 
 | 
 |  | 
| NADfinder 1.12.0 | Jianhong Ou |  OK  |  OK  |  OK  |  OK  |   | 
| NanoStringDiff 1.18.0 | tingting zhai ,hong wang |  OK  |  OK  |  WARNINGS  |  OK  |   | 
| NanoStringQCPro 1.20.0 | Robert Ziman |  OK  |  OK  |  OK  |  OK  |   | 
| nanotatoR 1.4.0 | Surajit Bhattacharya |  OK  |  OK  |  OK  |  OK  |   | 
| NarrowPeaks 1.32.0 | Pedro Madrigal |  OK  |  ERROR  |  skipped  |  skipped  |  | 
| NBAMSeq 1.4.1 | Xu Ren |  OK  |  OK  |  OK  |  OK  |   | 
| NBSplice 1.6.0 | Gabriela Merino |  OK  |  OK  |  OK  |  OK  |   | 
| ncdfFlow 2.34.0 | Mike Jiang , Jake Wagner |  OK  |  OK  |  WARNINGS  |  OK  |   | 
| ncGTW 1.2.0 | Chiung-Ting Wu |  OK  |  OK  |  OK  |  OK  |   | 
| NCIgraph  |  | ...NOT SUPPORTED... | 
| ndexr 1.10.0 | Florian Auer |  OK  |  OK  |  OK  |  OK  |   | 
| NeighborNet 1.6.0 | Sahar Ansari |  OK  |  OK  |  OK  |  OK  |   | 
nem 2.62.0 | Holger Froehlich |  OK  |  OK  |  ERROR  |  OK  |  | 
| netbenchmark 1.20.0 | Pau Bellot |  ERROR  |  ERROR  |  skipped  |  skipped  |  | 
| netbiov 1.22.0 | Shailesh tripathi |  OK  |  OK  |  WARNINGS  |  OK  |   | 
| netboost 1.4.0 | Pascal Schlosser |  OK  |  OK  |  OK  |  OK  |   | 
| netboxr 1.0.1 | Eirc Minwei Liu |  OK  |  OK  |  OK  |  OK  |   | 
| netDx 1.0.4 | Shraddha Pai |  OK  |  ERROR  |  skipped  |  skipped  |  | 
| nethet 1.20.1 | Nicolas Staedler |  OK  |  OK  |  WARNINGS  |  OK  |   | 
| NetPathMiner 1.24.0 | Ahmed Mohamed |  OK  |  OK  |  WARNINGS  |  OK  |   | 
| netprioR 1.14.0 | Fabian Schmich |  OK  |  OK  |  OK  |  OK  |   | 
| netReg 1.12.0 | Simon Dirmeier |  OK  |  ERROR  |  skipped  |  skipped  |  | 
| netresponse 1.48.0 | Leo Lahti |  OK  |  OK  |  OK  |  OK  |   | 
| NetSAM 1.28.0 | Bing Zhang |  OK  |  OK  |  OK  |  OK  |   | 
| netSmooth 1.8.0 | Jonathan Ronen |  OK  |  OK  |  OK  |  OK  |   | 
| networkBMA 2.28.0 | Ka Yee Yeung |  OK  |  OK  |  WARNINGS  |  OK  |   | 
| ngsReports 1.4.2 | Steve Pederson |  OK  |  OK  |  OK  |  OK  |   | 
| nnNorm 2.52.0 | Adi Laurentiu Tarca |  OK  |  OK  |  OK  |  OK  |   | 
| NOISeq 2.32.0 | Sonia Tarazona |  OK  |  ERROR  |  skipped  |  skipped  |  | 
| nondetects 2.18.0 | Valeriia Sherina |  OK  |  OK  |  OK  |  OK  |   | 
| NoRCE 1.0.0 | Gulden Olgun |  OK  |  OK  |  OK  |  OK  |   | 
| normalize450K 1.16.0 | Jonathan Alexander Heiss |  OK  |  OK  |  OK  |  OK  |   | 
| NormalyzerDE 1.6.0 | Jakob Willforss |  OK  |  OK  |  OK  |  OK  |   | 
| NormqPCR 1.34.0 | James Perkins |  OK  |  OK  |  WARNINGS  |  OK  |   | 
| normr 1.14.0 | Johannes Helmuth |  OK  |  OK  |  OK  |  OK  |   | 
| NPARC 1.0.1 | Nils Kurzawa |  OK  |  OK  |  OK  |  OK  |   | 
| npGSEA 1.24.0 | Jessica Larson |  OK  |  OK  |  OK  |  OK  |   | 
| NTW 1.38.0 | Yuanhua Liu |  OK  |  OK  |  WARNINGS  |  OK  |   | 
| nucleoSim 1.16.0 | Astrid Deschenes |  OK  |  OK  |  OK  |  OK  |   | 
| nucleR 2.20.0 | Diego Gallego |  OK  |  ERROR  |  skipped  |  skipped  |  | 
| nuCpos 1.6.0 | Hiroaki Kato |  OK  |  OK  |  OK  |  OK  |   | 
| NuPoP 1.38.0 | Ji-Ping Wang |  OK  |  OK  |  OK  |  OK  |   | 
 | 
 |  | 
| occugene 1.48.0 | Oliver Will |  OK  |  OK  |  OK  |  OK  |   | 
| OCplus 1.62.0 | Alexander Ploner |  OK  |  OK  |  OK  |  OK  |   | 
| odseq 1.16.0 | José Jiménez |  OK  |  OK  |  OK  |  OK  |   | 
| OGSA 1.18.0 | Michael F. Ochs |  OK  |  OK  |  ERROR  |  OK  |  | 
| oligo 1.52.1 | Benilton Carvalho |  OK  |  OK  |  WARNINGS  |  OK  |   | 
| oligoClasses 1.50.4 | Benilton Carvalho  and Robert Scharpf |  OK  |  OK  |  WARNINGS  |  OK  |   | 
| OLIN 1.66.0 | Matthias Futschik |  OK  |  OK  |  OK  |  OK  |   | 
| OLINgui 1.62.0 | Matthias Futschik |  OK  |  OK  |  OK  |  OK  |   | 
| OmaDB 2.4.0 | Klara Kaleb , Adrian Altenhoff |  OK  |  OK  |  WARNINGS  |  OK  |   | 
| omicade4 1.28.2 | Chen Meng |  OK  |  OK  |  OK  |  OK  |   | 
| OmicCircos 1.26.0 | Ying Hu |  OK  |  OK  |  WARNINGS  |  OK  |   | 
| omicplotR 1.8.0 | Daniel Giguere |  OK  |  OK  |  OK  |  OK  |   | 
| omicRexposome 1.10.0 | Carles Hernandez-Ferrer |  OK  |  OK  |  OK  |  OK  |   | 
| OmicsLonDA 1.4.0 | Ahmed A. Metwally |  OK  |  OK  |  OK  |  OK  |   | 
| OmicsMarkeR 1.20.0 | Charles E. Determan Jr. |  OK  |  OK  |  ERROR  |  OK  |  | 
| OMICsPCA 1.6.0 | Subhadeep Das |  OK  |  OK  |  WARNINGS  |  OK  |   | 
| omicsPrint 1.8.0 | Davy Cats |  OK  |  OK  |  OK  |  OK  |   | 
| OmnipathR 1.2.1 | Alberto Valdeolivas Urbelz |  OK  |  OK  |  OK  |  OK  |   | 
| Onassis 1.10.0 | Eugenia Galeota |  OK  |  OK  |  OK  |  OK  |   | 
| oncomix 1.10.0 | Daniel Pique |  OK  |  OK  |  OK  |  OK  |   | 
| OncoScore 1.16.0 | Luca De Sano |  OK  |  OK  |  OK  |  OK  |   | 
| OncoSimulR 2.18.0 | Ramon Diaz-Uriarte |  OK  |  OK  |  OK  |  OK  |   | 
| oneSENSE 1.10.0 | Yong Kee Tan |  OK  |  OK  |  WARNINGS  |  OK  |   | 
| onlineFDR 1.6.0 | David S. Robertson |  OK  |  OK  |  OK  |  OK  |   | 
| ontoProc 1.10.1 | VJ Carey |  OK  |  OK  |  ERROR  |  OK  |  | 
| openCyto 2.0.0 | Mike Jiang ,Jake Wagner |  OK  |  OK  |  OK  |  OK  |   | 
| openPrimeR 1.10.4 | Matthias Döring |  OK  |  OK  |  OK  |  OK  |   | 
| openPrimeRui 1.10.0 | Matthias Döring |  OK  |  OK  |  OK  |  OK  |   | 
| OpenStats 1.0.2 | Hamed Haseli Mashhadi |  OK  |  OK  |  OK  |  OK  |   | 
| oposSOM 2.6.0 | Henry Loeffler-Wirth |  OK  |  OK  |  WARNINGS  |  OK  |   | 
| oppar 1.16.0 | Soroor Hediyeh zadeh |  OK  |  OK  |  OK  |  OK  |   | 
| oppti 1.2.0 | Abdulkadir Elmas |  OK  |  OK  |  OK  |  OK  |   | 
| optimalFlow 1.0.1 | Hristo Inouzhe |  OK  |  OK  |  WARNINGS  |  OK  |   | 
| OPWeight 1.10.0 | Mohamad Hasan |  OK  |  OK  |  OK  |  OK  |   | 
| OrderedList 1.60.1 | Claudio Lottaz |  OK  |  OK  |  OK  |  OK  |   | 
| ORFik 1.8.6 | Haakon Tjeldnes |  OK  |  OK  |  OK  |  OK  |   | 
| Organism.dplyr 1.16.0 | Martin Morgan |  OK  |  OK  |  OK  |  OK  |   | 
| OrganismDbi 1.30.0 | Bioconductor Package Maintainer |  OK  |  OK  |  WARNINGS  |  OK  |   | 
| OSAT 1.36.0 | Li Yan |  OK  |  OK  |  OK  |  OK  |   | 
| Oscope 1.18.0 | Ning Leng |  OK  |  OK  |  OK  |  OK  |   | 
| OTUbase 1.38.0 | Daniel Beck |  OK  |  ERROR  |  skipped  |  skipped  |  | 
| OutlierD 1.52.0 | Sukwoo Kim |  OK  |  ERROR  |  skipped  |  skipped  |  | 
| OUTRIDER 1.6.1 | Christian Mertes |  OK  |  ERROR  |  skipped  |  skipped  |  | 
| OVESEG 1.4.0 | Lulu Chen |  OK  |  OK  |  OK  |  OK  |   | 
 | 
 |  | 
| PAA 1.22.0 | Michael Turewicz , Martin Eisenacher |  OK  |  OK  |  OK  |  OK  |   | 
| packFinder 1.0.0 | Jack Gisby |  OK  |  OK  |  OK  |  OK  |   | 
| PADOG 1.30.0 | Adi Laurentiu Tarca |  OK  |  OK  |  OK  |  OK  |   | 
| PAIRADISE 1.4.1 | Qiang Hu , Levon Demirdjian |  OK  |  OK  |  OK  |  OK  |   | 
| paircompviz 1.26.0 | Michal Burda |  OK  |  OK  |  OK  |  OK  |   | 
| pandaR 1.20.0 | Joseph N. Paulson , Dan Schlauch |  OK  |  OK  |  WARNINGS  |  OK  |   | 
| panelcn.mops 1.10.0 | Gundula Povysil |  OK  |  OK  |  OK  |  OK  |   | 
| panp 1.58.0 | Peter Warren |  OK  |  OK  |  OK  |  OK  |   | 
| PANR 1.34.0 | Xin Wang |  OK  |  OK  |  OK  |  OK  |   | 
| PanVizGenerator 1.16.0 | Thomas Lin Pedersen |  OK  |  OK  |  OK  |  OK  |   | 
PAPi 1.28.0 | Raphael Aggio |  OK  |  OK  |  ERROR  |  OK  |  | 
| parglms 1.20.0 | VJ Carey |  OK  |  OK  |  OK  |  OK  |   | 
| parody 1.46.0 | VJ Carey |  OK  |  OK  |  OK  |  OK  |   | 
| PAST 1.4.3 | Thrash Adam |  OK  |  OK  |  WARNINGS  |  OK  |   | 
| Path2PPI 1.18.0 | Oliver Philipp |  OK  |  OK  |  OK  |  OK  |   | 
| pathifier 1.26.0 | Assif Yitzhaky |  OK  |  OK  |  OK  |  OK  |   | 
| PathNet 1.28.0 | Ludwig Geistlinger |  OK  |  OK  |  OK  |  OK  |   | 
| PathoStat 1.14.0 | Solaiappan Manimaran |  OK  |  OK  |  OK  |  OK  |   | 
| pathprint 1.18.0 | Sokratis Kariotis |  OK  |  OK  |  ERROR  |  OK  |  | 
| pathRender 1.56.0 | Vince Carey |  OK  |  OK  |  OK  |  OK  |   | 
| pathVar 1.18.0 | Samuel Zimmerman |  OK  |  OK  |  OK  |  OK  |   | 
| pathview 1.28.1 | Weijun Luo |  OK  |  OK  |  WARNINGS  |  OK  |   | 
| pathwayPCA 1.4.0 | Gabriel Odom |  OK  |  OK  |  OK  |  OK  |   | 
| PathwaySplice 1.12.0 | Aimin Yan |  ERROR  |  ERROR  |  skipped  |  skipped  |  | 
| paxtoolsr 1.22.0 | Augustin Luna |  OK  |  OK  |  ERROR  |  OK  |  | 
| pcaExplorer 2.14.2 | Federico Marini |  OK  |  OK  |  OK  |  OK  |   | 
pcaGoPromoter 1.32.0 | Morten Hansen |  OK  |  OK  |  ERROR  |  OK  |  | 
| pcaMethods 1.80.0 | Henning Redestig |  OK  |  OK  |  OK  |  OK  |   | 
| PCAN 1.16.0 | Matthew Page  and Patrice Godard |  OK  |  OK  |  OK  |  OK  |   | 
| PCAtools 2.0.0 | Kevin Blighe |  OK  |  OK  |  OK  |  OK  |   | 
| pcot2 1.56.0 | Sarah Song |  OK  |  OK  |  OK  |  OK  |   | 
| PCpheno 1.50.0 | Nolwenn Le Meur |  OK  |  OK  |  OK  |  OK  |   | 
| pcxn 2.10.0 | Sokratis Kariotis |  OK  |  OK  |  OK  |  OK  |   | 
| pdInfoBuilder 1.52.0 | Benilton Carvalho |  OK  |  OK  |  OK  |  OK  |   | 
| peakPantheR 1.2.0 | Arnaud Wolfer |  OK  |  OK  |  OK  |  OK  |   | 
| PECA 1.24.0 | Tomi Suomi |  OK  |  OK  |  OK  |  OK  |   | 
| peco 1.0.0 | Chiaowen Joyce Hsiao |  OK  |  OK  |  OK  |  OK  |   | 
| PepsNMR 1.6.1 | Manon Martin |  OK  |  OK  |  OK  |  OK  |   | 
| pepStat 1.22.0 | Gregory C Imholte |  OK  |  OK  |  OK  |  OK  |   | 
| pepXMLTab 1.22.0 | Xiaojing Wang |  OK  |  OK  |  OK  |  OK  |   | 
| PERFect 1.2.0 | Quy Cao |  OK  |  OK  |  OK  |  OK  |   | 
| perturbatr 1.8.0 | Simon Dirmeier |  OK  |  OK  |  OK  |  OK  |   | 
| PGA 1.18.1 | Bo Wen , Shaohang Xu |  OK  |  OK  |  OK  |  OK  |   | 
| pgca 1.12.0 | Gabriela Cohen-Freue |  OK  |  OK  |  OK  |  OK  |   | 
| PGSEA 1.62.0 | Karl Dykema |  OK  |  OK  |  ERROR  |  OK  |  | 
| phantasus 1.8.0 | Alexey Sergushichev |  OK  |  OK  |  WARNINGS  |  OK  |   | 
| PharmacoGx 2.0.9 | Benjamin Haibe-Kains |  OK  |  OK  |  OK  |  OK  |   | 
| phemd 1.4.0 | William S Chen |  OK  |  OK  |  OK  |  OK  |   | 
| phenopath 1.12.0 | Kieran Campbell |  OK  |  OK  |  OK  |  OK  |   | 
| phenoTest 1.36.0 | Evarist Planet |  OK  |  OK  |  OK  |  OK  |   | 
| PhenStat 2.24.0 | Hamed Haselimashhadi |  OK  |  OK  |  OK  |  OK  |   | 
| philr 1.14.0 | Justin Silverman |  OK  |  OK  |  OK  |  OK  |   | 
| phosphonormalizer 1.12.0 | Sohrab Saraei |  OK  |  OK  |  OK  |  OK  |   | 
| PhyloProfile 1.2.8 | Vinh Tran |  OK  |  OK  |  OK  |  OK  |   | 
| phyloseq 1.32.0 | Paul J. McMurdie |  OK  |  OK  |  OK  |  OK  |   | 
| Pi 2.0.3 | Hai Fang |  OK  |  OK  |  OK  |  OK  |   | 
| piano 2.4.0 | Leif Varemo Wigge |  OK  |  OK  |  ERROR  |  OK  |  | 
| pickgene 1.60.0 | Brian S. Yandell |  OK  |  OK  |  WARNINGS  |  OK  |   | 
| PICS 2.32.0 | Renan Sauteraud |  OK  |  OK  |  OK  |  OK  |   | 
| Pigengene 1.14.0 | Habil Zare |  OK  |  ERROR  |  skipped  |  skipped  |  | 
| PING 2.32.0 | Renan Sauteraud |  OK  |  OK  |  WARNINGS  |  OK  |   | 
pint 1.38.0 | Olli-Pekka Huovilainen |  OK  |  ERROR  |  skipped  |  skipped  |  | 
| pipeFrame 1.4.0 | Zheng Wei |  OK  |  OK  |  OK  |  OK  |   | 
| pkgDepTools 1.54.0 | Bioconductor Package Maintainer |  OK  |  OK  |  OK  |  OK  |   | 
| plethy 1.26.0 | Daniel Bottomly |  OK  |  OK  |  OK  |  OK  |   | 
| plgem 1.60.0 | Norman Pavelka |  OK  |  OK  |  OK  |  OK  |   | 
| plier 1.58.0 | Crispin Miller |  OK  |  OK  |  WARNINGS  |  OK  |   | 
| PloGO2 1.0.0 | Jemma Wu , Dana Pascovici |  OK  |  OK  |  OK  |  OK  |   | 
| plotGrouper 1.6.0 | John D. Gagnon |  OK  |  OK  |  OK  |  OK  |   | 
| PLPE 1.48.0 | Soo-heang Eo |  OK  |  OK  |  OK  |  OK  |   | 
| plrs 1.28.0 | Gwenael G.R. Leday to |  OK  |  OK  |  ERROR  |  OK  |  | 
plw 1.48.0 | Magnus Astrand |  OK  |  OK  |  ERROR  |  OK  |  | 
| plyranges 1.8.0 | Stuart Lee |  OK  |  OK  |  OK  |  OK  |   | 
| pmm 1.20.0 | Anna Drewek |  OK  |  OK  |  OK  |  OK  |   | 
| pmp 1.0.0 | Andris Jankevics |  OK  |  OK  |  OK  |  OK  |   | 
| podkat 1.20.0 | Ulrich Bodenhofer |  OK  |  OK  |  OK  |  OK  |   | 
| pogos 1.8.0 | VJ Carey |  OK  |  OK  |  OK  |  OK  |   | 
| polyester 1.24.0 | Jack Fu , Jeff Leek |  OK  |  OK  |  OK  |  OK  |   | 
| Polyfit 1.22.0 | Conrad Burden |  OK  |  OK  |  WARNINGS  |  OK  |   | 
| POST 1.12.0 | Xueyuan Cao |  OK  |  OK  |  WARNINGS  |  OK  |   | 
| PoTRA 1.4.0 | Valentin Dinu |  OK  |  OK  |  OK  |  OK  |   | 
PowerExplorer 1.8.0 | Xu Qiao |  OK  |  ERROR  |  skipped  |  skipped  |  | 
| powerTCR 1.8.0 | Hillary Koch |  OK  |  OK  |  OK  |  OK  |   | 
| PPInfer 1.14.0 | Dongmin Jung |  OK  |  OK  |  OK  |  OK  |   | 
| ppiStats 1.54.0 | Bioconductor Package Maintainer |  OK  |  OK  |  OK  |  OK  |   | 
| pqsfinder 2.4.0 | Jiri Hon |  OK  |  OK  |  OK  |  OK  |   | 
| prada 1.64.0 | Florian Hahne |  OK  |  OK  |  ERROR  |  OK  |  | 
| pram 1.4.0 | Peng Liu |  OK  |  OK  |  OK  |  OK  |   | 
| prebs 1.28.0 | Karolis Uziela |  OK  |  OK  |  OK  |  OK  |   | 
| PrecisionTrialDrawer 1.4.0 | Giorgio Melloni |  OK  |  OK  |  OK  |  OK  |   | 
| PREDA 1.34.0 | Francesco Ferrari |  OK  |  OK  |  WARNINGS  |  OK  |   | 
| predictionet 1.34.0 | Benjamin Haibe-Kains |  OK  |  OK  |  OK  |  OK  |   | 
| preprocessCore 1.50.0 | Ben Bolstad |  OK  |  OK  |  WARNINGS  |  OK  |   | 
| primirTSS 1.6.1 | Pumin Li |  OK  |  OK  |  WARNINGS  |  OK  |   | 
| PrInCE 1.4.0 | Michael Skinnider |  OK  |  OK  |  OK  |  OK  |   | 
| Prize 1.18.0 | Daryanaz Dargahi |  OK  |  OK  |  ERROR  |  OK  |  | 
| proBAMr 1.22.0 | Xiaojing Wang |  OK  |  OK  |  OK  |  OK  |   | 
| proBatch 1.4.0 | Chloe H. Lee |  OK  |  OK  |  OK  |  OK  |   | 
| PROcess 1.64.0 | Xiaochun Li |  OK  |  OK  |  OK  |  OK  |   | 
| procoil 2.16.0 | Ulrich Bodenhofer |  OK  |  OK  |  OK  |  OK  |   | 
| proDA 1.2.0 | Constantin Ahlmann-Eltze |  OK  |  OK  |  OK  |  OK  |   | 
| proFIA 1.14.0 | Alexis Delabriere |  OK  |  OK  |  WARNINGS  |  OK  |   | 
| profileplyr 1.4.3 | Tom Carroll , Doug Barrows |  OK  |  OK  |  OK  |  OK  |   | 
| profileScoreDist 1.16.0 | Paal O. Westermark |  OK  |  OK  |  OK  |  OK  |   | 
| progeny 1.10.0 | Alberto Valdeolivas |  OK  |  OK  |  OK  |  OK  |   | 
| projectR 1.4.0 | Genevieve Stein-O'Brien |  OK  |  OK  |  OK  |  OK  |   | 
| pRoloc 1.28.0 | Laurent Gatto |  OK  |  OK  |  OK  |  OK  |   | 
| pRolocGUI 1.22.0 | Laurent Gatto |  OK  |  OK  |  OK  |  OK  |   | 
| PROMISE 1.40.0 | Stan Pounds , Xueyuan Cao |  OK  |  OK  |  OK  |  OK  |   | 
| PROPER 1.20.0 | Hao Wu |  OK  |  OK  |  WARNINGS  |  OK  |   | 
| PROPS 1.10.0 | Lichy Han |  OK  |  OK  |  OK  |  OK  |   | 
| Prostar 1.20.0 | Samuel Wieczorek |  OK  |  OK  |  OK  |  OK  |   | 
| proteinProfiles 1.28.0 | Julian Gehring |  OK  |  OK  |  OK  |  OK  |   | 
| ProteomicsAnnotationHubData 1.18.0 | Laurent Gatto |  OK  |  OK  |  OK  |  OK  |   | 
| ProteoMM 1.6.0 | Yuliya V Karpievitch |  OK  |  OK  |  OK  |  OK  |   | 
proteoQC 1.24.0 | Bo Wen |  OK  |  ERROR  |  skipped  |  skipped  |  | 
| ProtGenerics 1.20.0 | Laurent Gatto |  OK  |  OK  |  OK  |  OK  |   | 
| PSEA 1.22.0 | Alexandre Kuhn |  OK  |  OK  |  OK  |  OK  |   | 
| psichomics 1.14.4 | Nuno Saraiva-Agostinho |  OK  |  OK  |  OK  |  OK  |   | 
| PSICQUIC 1.26.1 | Paul Shannon |  OK  |  ERROR  |  skipped  |  skipped  |  | 
| psygenet2r 1.20.0 | Alba Gutierrez-Sacristan |  OK  |  ERROR  |  skipped  |  skipped  |  | 
| PubScore 1.0.0 | Tiago Lubiana |  OK  |  OK  |  OK  |  OK  |   | 
| pulsedSilac 1.2.0 | Marc Pagès-Gallego |  OK  |  OK  |  OK  |  OK  |   | 
| puma 3.30.0 | Xuejun Liu |  OK  |  OK  |  WARNINGS  |  OK  |   | 
| PureCN 1.18.1 | Markus Riester |  OK  |  OK  |  OK  |  OK  |   | 
| pvac 1.36.0 | Jun Lu , Pierre R. Bushel |  OK  |  OK  |  OK  |  OK  |   | 
| pvca 1.28.0 | Jianying LI |  OK  |  OK  |  OK  |  OK  |   | 
| Pviz 1.22.0 | Renan Sauteraud |  OK  |  OK  |  OK  |  OK  |   | 
| PWMEnrich 4.24.2 | Diego Diez |  OK  |  OK  |  OK  |  OK  |   | 
| pwOmics 1.20.0 | Maren Sitte |  OK  |  OK  |  WARNINGS  |  OK  |   | 
| pwrEWAS 1.2.0 | Stefan Graw |  OK  |  OK  |  OK  |  OK  |   | 
 | 
 |  | 
| qckitfastq 1.4.0 | August Guang |  OK  |  OK  |  OK  |  OK  |   | 
| qcmetrics 1.26.0 | Laurent Gatto |  OK  |  OK  |  OK  |  OK  |   | 
| QDNAseq 1.24.0 | Daoud Sie |  OK  |  OK  |  OK  |  OK  |   | 
| qpcrNorm 1.46.0 | Jessica Mar |  OK  |  OK  |  OK  |  OK  |   | 
| qpgraph 2.22.0 | Robert Castelo |  OK  |  OK  |  OK  |  OK  |   | 
| qPLEXanalyzer 1.6.0 | Ashley Sawle |  OK  |  OK  |  OK  |  OK  |   | 
| qrqc 1.42.0 | Vince Buffalo |  OK  |  OK  |  WARNINGS  |  OK  |   | 
| qsea 1.14.0 | Matthias Lienhard |  OK  |  OK  |  OK  |  OK  |   | 
| qsmooth 1.4.0 | Stephanie C. Hicks |  OK  |  OK  |  OK  |  OK  |   | 
| QSutils 1.6.0 | Mercedes Guerrero-Murillo |  OK  |  OK  |  OK  |  OK  |   | 
| Qtlizer 1.2.0 | Matthias Munz |  OK  |  OK  |  OK  |  OK  |   | 
QUALIFIER 1.32.0 | Mike Jiang |  OK  |  ERROR  |  skipped  |  skipped  |  | 
| quantro 1.22.0 | Stephanie Hicks |  OK  |  OK  |  OK  |  OK  |   | 
| quantsmooth 1.54.0 | Jan Oosting |  OK  |  OK  |  OK  |  OK  |   | 
| QuartPAC 1.20.0 | Gregory Ryslik |  OK  |  OK  |  OK  |  OK  |   | 
| QuasR 1.28.0 | Michael Stadler |  OK  |  OK  |  OK  |  OK  |   | 
| QuaternaryProd 1.22.0 | Carl Tony Fakhry |  OK  |  OK  |  OK  |  OK  |   | 
| QUBIC 1.16.0 | Yu Zhang |  OK  |  OK  |  OK  |  OK  |   | 
| qusage 2.22.0 | Christopher Bolen |  OK  |  OK  |  OK  |  OK  |   | 
| qvalue 2.20.0 | John D. Storey , Andrew J. Bass |  OK  |  OK  |  OK  |  OK  |   | 
 | 
 |  | 
| R3CPET 1.20.0 | Mohamed Nadhir Djekidel |  ERROR  |  ERROR  |  skipped  |  skipped  |  | 
| r3Cseq 1.34.0 | Supat Thongjuea  or |  OK  |  OK  |  OK  |  OK  |   | 
| R453Plus1Toolbox 1.38.0 | Hans-Ulrich Klein |  OK  |  OK  |  OK  |  OK  |   | 
| R4RNA 1.16.0 | Daniel Lai |  OK  |  OK  |  OK  |  OK  |   | 
| RaggedExperiment 1.12.0 | Martin Morgan |  OK  |  OK  |  OK  |  OK  |   | 
| rain 1.22.0 | Paul F. Thaben |  OK  |  ERROR  |  skipped  |  skipped  |  | 
| rama 1.62.0 | Raphael Gottardo |  OK  |  OK  |  OK  |  OK  |   | 
| ramwas 1.12.0 | Andrey A Shabalin |  OK  |  OK  |  OK  |  OK  |   | 
| RandomWalkRestartMH 1.8.0 | Alberto Valdeolivas Urbelz |  OK  |  OK  |  OK  |  OK  |   | 
| randPack 1.34.0 | Robert Gentleman |  OK  |  OK  |  OK  |  OK  |   | 
| randRotation 1.0.0 | Peter Hettegger |  OK  |  OK  |  OK  |  OK  |   | 
| RankProd 3.14.0 | Francesco Del Carratore |  OK  |  OK  |  OK  |  OK  |   | 
| RareVariantVis 2.16.0 | Tomasz Stokowy |  OK  |  OK  |  OK  |  OK  |   | 
| Rariant 1.24.0 | Julian Gehring |  ERROR  |  ERROR  |  skipped  |  skipped  |  | 
| RbcBook1 1.56.0 | Vince Carey |  OK  |  OK  |  OK  |  OK  |   | 
| RBGL 1.64.0 | Bioconductor Package Maintainer |  OK  |  OK  |  OK  |  OK  |   | 
| RBioinf 1.48.0 | Robert Gentleman |  OK  |  OK  |  OK  |  OK  |   | 
| rBiopaxParser 2.28.0 | Frank Kramer |  OK  |  OK  |  OK  |  OK  |   | 
| RBM 1.20.0 | Dongmei Li |  OK  |  OK  |  OK  |  OK  |   | 
| Rbowtie 1.28.1 | Michael Stadler |  OK  |  OK  |  OK  |  OK  |   | 
| Rbowtie2 1.10.1 | Zheng Wei |  OK  |  OK  |  OK  |  OK  |   | 
| rbsurv 2.46.0 | Soo-heang Eo |  OK  |  OK  |  OK  |  OK  |   | 
| Rcade 1.30.0 | Jonathan Cairns |  OK  |  OK  |  WARNINGS  |  OK  |   | 
| RCAS 1.14.0 | Bora Uyar |  OK  |  OK  |  OK  |  OK  |   | 
| RCASPAR 1.34.0 | Douaa Mugahid , Lars Kaderali |  OK  |  OK  |  OK  |  OK  |   | 
| rcellminer 2.10.2 | Augustin Luna , Vinodh Rajapakse |  OK  |  OK  |  OK  |  OK  |   | 
| rCGH 1.18.0 | Frederic Commo |  OK  |  OK  |  OK  |  OK  |   | 
| RchyOptimyx 2.28.0 | Adrin Jalali , Nima Aghaeepour |  OK  |  OK  |  WARNINGS  |  OK  |   | 
| RcisTarget 1.8.0 | Sara Aibar |  OK  |  OK  |  OK  |  OK  |   | 
| RCM 1.4.0 | Joris Meys |  OK  |  OK  |  WARNINGS  |  OK  |   | 
| Rcpi 1.24.0 | Nan Xiao |  OK  |  OK  |  OK  |  OK  |   | 
| Rcwl 1.4.8 | Qiang Hu |  OK  |  OK  |  OK  |  OK  |   | 
| RcwlPipelines 1.4.5 | Qiang Hu |  OK  |  OK  |  OK  |  OK  |   | 
| RCy3 2.8.1 | Alex Pico |  OK  |  OK  |  OK  |  OK  |   | 
| RCyjs 2.10.0 | Paul Shannon |  OK  |  OK  |  WARNINGS  |  OK  |   | 
| RDAVIDWebService 1.26.0 | Cristobal Fresno |  OK  |  OK  |  WARNINGS  |  OK  |   | 
| rDGIdb 1.14.0 | Thomas Thurnherr |  OK  |  ERROR  |  skipped  |  skipped  |  | 
| Rdisop 1.48.0 | Steffen Neumann |  OK  |  OK  |  OK  |  OK  |   | 
| RDRToolbox 1.38.0 | Christoph Bartenhagen |  OK  |  OK  |  WARNINGS  |  OK  |   | 
| ReactomeGSA 1.2.4 | Johannes Griss |  OK  |  OK  |  OK  |  OK  |   | 
| ReactomePA 1.32.0 | Guangchuang Yu |  OK  |  OK  |  OK  |  OK  |   | 
readat 1.14.0 | Richard Cotton |  ERROR  |  ERROR  |  skipped  |  skipped  |  | 
| ReadqPCR 1.34.0 | James Perkins |  OK  |  OK  |  OK  |  OK  |   | 
| reb 1.66.0 | Karl J. Dykema |  OK  |  OK  |  ERROR  |  OK  |  | 
| REBET 1.6.0 | Bill Wheeler |  OK  |  OK  |  OK  |  OK  |   | 
| receptLoss 1.0.0 | Daniel Pique |  OK  |  OK  |  OK  |  OK  |   | 
| reconsi 1.0.0 | Joris Meys |  OK  |  OK  |  OK  |  OK  |   | 
| recount 1.14.0 | Leonardo Collado-Torres |  OK  |  OK  |  OK  |  OK  |   | 
| recoup 1.16.0 | Panagiotis Moulos |  OK  |  OK  |  OK  |  OK  |   | 
| RedeR 1.36.0 | Mauro Castro |  OK  |  OK  |  OK  |  OK  |   | 
| REDseq 1.34.0 | Lihua Julie Zhu |  OK  |  OK  |  OK  |  OK  |   | 
RefNet 1.24.0 | Paul Shannon |  OK  |  OK  |  WARNINGS  |  OK  |   | 
| RefPlus 1.58.0 | Kai-Ming Chang |  OK  |  OK  |  OK  |  OK  |   | 
| regioneR 1.20.1 | Bernat Gel |  OK  |  OK  |  OK  |  OK  |   | 
| regionReport 1.22.0 | Leonardo Collado-Torres |  OK  |  OK  |  OK  |  OK  |   | 
| regsplice 1.14.0 | Lukas M. Weber |  OK  |  OK  |  OK  |  OK  |   | 
| regutools 1.0.1 | Joselyn Chavez |  OK  |  OK  |  OK  |  OK  |   | 
| REMP 1.12.0 | Yinan Zheng |  OK  |  OK  |  OK  |  OK  |   | 
| Repitools 1.34.0 | Mark Robinson |  OK  |  OK  |  OK  |  OK  |   | 
| ReportingTools 2.28.0 | Jason A. Hackney , Gabriel Becker |  OK  |  OK  |  OK  |  OK  |   | 
| RepViz 1.4.0 | Thomas Faux, Asta Laiho  |  OK  |  OK  |  WARNINGS  |  OK  |   | 
| ReQON 1.34.0 | Christopher Cabanski |  OK  |  OK  |  OK  |  OK  |   | 
| restfulSE 1.10.0 | Shweta Gopaulakrishnan |  OK  |  OK  |  WARNINGS  |  OK  |   | 
| rexposome 1.10.0 | Carles Hernandez-Ferrer |  OK  |  OK  |  OK  |  OK  |   | 
| rfaRm 1.0.0 | Lara Selles Vidal |  OK  |  OK  |  OK  |  OK  |   | 
| rfPred 1.26.0 | Hugo Varet |  OK  |  OK  |  OK  |  OK  |   | 
| rGADEM 2.36.0 | Arnaud Droit |  OK  |  OK  |  OK  |  OK  |   | 
| RGalaxy 1.32.0 | Bioconductor Package Maintainer |  OK  |  OK  |  OK  |  OK  |   | 
| Rgin 1.8.0 | Hector Climente-Gonzalez |  OK  |  OK  |  WARNINGS  |  OK  |   | 
| RGMQL 1.8.0 | Simone Pallotta |  OK  |  ERROR  |  skipped  |  skipped  |  | 
| RGraph2js 1.16.0 | Stephane Cano |  OK  |  OK  |  OK  |  OK  |   | 
| Rgraphviz 2.32.0 | Kasper Daniel Hansen |  OK  |  OK  |  WARNINGS  |  OK  |   | 
| rGREAT 1.20.0 | Zuguang Gu |  OK  |  OK  |  OK  |  OK  |   | 
| RGSEA 1.22.0 | Chengcheng Ma |  OK  |  OK  |  OK  |  OK  |   | 
| rgsepd 1.20.2 | Karl Stamm |  OK  |  OK  |  OK  |  OK  |   | 
| rhdf5 2.32.4 | Mike Smith |  OK  |  OK  |  OK  |  OK  |   | 
| rhdf5client 1.10.0 | Vincent Carey |  OK  |  OK  |  OK  |  OK  |   | 
| rhdf5filters 1.0.1 | Mike Smith |  OK  |  OK  |  OK  |  OK  |   | 
| Rhdf5lib 1.10.1 | Mike Smith |  OK  |  OK  |  OK  |  OK  |   | 
| Rhisat2 1.4.0 | Charlotte Soneson |  OK  |  OK  |  OK  |  OK  |   | 
| Rhtslib 1.20.0 | Bioconductor Package Maintainer |  OK  |  OK  |  OK  |  OK  |   | 
| RiboProfiling 1.18.0 | A. Popa |  OK  |  OK  |  WARNINGS  |  OK  |   | 
| ribor 1.0.0 | Michael Geng |  OK  |  OK  |  OK  |  OK  |   | 
| riboSeqR 1.22.0 | Thomas J. Hardcastle |  OK  |  OK  |  OK  |  OK  |   | 
| ribosomeProfilingQC 1.0.6 | Jianhong Ou |  OK  |  OK  |  OK  |  OK  |   | 
| RImmPort 1.16.0 | Zicheng Hu , Ravi Shankar |  OK  |  OK  |  OK  |  OK  |   | 
| Ringo 1.52.0 | J. Toedling |  OK  |  OK  |  OK  |  OK  |   | 
RIPSeeker 1.28.0 | Yue Li |  OK  |  OK  |  ERROR  |  OK  |  | 
| Risa 1.30.0 | Alejandra Gonzalez-Beltran |  OK  |  OK  |  OK  |  OK  |   | 
| RITAN 1.12.0 | Michael Zimmermann |  OK  |  OK  |  OK  |  OK  |   | 
| RIVER 1.12.0 | Yungil Kim |  OK  |  OK  |  OK  |  OK  |   | 
| RJMCMCNucleosomes 1.12.0 | Astrid Deschênes |  OK  |  OK  |  OK  |  OK  |   | 
| RLMM 1.50.0 | Nusrat Rabbee |  OK  |  OK  |  OK  |  OK  |   | 
| Rmagpie 1.44.0 | Camille Maumet |  OK  |  OK  |  OK  |  OK  |   | 
| RMassBank 2.16.0 | RMassBank at Eawag |  OK  |  OK  |  WARNINGS  |  OK  |   | 
| rmelting 1.4.0 | J. Aravind |  OK  |  OK  |  OK  |  OK  |   | 
| RmiR 1.44.0 | Francesco Favero |  OK  |  OK  |  OK  |  OK  |   | 
| Rmmquant 1.6.0 | Zytnicki Matthias |  OK  |  OK  |  OK  |  OK  |   | 
| RNAAgeCalc 1.0.2 | Xu Ren |  OK  |  OK  |  OK  |  OK  |   | 
| RNAdecay 1.8.0 | Reed Sorenson |  OK  |  OK  |  OK  |  OK  |   | 
| RNAinteract 1.36.0 | Bernd Fischer |  OK  |  OK  |  OK  |  OK  |   | 
| RNAither 2.36.0 | Lars Kaderali |  OK  |  OK  |  OK  |  OK  |   | 
| RNAmodR 1.2.3 | Felix G.M. Ernst |  OK  |  OK  |  OK  |  OK  |   | 
| RNAmodR.AlkAnilineSeq 1.2.0 | Felix G.M. Ernst |  OK  |  OK  |  OK  |  OK  |   | 
| RNAmodR.ML 1.2.1 | Felix G.M. Ernst |  OK  |  OK  |  OK  |  OK  |   | 
| RNAmodR.RiboMethSeq 1.2.0 | Felix G.M. Ernst |  OK  |  OK  |  OK  |  OK  |   | 
| RNAprobR 1.20.0 | Nikos Sidiropoulos |  OK  |  OK  |  WARNINGS  |  OK  |   | 
| RNAsense 1.2.0 | Marcus Rosenblatt |  OK  |  OK  |  WARNINGS  |  OK  |   | 
| rnaseqcomp 1.18.0 | Mingxiang Teng |  OK  |  OK  |  OK  |  OK  |   | 
| rnaSeqMap 2.46.0 | Michal Okoniewski |  OK  |  OK  |  OK  |  OK  |   | 
| RNASeqPower 1.28.0 | Terry M Therneau |  OK  |  OK  |  OK  |  OK  |   | 
| RNASeqR 1.6.0 | Kuan-Hao Chao |  OK  |  OK  |  OK  |  OK  |   | 
| RnBeads 2.6.0 | Fabian Mueller |  OK  |  OK  |  OK  |  OK  |   | 
| Rnits 1.22.0 | Dipen P. Sangurdekar |  OK  |  OK  |  WARNINGS  |  OK  |   | 
| roar 1.24.0 | Elena Grassi |  OK  |  OK  |  OK  |  OK  |   | 
| ROC 1.64.0 | Vince Carey |  OK  |  OK  |  OK  |  OK  |   | 
| ROCpAI 1.0.0 | Juan-Pedro Garcia |  OK  |  OK  |  OK  |  OK  |   | 
| Roleswitch 1.26.0 | Yue Li |  OK  |  OK  |  ERROR  |  OK  |  | 
| rols 2.16.4 | Laurent Gatto |  OK  |  OK  |  OK  |  OK  |   | 
| ROntoTools 2.16.0 | Calin Voichita |  OK  |  OK  |  OK  |  OK  |   | 
| ropls 1.20.0 | Etienne A. Thevenot |  OK  |  OK  |  OK  |  OK  |   | 
| ROSeq 1.0.0 | Krishan Gupta |  OK  |  OK  |  OK  |  OK  |   | 
| ROTS 1.16.0 | Tomi Suomi |  OK  |  OK  |  OK  |  OK  |   | 
| RPA 1.44.0 | Leo Lahti |  OK  |  OK  |  OK  |  OK  |   | 
| RProtoBufLib 2.0.0 | Mike Jiang , Jake Wagner |  OK  |  OK  |  OK  |  OK  |   | 
| RpsiXML 2.30.0 | Jitao David Zhang |  OK  |  OK  |  OK  |  OK  |   | 
| rpx 1.24.0 | Laurent Gatto |  OK  |  OK  |  OK  |  OK  |   | 
| Rqc 1.22.0 | Welliton Souza |  OK  |  OK  |  OK  |  OK  |   | 
| rqt 1.14.0 | Ilya Y. Zhbannikov |  OK  |  OK  |  OK  |  OK  |   | 
| rqubic 1.34.0 | Jitao David Zhang |  OK  |  OK  |  OK  |  OK  |   | 
| rRDP 1.22.0 | Michael Hahsler |  OK  |  OK  |  OK  |  OK  |   | 
| RRHO 1.28.0 | Jonathan Rosenblatt |  OK  |  OK  |  OK  |  OK  |   | 
| rrvgo 1.0.2 | Sergi Sayols |  OK  |  OK  |  OK  |  OK  |   | 
| Rsamtools 2.4.0 | Bioconductor Package Maintainer |  OK  |  OK  |  WARNINGS  |  OK  |   | 
| rsbml  |  | ...NOT SUPPORTED... | 
| rScudo 1.4.0 | Matteo Ciciani |  OK  |  OK  |  OK  |  OK  |   | 
| RSeqAn 1.8.0 | August Guang |  OK  |  OK  |  OK  |  OK  |   | 
| Rsubread 2.2.6 | Wei Shi , Yang Liao  and Gordon K Smyth |  OK  |  OK  |  OK  |  OK  |   | 
| RSVSim 1.28.0 | Christoph Bartenhagen |  OK  |  OK  |  OK  |  OK  |   | 
| rSWeeP 1.0.0 | Danrley R. Fernandes |  OK  |  OK  |  OK  |  OK  |   | 
| rTANDEM 1.28.0 | Frederic Fournier |  OK  |  OK  |  ERROR  |  OK  |  | 
| RTCA 1.40.0 | Jitao David Zhang |  OK  |  OK  |  WARNINGS  |  OK  |   | 
| RTCGA 1.18.0 | Marcin Kosinski |  OK  |  OK  |  OK  |  OK  |   | 
| RTCGAToolbox 2.18.0 | Marcel Ramos |  OK  |  OK  |  OK  |  OK  |   | 
| RTN 2.12.1 | Mauro Castro |  OK  |  OK  |  OK  |  OK  |   | 
| RTNduals 1.12.2 | Mauro Castro , Clarice Groeneveld |  OK  |  OK  |  OK  |  OK  |   | 
| RTNsurvival 1.12.2 | Clarice Groeneveld , Mauro A. A. Castro |  OK  |  OK  |  OK  |  OK  |   | 
| RTopper 1.34.0 | Luigi Marchionni |  OK  |  OK  |  OK  |  OK  |   | 
| rtracklayer 1.48.0 | Michael Lawrence |  OK  |  OK  |  WARNINGS  |  OK  |   | 
| Rtreemix 1.50.0 | Jasmina Bogojeska |  OK  |  OK  |  OK  |  OK  |   | 
| rTRM 1.26.0 | Diego Diez |  OK  |  OK  |  OK  |  OK  |   | 
| rTRMui 1.26.0 | Diego Diez |  OK  |  OK  |  OK  |  OK  |   | 
| runibic 1.10.0 | Patryk Orzechowski |  ERROR  |  ERROR  |  skipped  |  skipped  |  | 
| RUVcorr 1.20.0 | Saskia Freytag |  OK  |  OK  |  OK  |  OK  |   | 
| RUVnormalize 1.22.0 | Laurent Jacob |  OK  |  OK  |  OK  |  OK  |   | 
| RUVSeq 1.22.0 | Davide Risso |  OK  |  OK  |  OK  |  OK  |   | 
| RVS 1.10.0 | Thomas Sherman |  OK  |  OK  |  OK  |  OK  |   | 
| rWikiPathways 1.8.5 | Egon Willighagen |  OK  |  OK  |  OK  |  OK  |   | 
 | 
 |  | 
| S4Vectors 0.26.1 | Bioconductor Package Maintainer |  OK  |  OK  |  WARNINGS  |  OK  |   | 
| safe 3.28.1 | Ludwig Geistlinger |  OK  |  OK  |  OK  |  OK  |   | 
| sagenhaft 1.58.0 | Tim Beissbarth |  OK  |  OK  |  WARNINGS  |  OK  |   | 
| SAGx 1.62.0 | Per Broberg, |  OK  |  OK  |  OK  |  OK  |   | 
| SAIGEgds 1.2.3 | Xiuwen Zheng |  OK  |  OK  |  OK  |  OK  |   | 
| samExploreR 1.12.0 | shailesh tripathi |  OK  |  OK  |  OK  |  OK  |   | 
| sampleClassifier 1.12.0 | Khadija El Amrani |  OK  |  ERROR  |  skipped  |  skipped  |  | 
| SamSPECTRAL 1.42.0 | Habil |  OK  |  OK  |  WARNINGS  |  OK  |   | 
| sangerseqR 1.24.0 | Jonathon Hill |  OK  |  OK  |  OK  |  OK  |   | 
SANTA 2.26.0 | Alex J. Cornish |  OK  |  ERROR  |  skipped  |  skipped  |  | 
| sapFinder 1.26.0 | Shaohang Xu , Bo Wen |  OK  |  OK  |  OK  |  OK  |   | 
| sarks 1.0.0 | Dennis Wylie |  OK  |  OK  |  OK  |  OK  |   | 
| savR 1.26.0 | R. Brent Calder |  OK  |  OK  |  OK  |  OK  |   | 
| SBGNview 1.2.0 | Xiaoxi Dong |  OK  |  OK  |  OK  |  OK  |   | 
| SBMLR 1.84.0 | Tomas Radivoyevitch |  OK  |  OK  |  ERROR  |  OK  |  | 
| SC3 1.16.0 | Vladimir Kiselev |  OK  |  OK  |  OK  |  OK  |   | 
| Scale4C 1.10.0 | Carolin Walter |  OK  |  OK  |  OK  |  OK  |   | 
| scAlign  |  | ...NOT SUPPORTED... | 
| SCAN.UPC 2.30.0 | Stephen R. Piccolo |  OK  |  OK  |  OK  |  OK  |   | 
| SCANVIS 1.2.0 | Phaedra Agius |  OK  |  OK  |  OK  |  OK  |   | 
| scater 1.16.2 | Davis McCarthy |  OK  |  OK  |  OK  |  OK  |   | 
| scBFA 1.2.0 | Ruoxin Li |  OK  |  OK  |  OK  |  OK  |   | 
| SCBN 1.6.0 | Yan Zhou |  OK  |  OK  |  OK  |  OK  |   | 
| scClassify 1.0.0 | Yingxin Lin |  OK  |  OK  |  OK  |  OK  |   | 
| scDblFinder 1.2.0 | Pierre-Luc Germain |  OK  |  OK  |  OK  |  OK  |   | 
| scDD 1.12.0 | Keegan Korthauer |  OK  |  OK  |  OK  |  OK  |   | 
| scde 2.16.0 | Jean Fan |  OK  |  OK  |  WARNINGS  |  OK  |   | 
| scds 1.4.0 | Dennis Kostka |  OK  |  OK  |  OK  |  OK  |   | 
| scFeatureFilter 1.8.0 | Guillaume Devailly |  OK  |  OK  |  OK  |  OK  |   | 
scfind 1.10.0 | Vladimir Kiselev |  OK  |  ERROR  |  skipped  |  skipped  |  | 
| scGPS 1.2.0 | Quan Nguyen |  OK  |  OK  |  OK  |  OK  |   | 
| schex 1.2.0 | Saskia Freytag |  OK  |  OK  |  OK  |  OK  |   | 
| scHOT 1.0.0 | Shila Ghazanfar |  OK  |  OK  |  OK  |  OK  |   | 
| ScISI 1.60.0 | Tony Chiang |  OK  |  OK  |  OK  |  OK  |   | 
| scMAGeCK 1.0.0 | Xiaolong Cheng |  OK  |  OK  |  OK  |  OK  |   | 
| scmap 1.10.0 | Vladimir Kiselev |  OK  |  OK  |  OK  |  OK  |   | 
| scMerge 1.4.0 | Kevin Wang |  OK  |  OK  |  OK  |  OK  |   | 
| scmeth 1.8.0 | Divy Kangeyan |  OK  |  OK  |  OK  |  OK  |   | 
| SCnorm 1.10.0 | Rhonda Bacher |  OK  |  OK  |  OK  |  OK  |   | 
| scone 1.12.0 | Davide Risso |  OK  |  OK  |  OK  |  OK  |   | 
| Sconify 1.8.0 | Tyler J Burns |  OK  |  OK  |  OK  |  OK  |   | 
| SCOPE 1.0.0 | Rujin Wang |  OK  |  OK  |  OK  |  OK  |   | 
| scoreInvHap 1.10.0 | Carlos Ruiz |  OK  |  OK  |  OK  |  OK  |   | 
| scPCA 1.2.0 | Philippe Boileau |  OK  |  OK  |  OK  |  OK  |   | 
| scPipe 1.10.0 | Luyi Tian |  OK  |  OK  |  OK  |  OK  |   | 
| scran 1.16.0 | Aaron Lun |  OK  |  OK  |  OK  |  OK  |   | 
| scRecover 1.4.1 | Zhun Miao |  OK  |  OK  |  OK  |  OK  |   | 
| scruff 1.6.0 | Zhe Wang |  OK  |  OK  |  OK  |  OK  |   | 
| scry 1.0.1 | F. William Townes |  OK  |  OK  |  OK  |  OK  |   | 
| scsR 1.24.0 | Andrea Franceschini , Roger Meier , Christian von Mering |  OK  |  OK  |  ERROR  |  OK  |  | 
| scTensor 1.4.3 | Koki Tsuyuzaki |  OK  |  OK  |  OK  |  OK  |   | 
| scTGIF 1.2.2 | Koki Tsuyuzaki |  OK  |  OK  |  OK  |  OK  |   | 
| scTHI 1.0.0 | Michele Ceccarelli |  OK  |  OK  |  OK  |  OK  |   | 
| SDAMS 1.8.0 | Yuntong Li |  OK  |  OK  |  OK  |  OK  |   | 
| segmentSeq 2.22.0 | Thomas J. Hardcastle |  OK  |  OK  |  OK  |  OK  |   | 
| selectKSigs 1.0.0 | Zhi Yang |  OK  |  OK  |  OK  |  OK  |   | 
| SELEX 1.20.0 | Harmen J. Bussemaker |  OK  |  OK  |  OK  |  OK  |   | 
| SemDist 1.22.0 | Ian Gonzalez |  OK  |  OK  |  OK  |  OK  |   | 
| semisup 1.12.4 | Armin Rauschenberger |  OK  |  OK  |  OK  |  OK  |   | 
| SEPIRA 1.8.0 | Yuting Chen |  OK  |  OK  |  OK  |  OK  |   | 
| seq2pathway 1.20.0 | Xinan Yang  with contribution from Zhezhen Wang |  OK  |  OK  |  WARNINGS  |  OK  |   | 
| SeqArray 1.28.1 | Xiuwen Zheng |  OK  |  OK  |  OK  |  OK  |   | 
| seqbias 1.36.0 | Daniel Jones |  OK  |  OK  |  WARNINGS  |  OK  |   | 
| seqCAT 1.10.0 | Erik Fasterius |  OK  |  OK  |  OK  |  OK  |   | 
| seqCNA 1.34.0 | David Mosen-Ansorena |  OK  |  OK  |  OK  |  OK  |   | 
| seqcombo 1.10.0 | Guangchuang Yu |  OK  |  OK  |  OK  |  OK  |   | 
| SeqGSEA 1.28.0 | Xi Wang |  OK  |  OK  |  WARNINGS  |  OK  |   | 
| seqLogo 1.54.3 | Robert Ivanek |  OK  |  OK  |  OK  |  OK  |   | 
| seqPattern 1.20.0 | Vanja Haberle |  OK  |  OK  |  OK  |  OK  |   | 
| seqplots 1.26.0 | Przemyslaw Stempor |  OK  |  OK  |  OK  |  OK  |   | 
| seqsetvis 1.8.0 | Joseph R Boyd |  OK  |  OK  |  OK  |  OK  |   | 
| SeqSQC 1.10.0 | Qian Liu |  OK  |  OK  |  OK  |  OK  |   | 
| seqTools 1.22.0 | Wolfgang Kaisers |  OK  |  OK  |  WARNINGS  |  OK  |   | 
| SeqVarTools 1.26.0 | Stephanie M. Gogarten |  OK  |  OK  |  OK  |  OK  |   | 
| sesame 1.6.0 | Wanding Zhou |  OK  |  OK  |  OK  |  OK  |   | 
| SEtools 1.2.0 | Pierre-Luc Germain |  OK  |  OK  |  OK  |  OK  |   | 
| sevenbridges 1.18.1 | Nan Xiao |  OK  |  OK  |  OK  |  OK  |   | 
| sevenC 1.8.0 | Jonas Ibn-Salem |  OK  |  OK  |  OK  |  OK  |   | 
| SGSeq 1.22.0 | Leonard Goldstein |  OK  |  OK  |  OK  |  OK  |   | 
| SharedObject 1.2.2 | Jiefei Wang |  OK  |  OK  |  OK  |  OK  |   | 
| shinyMethyl 1.24.0 | Jean-Philippe Fortin |  OK  |  OK  |  OK  |  OK  |   | 
| shinyTANDEM 1.26.0 | Frederic Fournier |  OK  |  OK  |  OK  |  OK  |   | 
| ShortRead 1.46.0 | Bioconductor Package Maintainer |  OK  |  OK  |  OK  |  OK  |   | 
| SIAMCAT 1.8.1 | Konrad Zych |  OK  |  OK  |  OK  |  OK  |   | 
| SICtools 1.18.0 | Xiaobin Xing |  OK  |  OK  |  WARNINGS  |  OK  |   | 
| sigaR 1.36.0 | Wessel N. van Wieringen |  OK  |  OK  |  ERROR  |  OK  |  | 
| SigCheck 2.20.0 | Rory Stark |  OK  |  OK  |  OK  |  OK  |   | 
| sigFeature 1.6.0 | Pijush Das Developer |  OK  |  OK  |  OK  |  OK  |   | 
| SigFuge 1.26.0 | Patrick Kimes |  OK  |  OK  |  OK  |  OK  |   | 
| siggenes 1.62.0 | Holger Schwender |  OK  |  OK  |  OK  |  OK  |   | 
| sights 1.14.0 | Elika Garg |  OK  |  OK  |  OK  |  OK  |   | 
| signatureSearch 1.2.5 | Yuzhu Duan |  OK  |  OK  |  OK  |  OK  |   | 
| signeR 1.14.0 | Renan Valieris |  OK  |  OK  |  OK  |  OK  |   | 
| signet 1.8.2 | Alexandre Gouy |  OK  |  ERROR  |  skipped  |  skipped  |  | 
| sigPathway 1.56.0 | Weil Lai |  OK  |  OK  |  OK  |  OK  |   | 
| SigsPack 1.2.0 | Franziska Schumann |  OK  |  OK  |  OK  |  OK  |   | 
| sigsquared 1.20.0 | UnJin Lee |  OK  |  OK  |  OK  |  OK  |   | 
| SIM 1.58.0 | Renee X. de Menezes |  OK  |  OK  |  OK  |  OK  |   | 
| SIMAT 1.20.0 | M. R. Nezami Ranjbar |  OK  |  OK  |  OK  |  OK  |   | 
| SimBindProfiles 1.26.0 | Bettina Fischer |  OK  |  OK  |  OK  |  OK  |   | 
| SIMD 1.6.0 | Jiadi Zhu |  OK  |  OK  |  OK  |  OK  |   | 
| SimFFPE 1.0.0 | Lanying Wei |  OK  |  OK  |  OK  |  OK  |   | 
| similaRpeak 1.20.0 | Astrid Deschenes |  OK  |  OK  |  OK  |  OK  |   | 
| SIMLR 1.14.0 | Luca De Sano |  OK  |  OK  |  OK  |  OK  |   | 
| simpleaffy 2.64.0 | Crispin Miller |  OK  |  OK  |  WARNINGS  |  OK  |   | 
| simulatorZ 1.22.0 | Yuqing Zhang |  OK  |  ERROR  |  skipped  |  skipped  |  | 
| sincell 1.20.0 | Miguel Julia , Antonio Rausell |  OK  |  OK  |  OK  |  OK  |   | 
| SingleCellExperiment 1.10.1 | Davide Risso |  OK  |  OK  |  OK  |  OK  |   | 
| SingleCellSignalR 1.0.0 | Jacques Colinge |  OK  |  OK  |  OK  |  OK  |   | 
| singleCellTK 1.8.0 | David Jenkins |  OK  |  OK  |  OK  |  OK  |   | 
| SingleR 1.2.4 | Aaron Lun |  OK  |  ERROR  |  skipped  |  skipped  |  | 
| singscore 1.8.0 | Dharmesh D. Bhuva |  OK  |  OK  |  OK  |  OK  |   | 
| SISPA 1.18.0 | Bhakti Dwivedi |  OK  |  OK  |  WARNINGS  |  OK  |   | 
| sitePath 1.4.2 | Chengyang Ji |  OK  |  OK  |  OK  |  OK  |   | 
| sizepower 1.58.0 | Weiliang Qiu |  OK  |  OK  |  OK  |  OK  |   | 
| skewr 1.20.0 | Ryan Putney |  OK  |  OK  |  OK  |  OK  |   | 
| slalom 1.10.0 | Davis McCarthy |  OK  |  OK  |  OK  |  OK  |   | 
| SLGI 1.48.0 | Nolwenn Le Meur |  OK  |  OK  |  OK  |  OK  |   | 
| slingshot 1.6.1 | Kelly Street |  OK  |  OK  |  OK  |  OK  |   | 
| slinky 1.6.0 | Eric J. Kort |  OK  |  OK  |  OK  |  OK  |   | 
| SLqPCR 1.54.0 | Matthias Kohl |  OK  |  OK  |  OK  |  OK  |   | 
| SMAD 1.4.0 | Qingzhou Zhang |  OK  |  OK  |  OK  |  OK  |   | 
| SMAP 1.52.0 | Robin Andersson |  OK  |  OK  |  OK  |  OK  |   | 
| SMITE 1.16.0 | Neil Ari Wijetunga |  OK  |  OK  |  OK  |  OK  |   | 
| SNAGEE 1.28.0 | David Venet |  OK  |  OK  |  OK  |  OK  |   | 
| snapCGH 1.58.0 | John Marioni |  OK  |  OK  |  OK  |  OK  |   | 
| snapcount 1.0.0 | Rone Charles |  OK  |  OK  |  OK  |  OK  |   | 
| snm 1.36.0 | John D. Storey |  OK  |  OK  |  OK  |  OK  |   | 
| SNPediaR 1.14.0 | David Montaner |  OK  |  OK  |  OK  |  OK  |   | 
| SNPhood 1.18.0 | Christian Arnold |  OK  |  OK  |  OK  |  OK  |   | 
| SNPRelate 1.22.0 | Xiuwen Zheng |  OK  |  OK  |  OK  |  OK  |   | 
| snpStats 1.38.0 | David Clayton |  OK  |  OK  |  OK  |  OK  |   | 
| soGGi 1.20.0 | Tom Carroll |  OK  |  OK  |  OK  |  OK  |   | 
| sojourner 1.2.1 | Sojourner Developer |  OK  |  OK  |  OK  |  OK  |   | 
| SomaticSignatures 2.24.0 | Julian Gehring |  OK  |  OK  |  OK  |  OK  |   | 
| SpacePAC 1.26.0 | Gregory Ryslik |  OK  |  OK  |  OK  |  OK  |   | 
| Spaniel 1.2.0 | Rachel Queen |  OK  |  OK  |  OK  |  OK  |   | 
| sparseDOSSA 1.12.0 | Boyu Ren, Emma Schwager |  OK  |  OK  |  OK  |  OK  |   | 
| sparseMatrixStats 1.0.5 | Constantin Ahlmann-Eltze |  OK  |  OK  |  OK  |  OK  |   | 
| sparsenetgls 1.6.1 | Irene SL Zeng |  OK  |  OK  |  OK  |  OK  |   | 
| SparseSignatures 1.8.0 | Luca De Sano |  OK  |  OK  |  OK  |  OK  |   | 
| SpatialCPie 1.4.0 | Joseph Bergenstraahle |  OK  |  OK  |  OK  |  OK  |   | 
| specL 1.22.0 | Christian Panse |  OK  |  OK  |  OK  |  OK  |   | 
| SpeCond 1.42.0 | Florence Cavalli |  OK  |  OK  |  OK  |  OK  |   | 
| SpectralTAD 1.4.0 | Kellen Cresswell |  ERROR  |  ERROR  |  skipped  |  skipped  |  | 
| SPEM 1.28.0 | Xinyi YANG |  OK  |  OK  |  OK  |  OK  |   | 
| SPIA 2.40.0 | Adi Laurentiu Tarca |  OK  |  OK  |  OK  |  OK  |   | 
| spicyR 1.0.1 | Ellis Patrick |  OK  |  OK  |  OK  |  OK  |   | 
| SpidermiR 1.18.2 | Claudia Cava |  OK  |  OK  |  WARNINGS  |  OK  |   | 
| spikeLI 2.48.0 | Enrico Carlon |  OK  |  OK  |  OK  |  OK  |   | 
| spkTools 1.44.0 | Matthew N McCall |  OK  |  OK  |  OK  |  OK  |   | 
| splatter 1.12.0 | Luke Zappia |  OK  |  OK  |  OK  |  OK  |   | 
splicegear 1.60.0 | Laurent Gautier |  OK  |  ERROR  |  skipped  |  skipped  |  | 
| SplicingGraphs 1.28.0 | H. Pagès |  OK  |  OK  |  WARNINGS  |  OK  |   | 
| splineTimeR 1.16.0 | Herbert Braselmann , Martin Selmansberger |  OK  |  OK  |  OK  |  OK  |   | 
| SPLINTER 1.14.0 | Diana Low |  OK  |  OK  |  OK  |  OK  |   | 
| splots 1.54.0 | Wolfgang Huber |  OK  |  OK  |  OK  |  OK  |   | 
| SPONGE 1.10.0 | Markus List |  OK  |  OK  |  OK  |  OK  |   | 
| spotSegmentation 1.62.0 | Chris Fraley |  OK  |  OK  |  ERROR  |  OK  |  | 
| spqn 1.0.0 | Yi Wang |  OK  |  OK  |  OK  |  OK  |   | 
| SQLDataFrame 1.2.0 | Qian Liu |  OK  |  OK  |  WARNINGS  |  OK  |   | 
| SQUADD 1.38.0 | Martial Sankar |  OK  |  OK  |  OK  |  OK  |   | 
| sRACIPE 1.4.0 | Vivek Kohar |  OK  |  OK  |  OK  |  OK  |   | 
| SRAdb 1.50.0 | Jack Zhu |  OK  |  OK  |  OK  |  OK  |   | 
sRAP 1.28.0 | Charles Warden |  OK  |  ERROR  |  skipped  |  skipped  |  | 
| SRGnet 1.14.0 | Isar Nassiri |  OK  |  OK  |  OK  |  OK  |   | 
| srnadiff 1.8.2 | Zytnicki Matthias |  OK  |  OK  |  OK  |  OK  |   | 
| sscore 1.60.0 | Richard Kennedy |  OK  |  OK  |  OK  |  OK  |   | 
| sscu 2.18.0 | Yu Sun |  OK  |  OK  |  WARNINGS  |  OK  |   | 
| sSeq 1.26.0 | Danni Yu |  OK  |  OK  |  OK  |  OK  |   | 
| ssize 1.62.0 | Gregory R. Warnes |  OK  |  OK  |  OK  |  OK  |   | 
| SSPA 2.28.0 | Maarten van Iterson |  OK  |  OK  |  WARNINGS  |  OK  |   | 
| ssPATHS 1.2.0 | Natalie R. Davidson |  OK  |  OK  |  OK  |  OK  |   | 
| ssrch 1.4.0 | VJ Carey |  OK  |  OK  |  OK  |  OK  |   | 
| ssviz 1.22.0 | Diana Low |  OK  |  OK  |  OK  |  OK  |   | 
| stageR 1.10.0 | Koen Van den Berge |  OK  |  OK  |  WARNINGS  |  OK  |   | 
| STAN 2.16.0 | Rafael Campos-Martin |  OK  |  OK  |  WARNINGS  |  OK  |   | 
| staRank 1.30.0 | Juliane Siebourg |  OK  |  OK  |  OK  |  OK  |   | 
| StarBioTrek 1.14.0 | Claudia Cava |  OK  |  OK  |  WARNINGS  |  OK  |   | 
| Starr 1.44.0 | Benedikt Zacher |  OK  |  OK  |  ERROR  |  OK  |  | 
| STATegRa 1.24.0 | David Gomez-Cabrero , Núria Planell |  OK  |  OK  |  OK  |  OK  |   | 
| statTarget 1.18.0 | Hemi Luan |  OK  |  OK  |  OK  |  OK  |   | 
| stepNorm 1.60.0 | Yuanyuan Xiao |  OK  |  OK  |  OK  |  OK  |   | 
| strandCheckR 1.6.0 | Thu-Hien To |  OK  |  OK  |  OK  |  OK  |   | 
| Streamer 1.34.0 | Martin Morgan |  OK  |  OK  |  OK  |  OK  |   | 
| STRINGdb 2.0.2 | Damian Szklarczyk |  OK  |  OK  |  OK  |  OK  |   | 
| STROMA4 1.12.0 | Sadiq Saleh |  OK  |  OK  |  OK  |  OK  |   | 
| struct 1.0.0 | Gavin Rhys Lloyd |  OK  |  OK  |  OK  |  OK  |   | 
| Structstrings 1.4.1 | Felix G.M. Ernst |  OK  |  OK  |  OK  |  OK  |   | 
| structToolbox 1.0.1 | Gavin Rhys Lloyd |  OK  |  OK  |  OK  |  OK  |   | 
| StructuralVariantAnnotation 1.4.0 | Daniel Cameron |  OK  |  OK  |  OK  |  OK  |   | 
| SubCellBarCode 1.4.0 | Taner Arslan |  OK  |  OK  |  OK  |  OK  |   | 
| subSeq 1.18.0 | Andrew J. Bass , John D. Storey |  OK  |  OK  |  OK  |  OK  |   | 
| SummarizedBenchmark 2.6.0 | Patrick Kimes |  OK  |  OK  |  OK  |  OK  |   | 
| SummarizedExperiment 1.18.2 | Bioconductor Package Maintainer |  OK  |  OK  |  OK  |  OK  |   | 
| supraHex 1.26.0 | Hai Fang |  OK  |  OK  |  OK  |  OK  |   | 
| survcomp 1.38.0 | Benjamin Haibe-Kains , Markus Schroeder , Catharina Olsen |  OK  |  OK  |  WARNINGS  |  OK  |   | 
| survtype 1.4.0 | Dongmin Jung |  OK  |  OK  |  OK  |  OK  |   | 
| Sushi 1.26.0 | Douglas H Phanstiel |  OK  |  OK  |  WARNINGS  |  OK  |   | 
| sva 3.36.0 | Jeffrey T. Leek , John D. Storey |  OK  |  OK  |  OK  |  OK  |   | 
| SVAPLSseq 1.14.0 | Sutirtha Chakraborty |  OK  |  OK  |  ERROR  |  OK  |  | 
| SWATH2stats 1.18.0 | Peter Blattmann |  OK  |  OK  |  OK  |  OK  |   | 
| SwathXtend 2.10.0 | Jemma Wu |  OK  |  OK  |  WARNINGS  |  OK  |   | 
| swfdr 1.14.0 | Simina M. Boca , Jeffrey T. Leek |  OK  |  OK  |  OK  |  OK  |   | 
| SwimR 1.26.0 | Randy Blakely |  OK  |  OK  |  OK  |  OK  |   | 
| switchBox 1.24.0 | Bahman Afsari , Luigi Marchionni |  OK  |  OK  |  WARNINGS  |  OK  |   | 
| switchde 1.14.0 | Kieran Campbell |  OK  |  OK  |  OK  |  OK  |   | 
| synapter 2.12.0 | Laurent Gatto |  OK  |  OK  |  OK  |  OK  |   | 
| synergyfinder 2.2.4 | Shuyu Zheng |  OK  |  OK  |  OK  |  OK  |   | 
| SynExtend 1.0.0 | Nicholas Cooley |  OK  |  OK  |  OK  |  OK  |   | 
| synlet 1.18.0 | Chunxuan Shao |  OK  |  OK  |  OK  |  OK  |   | 
| SynMut 1.4.0 | Haogao Gu |  OK  |  OK  |  OK  |  OK  |   | 
| systemPipeR 1.22.0 | Thomas Girke |  OK  |  OK  |  OK  |  OK  |   | 
 | 
 |  | 
| TAPseq 1.0.0 | Andreas Gschwind |  OK  |  OK  |  WARNINGS  |  OK  |   | 
| target 1.2.0 | Mahmoud Ahmed |  OK  |  OK  |  OK  |  OK  |   | 
| TargetScore 1.26.0 | Yue Li |  OK  |  OK  |  OK  |  OK  |   | 
| TargetSearch 1.44.0 | Alvaro Cuadros-Inostroza |  OK  |  OK  |  OK  |  OK  |   | 
| TarSeqQC 1.18.0 | Gabriela Merino |  OK  |  OK  |  OK  |  OK  |   | 
| TBSignatureProfiler 1.0.0 | David Jenkins |  OK  |  OK  |  OK  |  OK  |   | 
| TCC 1.28.0 | Jianqiang Sun |  OK  |  OK  |  WARNINGS  |  OK  |   | 
| TCGAbiolinks 2.16.4 | Tiago Chedraoui Silva |  OK  |  OK  |  WARNINGS  |  OK  |   | 
| TCGAbiolinksGUI 1.14.0 | Tiago C. Silva |  OK  |  OK  |  OK  |  OK  |   | 
| TCGAutils 1.8.1 | Marcel Ramos |  OK  |  OK  |  OK  |  OK  |   | 
| TCseq 1.12.1 | Mengjun Wu |  OK  |  OK  |  OK  |  OK  |   | 
| TDARACNE 1.38.0 | Zoppoli Pietro |  OK  |  OK  |  OK  |  OK  |   | 
| tenXplore 1.10.0 | VJ Carey |  OK  |  OK  |  OK  |  OK  |   | 
| TEQC 4.10.0 | Manuela Hummel |  OK  |  ERROR  |  skipped  |  skipped  |  | 
| ternarynet 1.32.0 | Matthew N. McCall |  OK  |  OK  |  OK  |  OK  |   | 
| TFARM 1.10.0 | Liuba Nausicaa Martino |  OK  |  OK  |  OK  |  OK  |   | 
| TFBSTools 1.26.0 | Ge Tan |  OK  |  OK  |  OK  |  OK  |   | 
| TFEA.ChIP 1.8.0 | Laura Puente Santamaría |  OK  |  OK  |  OK  |  OK  |   | 
| TFHAZ 1.10.0 | Alberto Marchesi |  OK  |  OK  |  OK  |  OK  |   | 
| TFutils 1.8.0 | Shweta Gopaulakrishnan |  OK  |  OK  |  WARNINGS  |  OK  |   | 
| tidybulk 1.0.2 | Stefano Mangiola |  OK  |  OK  |  WARNINGS  |  OK  |   | 
| tigre 1.42.0 | Antti Honkela |  OK  |  OK  |  OK  |  OK  |   | 
| tilingArray 1.66.0 | Zhenyu Xu |  OK  |  OK  |  OK  |  OK  |   | 
| timecourse 1.60.0 | Yu Chuan Tai |  OK  |  OK  |  OK  |  OK  |   | 
| timeOmics 1.0.1 | Antoine Bodein |  ERROR  |  ERROR  |  skipped  |  skipped  |  | 
| timescape 1.12.0 | Maia Smith |  OK  |  OK  |  WARNINGS  |  OK  |   | 
| TimeSeriesExperiment 1.6.0 | Lan Huong Nguyen |  OK  |  OK  |  WARNINGS  |  OK  |   | 
| TIN 1.20.0 | Bjarne Johannessen |  OK  |  OK  |  OK  |  OK  |   | 
| TissueEnrich 1.8.0 | Ashish Jain |  OK  |  OK  |  OK  |  OK  |   | 
| TitanCNA 1.26.0 | Gavin Ha |  OK  |  OK  |  WARNINGS  |  OK  |   | 
| tkWidgets 1.66.0 | J. Zhang |  OK  |  OK  |  OK  |  OK  |   | 
| TMixClust 1.10.0 | Monica Golumbeanu |  OK  |  OK  |  OK  |  OK  |   | 
| TNBC.CMS 1.4.0 | Doyeong Yu |  OK  |  OK  |  OK  |  OK  |   | 
| TnT 1.10.0 | Jialin Ma |  OK  |  OK  |  OK  |  OK  |   | 
| TOAST 1.2.0 | Ziyi Li |  OK  |  OK  |  OK  |  OK  |   | 
| tofsims 1.16.0 | Lorenz Gerber |  ERROR  |  ERROR  |  skipped  |  skipped  |  | 
| ToPASeq 1.22.0 | Ivana Ihnatova |  OK  |  OK  |  WARNINGS  |  OK  |   | 
| topconfects 1.4.0 | Paul Harrison |  OK  |  OK  |  OK  |  OK  |   | 
| topdownr 1.10.0 | Sebastian Gibb |  OK  |  OK  |  OK  |  OK  |   | 
| topGO 2.40.0 | Adrian Alexa |  OK  |  OK  |  OK  |  OK  |   | 
| TPP 3.16.5 | Dorothee Childs |  OK  |  OK  |  OK  |  OK  |   | 
| TPP2D 1.4.1 | Nils Kurzawa |  OK  |  OK  |  OK  |  OK  |   | 
| tracktables 1.22.0 | Tom Carroll |  OK  |  OK  |  WARNINGS  |  OK  |   | 
| trackViewer 1.24.2 | Jianhong Ou |  OK  |  OK  |  OK  |  OK  |   | 
| tradeSeq 1.2.01 | Hector Roux de Bezieux |  OK  |  OK  |  OK  |  OK  |   | 
| transcriptogramer 1.10.0 | Diego Morais |  OK  |  OK  |  OK  |  OK  |   | 
| transcriptR 1.16.0 | Armen R. Karapetyan |  OK  |  OK  |  OK  |  OK  |   | 
| transite 1.6.2 | Konstantin Krismer |  OK  |  OK  |  OK  |  OK  |   | 
| tRanslatome 1.26.0 | Toma Tebaldi , Erik Dassi |  OK  |  OK  |  WARNINGS  |  OK  |   | 
| TransView 1.32.0 | Julius Muller |  OK  |  OK  |  OK  |  OK  |   | 
| traseR 1.18.0 | li chen |  OK  |  OK  |  OK  |  OK  |   | 
| TreeAndLeaf 1.0.0 | Milena Cardoso |  OK  |  OK  |  OK  |  OK  |   | 
| treeio 1.12.0 | Guangchuang Yu |  OK  |  OK  |  OK  |  OK  |   | 
| TreeSummarizedExperiment 1.4.8 | Ruizhu Huang |  OK  |  OK  |  OK  |  OK  |   | 
| trena 1.10.2 | Paul Shannon |  OK  |  OK  |  WARNINGS  |  OK  |   | 
| Trendy 1.10.0 | Rhonda Bacher |  OK  |  OK  |  OK  |  OK  |   | 
triform 1.30.0 | Thomas Carroll |  OK  |  ERROR  |  skipped  |  skipped  |  | 
| trigger 1.34.0 | John D. Storey |  OK  |  OK  |  OK  |  OK  |   | 
| trio 3.26.0 | Holger Schwender |  OK  |  OK  |  OK  |  OK  |   | 
| triplex 1.28.0 | Jiri Hon |  OK  |  OK  |  OK  |  OK  |   | 
| tRNA 1.6.1 | Felix GM Ernst |  OK  |  OK  |  OK  |  OK  |   | 
| tRNAdbImport 1.6.1 | Felix G.M. Ernst |  OK  |  OK  |  OK  |  OK  |   | 
| tRNAscanImport 1.8.1 | Felix G.M. Ernst |  OK  |  OK  |  OK  |  OK  |   | 
| TRONCO 2.20.1 | Luca De Sano |  OK  |  OK  |  OK  |  OK  |   | 
| TSCAN 1.26.0 | Zhicheng Ji |  OK  |  OK  |  OK  |  OK  |   | 
| tscR 1.0.1 | Pérez-Sanz, Fernando |  OK  |  OK  |  WARNINGS  |  OK  |   | 
| tspair 1.46.0 | Jeffrey T. Leek |  OK  |  OK  |  OK  |  OK  |   | 
| TSRchitect 1.14.0 | R. Taylor Raborn |  OK  |  OK  |  WARNINGS  |  OK  |   | 
| TTMap 1.10.0 | Rachel Jeitziner |  OK  |  OK  |  WARNINGS  |  OK  |   | 
| TurboNorm 1.36.0 | Maarten van Iterson |  OK  |  OK  |  OK  |  OK  |   | 
| TVTB 1.14.0 | Kevin Rue-Albrecht |  OK  |  OK  |  OK  |  OK  |   | 
| tweeDEseq 1.34.0 | Juan R Gonzalez |  OK  |  OK  |  OK  |  OK  |   | 
| twilight 1.64.0 | Stefanie Scheid |  OK  |  OK  |  WARNINGS  |  OK  |   | 
| twoddpcr 1.12.0 | Anthony Chiu |  OK  |  OK  |  OK  |  OK  |   | 
| tximeta 1.6.3 | Michael Love |  OK  |  OK  |  OK  |  OK  |   | 
| tximport 1.16.1 | Michael Love |  OK  |  OK  |  OK  |  OK  |   | 
| TxRegInfra 1.8.0 | VJ Carey |  OK  |  OK  |  OK  |  OK  |   | 
| TypeInfo 1.54.0 | Duncan Temple Lang |  OK  |  OK  |  OK  |  OK  |   | 
 | 
 |  | 
| Ularcirc 1.6.0 | David Humphreys |  OK  |  OK  |  OK  |  OK  |   | 
| UNDO 1.30.0 | Niya Wang |  OK  |  OK  |  OK  |  OK  |   | 
| unifiedWMWqPCR 1.24.0 | Joris Meys |  OK  |  OK  |  WARNINGS  |  OK  |   | 
| UniProt.ws 2.28.0 | Bioconductor Package Maintainer |  OK  |  OK  |  OK  |  OK  |   | 
| Uniquorn 2.8.0 | 'Raik Otto' |  OK  |  OK  |  OK  |  OK  |   | 
| universalmotif 1.6.4 | Benjamin Jean-Marie Tremblay |  OK  |  OK  |  OK  |  OK  |   | 
| uSORT 1.14.0 | Hao Chen |  OK  |  OK  |  WARNINGS  |  OK  |   | 
 | 
 |  | 
| VanillaICE 1.50.0 | Robert Scharpf |  OK  |  OK  |  OK  |  OK  |   | 
| variancePartition 1.18.3 | Gabriel E. Hoffman |  OK  |  OK  |  OK  |  OK  |   | 
| VariantAnnotation 1.34.0 | Bioconductor Package Maintainer |  OK  |  OK  |  OK  |  OK  |   | 
| VariantExperiment 1.2.0 | Qian Liu |  OK  |  OK  |  OK  |  OK  |   | 
| VariantFiltering 1.24.0 | Robert Castelo |  OK  |  OK  |  OK  |  OK  |   | 
| VariantTools 1.30.0 | Michael Lawrence |  OK  |  OK  |  WARNINGS  |  OK  |   | 
| vasp 1.0.0 | Huihui Yu |  OK  |  OK  |  OK  |  OK  |   | 
| vbmp 1.56.0 | Nicola Lama |  OK  |  OK  |  OK  |  OK  |   | 
| VCFArray 1.4.0 | Qian Liu |  OK  |  OK  |  OK  |  OK  |   | 
Vega 1.36.0 | Sandro Morganella |  OK  |  OK  |  ERROR  |  OK  |  | 
| VegaMC 3.26.0 | Sandro Morganella |  OK  |  OK  |  WARNINGS  |  OK  |   | 
| VennDetail 1.4.0 | Kai Guo |  OK  |  OK  |  OK  |  OK  |   | 
| vidger 1.8.0 | Brandon Monier |  OK  |  OK  |  OK  |  OK  |   | 
| viper 1.22.0 | Mariano J Alvarez |  OK  |  OK  |  WARNINGS  |  OK  |   | 
| ViSEAGO 1.2.0 | Aurelien Brionne |  OK  |  OK  |  ERROR  |  OK  |  | 
| vsn 3.56.0 | Wolfgang Huber |  OK  |  OK  |  OK  |  OK  |   | 
| vtpnet 0.28.0 | VJ Carey |  OK  |  OK  |  OK  |  OK  |   | 
| vulcan 1.10.0 | Federico M. Giorgi |  OK  |  OK  |  OK  |  OK  |   | 
 | 
 |  | 
| waddR 1.2.0 | Julian Flesch |  OK  |  OK  |  OK  |  OK  |   | 
| wateRmelon 1.32.0 | Leo |  OK  |  OK  |  OK  |  OK  |   | 
| wavClusteR 2.22.0 | Federico Comoglio |  ERROR  |  ERROR  |  skipped  |  skipped  |  | 
waveTiling 1.30.0 | Kristof De Beuf |  ERROR  |  ERROR  |  skipped  |  skipped  |  | 
| weaver 1.54.0 | Seth Falcon |  OK  |  OK  |  WARNINGS  |  OK  |   | 
| webbioc 1.60.0 | Colin A. Smith |  OK  |  OK  |  WARNINGS  |  OK  |   | 
| weitrix 1.0.0 | Paul Harrison |  OK  |  ERROR  |  skipped  |  skipped  |  | 
| widgetTools 1.66.0 | Jianhua Zhang |  OK  |  OK  |  OK  |  OK  |   | 
| wiggleplotr 1.12.1 | Kaur Alasoo |  OK  |  OK  |  OK  |  OK  |   | 
| Wrench 1.6.0 | Hector Corrada Bravo |  OK  |  OK  |  OK  |  OK  |   | 
 | 
 |  | 
| XBSeq 1.20.0 | Yuanhang Liu |  OK  |  OK  |  OK  |  OK  |   | 
| XCIR 1.2.0 | Renan Sauteraud |  OK  |  OK  |  OK  |  OK  |   | 
| xcms 3.10.2 | Steffen Neumann |  OK  |  TIMEOUT  |  skipped  |  skipped  |  | 
| XDE 2.34.0 | Robert Scharpf |  OK  |  OK  |  OK  |  OK  |   | 
| Xeva 1.4.0 | Benjamin Haibe-Kains |  OK  |  OK  |  OK  |  OK  |   | 
| XINA 1.6.0 | Lang Ho Lee |  OK  |  OK  |  OK  |  OK  |   | 
| xmapbridge 1.46.0 | Chris Wirth |  OK  |  OK  |  OK  |  OK  |   | 
| xps  |  | ...NOT SUPPORTED... | 
| XVector 0.28.0 | Hervé Pagès |  OK  |  OK  |  WARNINGS  |  OK  |   | 
 | 
 |  | 
| yamss 1.14.0 | Leslie Myint |  OK  |  OK  |  OK  |  OK  |   | 
| YAPSA 1.14.0 | Daniel Huebschmann |  OK  |  OK  |  OK  |  OK  |   | 
| yaqcaffy 1.48.0 | Laurent Gatto |  OK  |  OK  |  OK  |  OK  |   | 
| yarn 1.14.0 | Joseph N Paulson |  OK  |  OK  |  OK  |  OK  |   | 
 | 
 |  | 
| zFPKM 1.10.0 | Ron Ammar |  OK  |  OK  |  OK  |  OK  |   | 
| zinbwave 1.10.1 | Davide Risso |  OK  |  OK  |  OK  |  OK  |   | 
| zlibbioc 1.34.0 | Bioconductor Package Maintainer |  OK  |  OK  |  OK  |  OK  |   |