| Back to Multiple platform build/check report for BioC 3.11 |
|
This page was generated on 2020-10-17 11:59:32 -0400 (Sat, 17 Oct 2020).
| TO THE DEVELOPERS/MAINTAINERS OF THE Sconify PACKAGE: Please make sure to use the following settings in order to reproduce any error or warning you see on this page. |
| Package 1604/1905 | Hostname | OS / Arch | INSTALL | BUILD | CHECK | BUILD BIN | ||||||
| Sconify 1.8.0 Tyler J Burns
| malbec2 | Linux (Ubuntu 18.04.4 LTS) / x86_64 | OK | OK | OK | |||||||
| tokay2 | Windows Server 2012 R2 Standard / x64 | OK | OK | OK | OK | |||||||
| machv2 | macOS 10.14.6 Mojave / x86_64 | OK | OK | [ OK ] | OK |
| Package: Sconify |
| Version: 1.8.0 |
| Command: /Library/Frameworks/R.framework/Versions/Current/Resources/bin/R CMD check --install=check:Sconify.install-out.txt --library=/Library/Frameworks/R.framework/Versions/Current/Resources/library --no-vignettes --timings Sconify_1.8.0.tar.gz |
| StartedAt: 2020-10-17 05:06:06 -0400 (Sat, 17 Oct 2020) |
| EndedAt: 2020-10-17 05:08:37 -0400 (Sat, 17 Oct 2020) |
| EllapsedTime: 151.2 seconds |
| RetCode: 0 |
| Status: OK |
| CheckDir: Sconify.Rcheck |
| Warnings: 0 |
##############################################################################
##############################################################################
###
### Running command:
###
### /Library/Frameworks/R.framework/Versions/Current/Resources/bin/R CMD check --install=check:Sconify.install-out.txt --library=/Library/Frameworks/R.framework/Versions/Current/Resources/library --no-vignettes --timings Sconify_1.8.0.tar.gz
###
##############################################################################
##############################################################################
* using log directory ‘/Users/biocbuild/bbs-3.11-bioc/meat/Sconify.Rcheck’
* using R version 4.0.3 (2020-10-10)
* using platform: x86_64-apple-darwin17.0 (64-bit)
* using session charset: UTF-8
* using option ‘--no-vignettes’
* checking for file ‘Sconify/DESCRIPTION’ ... OK
* checking extension type ... Package
* this is package ‘Sconify’ version ‘1.8.0’
* package encoding: UTF-8
* checking package namespace information ... OK
* checking package dependencies ... OK
* checking if this is a source package ... OK
* checking if there is a namespace ... OK
* checking for hidden files and directories ... OK
* checking for portable file names ... OK
* checking for sufficient/correct file permissions ... OK
* checking whether package ‘Sconify’ can be installed ... OK
* checking installed package size ... OK
* checking package directory ... OK
* checking ‘build’ directory ... OK
* checking DESCRIPTION meta-information ... OK
* checking top-level files ... OK
* checking for left-over files ... OK
* checking index information ... OK
* checking package subdirectories ... OK
* checking R files for non-ASCII characters ... OK
* checking R files for syntax errors ... OK
* checking whether the package can be loaded ... OK
* checking whether the package can be loaded with stated dependencies ... OK
* checking whether the package can be unloaded cleanly ... OK
* checking whether the namespace can be loaded with stated dependencies ... OK
* checking whether the namespace can be unloaded cleanly ... OK
* checking dependencies in R code ... OK
* checking S3 generic/method consistency ... OK
* checking replacement functions ... OK
* checking foreign function calls ... OK
* checking R code for possible problems ... OK
* checking Rd files ... OK
* checking Rd metadata ... OK
* checking Rd cross-references ... OK
* checking for missing documentation entries ... OK
* checking for code/documentation mismatches ... OK
* checking Rd \usage sections ... OK
* checking Rd contents ... OK
* checking for unstated dependencies in examples ... OK
* checking contents of ‘data’ directory ... OK
* checking data for non-ASCII characters ... OK
* checking data for ASCII and uncompressed saves ... OK
* checking files in ‘vignettes’ ... OK
* checking examples ... OK
Examples with CPU (user + system) or elapsed time > 5s
user system elapsed
SconeValues 23.412 0.153 23.587
ImputeTesting 6.029 0.024 6.064
* checking for unstated dependencies in ‘tests’ ... OK
* checking tests ...
Running ‘testthat.R’
OK
* checking for unstated dependencies in vignettes ... OK
* checking package vignettes in ‘inst/doc’ ... OK
* checking running R code from vignettes ... SKIPPED
* checking re-building of vignette outputs ... SKIPPED
* checking PDF version of manual ... OK
* DONE
Status: OK
Sconify.Rcheck/00install.out
############################################################################## ############################################################################## ### ### Running command: ### ### /Library/Frameworks/R.framework/Versions/Current/Resources/bin/R CMD INSTALL Sconify ### ############################################################################## ############################################################################## * installing to library ‘/Library/Frameworks/R.framework/Versions/4.0/Resources/library’ * installing *source* package ‘Sconify’ ... ** using staged installation ** R ** data *** moving datasets to lazyload DB ** inst ** byte-compile and prepare package for lazy loading Note: wrong number of arguments to '/' Note: wrong number of arguments to 'asinh' ** help *** installing help indices ** building package indices ** installing vignettes ** testing if installed package can be loaded from temporary location ** testing if installed package can be loaded from final location ** testing if installed package keeps a record of temporary installation path * DONE (Sconify)
Sconify.Rcheck/tests/testthat.Rout
R version 4.0.3 (2020-10-10) -- "Bunny-Wunnies Freak Out"
Copyright (C) 2020 The R Foundation for Statistical Computing
Platform: x86_64-apple-darwin17.0 (64-bit)
R is free software and comes with ABSOLUTELY NO WARRANTY.
You are welcome to redistribute it under certain conditions.
Type 'license()' or 'licence()' for distribution details.
R is a collaborative project with many contributors.
Type 'contributors()' for more information and
'citation()' on how to cite R or R packages in publications.
Type 'demo()' for some demos, 'help()' for on-line help, or
'help.start()' for an HTML browser interface to help.
Type 'q()' to quit R.
> library(testthat)
> library(Sconify)
>
> test_check("Sconify")
Read the 100 x 27 data matrix successfully!
Using no_dims = 2, perplexity = 30.000000, and theta = 0.500000
Computing input similarities...
Building tree...
Done in 0.01 seconds (sparsity = 0.968200)!
Learning embedding...
Iteration 50: error is 48.633309 (50 iterations in 0.02 seconds)
Iteration 100: error is 52.200918 (50 iterations in 0.02 seconds)
Iteration 150: error is 52.106736 (50 iterations in 0.02 seconds)
Iteration 200: error is 52.469007 (50 iterations in 0.02 seconds)
Iteration 250: error is 52.201917 (50 iterations in 0.02 seconds)
Iteration 300: error is 0.949278 (50 iterations in 0.02 seconds)
Iteration 350: error is 0.212552 (50 iterations in 0.01 seconds)
Iteration 400: error is 0.167651 (50 iterations in 0.02 seconds)
Iteration 450: error is 0.156394 (50 iterations in 0.02 seconds)
Iteration 500: error is 0.157470 (50 iterations in 0.02 seconds)
Iteration 550: error is 0.153725 (50 iterations in 0.02 seconds)
Iteration 600: error is 0.152659 (50 iterations in 0.02 seconds)
Iteration 650: error is 0.151435 (50 iterations in 0.02 seconds)
Iteration 700: error is 0.150923 (50 iterations in 0.02 seconds)
Iteration 750: error is 0.150949 (50 iterations in 0.02 seconds)
Iteration 800: error is 0.151397 (50 iterations in 0.02 seconds)
Iteration 850: error is 0.151225 (50 iterations in 0.02 seconds)
Iteration 900: error is 0.151427 (50 iterations in 0.02 seconds)
Iteration 950: error is 0.151750 (50 iterations in 0.02 seconds)
Iteration 1000: error is 0.151686 (50 iterations in 0.02 seconds)
Fitting performed in 0.36 seconds.
Read the 1000 x 27 data matrix successfully!
Using no_dims = 2, perplexity = 30.000000, and theta = 0.500000
Computing input similarities...
Building tree...
Done in 0.20 seconds (sparsity = 0.129120)!
Learning embedding...
Iteration 50: error is 64.822732 (50 iterations in 0.45 seconds)
Iteration 100: error is 61.000183 (50 iterations in 0.38 seconds)
Iteration 150: error is 60.457734 (50 iterations in 0.35 seconds)
Iteration 200: error is 60.252589 (50 iterations in 0.36 seconds)
Iteration 250: error is 60.153105 (50 iterations in 0.36 seconds)
Iteration 300: error is 1.356613 (50 iterations in 0.27 seconds)
Iteration 350: error is 1.238599 (50 iterations in 0.24 seconds)
Iteration 400: error is 1.205310 (50 iterations in 0.26 seconds)
Iteration 450: error is 1.189404 (50 iterations in 0.26 seconds)
Iteration 500: error is 1.177890 (50 iterations in 0.25 seconds)
Iteration 550: error is 1.171388 (50 iterations in 0.26 seconds)
Iteration 600: error is 1.166373 (50 iterations in 0.25 seconds)
Iteration 650: error is 1.163748 (50 iterations in 0.24 seconds)
Iteration 700: error is 1.161575 (50 iterations in 0.25 seconds)
Iteration 750: error is 1.159537 (50 iterations in 0.24 seconds)
Iteration 800: error is 1.157575 (50 iterations in 0.24 seconds)
Iteration 850: error is 1.155610 (50 iterations in 0.25 seconds)
Iteration 900: error is 1.154905 (50 iterations in 0.24 seconds)
Iteration 950: error is 1.153648 (50 iterations in 0.24 seconds)
Iteration 1000: error is 1.152422 (50 iterations in 0.25 seconds)
Fitting performed in 5.66 seconds.
══ testthat results ═══════════════════════════════════════════════════════════
[ OK: 72 | SKIPPED: 0 | WARNINGS: 3 | FAILED: 0 ]
>
> proc.time()
user system elapsed
37.848 0.584 39.255
Sconify.Rcheck/Sconify-Ex.timings
| name | user | system | elapsed | |
| FcsToTibble | 0.309 | 0.013 | 0.323 | |
| Fnn | 0.700 | 1.643 | 2.434 | |
| GetKnnDe | 0.115 | 0.013 | 0.127 | |
| GetMarkerNames | 0.041 | 0.003 | 0.043 | |
| ImputeTesting | 6.029 | 0.024 | 6.064 | |
| MakeHist | 0.384 | 0.010 | 0.396 | |
| MakeKnnList | 0.399 | 0.010 | 0.409 | |
| MeaningOfLife | 0.001 | 0.000 | 0.002 | |
| ParseMarkers | 0.095 | 0.015 | 0.114 | |
| PostProcessing | 0.118 | 0.002 | 0.121 | |
| ProcessMultipleFiles | 0.185 | 0.005 | 0.190 | |
| QuantNormalizeElements | 0.224 | 0.004 | 0.228 | |
| SconeValues | 23.412 | 0.153 | 23.587 | |
| SplitFile | 0.135 | 0.004 | 0.140 | |
| StringToNumbers | 0.001 | 0.001 | 0.001 | |
| SubsampleAndTsne | 2.627 | 0.006 | 2.635 | |
| TsneVis | 0.262 | 0.004 | 0.267 | |