| Back to Multiple platform build/check report for BioC 3.11 |
|
This page was generated on 2020-10-17 11:59:18 -0400 (Sat, 17 Oct 2020).
| TO THE DEVELOPERS/MAINTAINERS OF THE qcmetrics PACKAGE: Please make sure to use the following settings in order to reproduce any error or warning you see on this page. |
| Package 1387/1905 | Hostname | OS / Arch | INSTALL | BUILD | CHECK | BUILD BIN | ||||||
| qcmetrics 1.26.0 Laurent Gatto
| malbec2 | Linux (Ubuntu 18.04.4 LTS) / x86_64 | OK | OK | OK | |||||||
| tokay2 | Windows Server 2012 R2 Standard / x64 | OK | OK | OK | OK | |||||||
| machv2 | macOS 10.14.6 Mojave / x86_64 | OK | OK | [ OK ] | OK |
| Package: qcmetrics |
| Version: 1.26.0 |
| Command: /Library/Frameworks/R.framework/Versions/Current/Resources/bin/R CMD check --install=check:qcmetrics.install-out.txt --library=/Library/Frameworks/R.framework/Versions/Current/Resources/library --no-vignettes --timings qcmetrics_1.26.0.tar.gz |
| StartedAt: 2020-10-17 04:14:28 -0400 (Sat, 17 Oct 2020) |
| EndedAt: 2020-10-17 04:16:03 -0400 (Sat, 17 Oct 2020) |
| EllapsedTime: 95.2 seconds |
| RetCode: 0 |
| Status: OK |
| CheckDir: qcmetrics.Rcheck |
| Warnings: 0 |
##############################################################################
##############################################################################
###
### Running command:
###
### /Library/Frameworks/R.framework/Versions/Current/Resources/bin/R CMD check --install=check:qcmetrics.install-out.txt --library=/Library/Frameworks/R.framework/Versions/Current/Resources/library --no-vignettes --timings qcmetrics_1.26.0.tar.gz
###
##############################################################################
##############################################################################
* using log directory ‘/Users/biocbuild/bbs-3.11-bioc/meat/qcmetrics.Rcheck’
* using R version 4.0.3 (2020-10-10)
* using platform: x86_64-apple-darwin17.0 (64-bit)
* using session charset: UTF-8
* using option ‘--no-vignettes’
* checking for file ‘qcmetrics/DESCRIPTION’ ... OK
* checking extension type ... Package
* this is package ‘qcmetrics’ version ‘1.26.0’
* checking package namespace information ... OK
* checking package dependencies ... OK
* checking if this is a source package ... OK
* checking if there is a namespace ... OK
* checking for hidden files and directories ... OK
* checking for portable file names ... OK
* checking for sufficient/correct file permissions ... OK
* checking whether package ‘qcmetrics’ can be installed ... OK
* checking installed package size ... OK
* checking package directory ... OK
* checking ‘build’ directory ... OK
* checking DESCRIPTION meta-information ... OK
* checking top-level files ... OK
* checking for left-over files ... OK
* checking index information ... OK
* checking package subdirectories ... OK
* checking R files for non-ASCII characters ... OK
* checking R files for syntax errors ... OK
* checking whether the package can be loaded ... OK
* checking whether the package can be loaded with stated dependencies ... OK
* checking whether the package can be unloaded cleanly ... OK
* checking whether the namespace can be loaded with stated dependencies ... OK
* checking whether the namespace can be unloaded cleanly ... OK
* checking dependencies in R code ... NOTE
Unexported object imported by a ':::' call: ‘yaqcaffy:::.plotQCRatios’
See the note in ?`:::` about the use of this operator.
* checking S3 generic/method consistency ... NOTE
Found the following apparent S3 methods exported but not registered:
as.data.frame.QcMetrics
See section ‘Registering S3 methods’ in the ‘Writing R Extensions’
manual.
* checking replacement functions ... OK
* checking foreign function calls ... OK
* checking R code for possible problems ... NOTE
n15qc: no visible global function definition for ‘fvarLabels’
n15qc: no visible global function definition for ‘fData’
n15qc : <anonymous>: no visible global function definition for ‘ggplot’
n15qc : <anonymous>: no visible global function definition for ‘aes’
n15qc : <anonymous>: no visible global function definition for
‘geom_jitter’
n15qc : <anonymous>: no visible global function definition for
‘geom_boxplot’
n15qc : <anonymous>: no visible global function definition for
‘geom_hline’
n15qc : <anonymous>: no visible global function definition for ‘labs’
n15qc: no visible global function definition for ‘fData<-’
n15qc: no visible global function definition for ‘combineFeatures’
n15qc: no visible global function definition for ‘exprs’
n15qc: no visible global function definition for ‘fileNames’
n15qc: no visible global function definition for ‘experimentData’
Undefined global functions or variables:
aes combineFeatures experimentData exprs fData fData<- fileNames
fvarLabels geom_boxplot geom_hline geom_jitter ggplot labs
* checking Rd files ... OK
* checking Rd metadata ... OK
* checking Rd cross-references ... OK
* checking for missing documentation entries ... OK
* checking for code/documentation mismatches ... OK
* checking Rd \usage sections ... OK
* checking Rd contents ... OK
* checking for unstated dependencies in examples ... OK
* checking contents of ‘data’ directory ... OK
* checking data for non-ASCII characters ... OK
* checking data for ASCII and uncompressed saves ... OK
* checking sizes of PDF files under ‘inst/doc’ ... OK
* checking files in ‘vignettes’ ... OK
* checking examples ... OK
Examples with CPU (user + system) or elapsed time > 5s
user system elapsed
psm 5.187 0.235 5.432
qcReport-methods 4.375 0.999 5.471
* checking for unstated dependencies in vignettes ... OK
* checking package vignettes in ‘inst/doc’ ... OK
* checking running R code from vignettes ... SKIPPED
* checking re-building of vignette outputs ... SKIPPED
* checking PDF version of manual ... OK
* DONE
Status: 3 NOTEs
See
‘/Users/biocbuild/bbs-3.11-bioc/meat/qcmetrics.Rcheck/00check.log’
for details.
qcmetrics.Rcheck/00install.out
############################################################################## ############################################################################## ### ### Running command: ### ### /Library/Frameworks/R.framework/Versions/Current/Resources/bin/R CMD INSTALL qcmetrics ### ############################################################################## ############################################################################## * installing to library ‘/Library/Frameworks/R.framework/Versions/4.0/Resources/library’ * installing *source* package ‘qcmetrics’ ... ** using staged installation ** R ** data ** inst ** byte-compile and prepare package for lazy loading ** help *** installing help indices ** building package indices ** installing vignettes ** testing if installed package can be loaded from temporary location ** testing if installed package can be loaded from final location ** testing if installed package keeps a record of temporary installation path * DONE (qcmetrics)
qcmetrics.Rcheck/qcmetrics-Ex.timings
| name | user | system | elapsed | |
| QcMetadata-class | 0.004 | 0.001 | 0.005 | |
| QcMetric-class | 0.041 | 0.004 | 0.045 | |
| QcMetrics-class | 0.083 | 0.013 | 0.096 | |
| psm | 5.187 | 0.235 | 5.432 | |
| qcReport-methods | 4.375 | 0.999 | 5.471 | |