| Back to Multiple platform build/check report for BioC 3.11 | 
  | 
This page was generated on 2020-10-17 11:59:44 -0400 (Sat, 17 Oct 2020).
| TO THE DEVELOPERS/MAINTAINERS OF THE SVAPLSseq PACKAGE: Please make sure to use the following settings in order to reproduce any error or warning you see on this page. | 
| Package 1764/1905 | Hostname | OS / Arch | INSTALL | BUILD | CHECK | BUILD BIN | ||||||
| SVAPLSseq 1.14.0 Sutirtha Chakraborty 
  | malbec2 | Linux (Ubuntu 18.04.4 LTS) / x86_64 | OK | OK | ERROR | |||||||
| tokay2 | Windows Server 2012 R2 Standard / x64 | OK | OK | ERROR | NA | |||||||
| machv2 | macOS 10.14.6 Mojave / x86_64 | OK | [ OK ] | ERROR | OK | 
| Package: SVAPLSseq | 
| Version: 1.14.0 | 
| Command: /Library/Frameworks/R.framework/Versions/Current/Resources/bin/R CMD build --keep-empty-dirs --no-resave-data SVAPLSseq | 
| StartedAt: 2020-10-16 21:30:48 -0400 (Fri, 16 Oct 2020) | 
| EndedAt: 2020-10-16 21:31:33 -0400 (Fri, 16 Oct 2020) | 
| EllapsedTime: 44.9 seconds | 
| RetCode: 0 | 
| Status: OK | 
| PackageFile: SVAPLSseq_1.14.0.tar.gz | 
| PackageFileSize: 215.5 KiB | 
############################################################################## ############################################################################## ### ### Running command: ### ### /Library/Frameworks/R.framework/Versions/Current/Resources/bin/R CMD build --keep-empty-dirs --no-resave-data SVAPLSseq ### ############################################################################## ############################################################################## * checking for file ‘SVAPLSseq/DESCRIPTION’ ... OK * preparing ‘SVAPLSseq’: * checking DESCRIPTION meta-information ... OK * installing the package to build vignettes * creating vignettes ... OK * checking for LF line-endings in source and make files and shell scripts * checking for empty or unneeded directories * looking to see if a ‘data/datalist’ file should be added * building ‘SVAPLSseq_1.14.0.tar.gz’