| Back to Multiple platform build/check report for BioC 3.11 | 
  | 
This page was generated on 2020-10-17 11:59:09 -0400 (Sat, 17 Oct 2020).
| TO THE DEVELOPERS/MAINTAINERS OF THE pathview PACKAGE: Please make sure to use the following settings in order to reproduce any error or warning you see on this page. | 
| Package 1276/1905 | Hostname | OS / Arch | INSTALL | BUILD | CHECK | BUILD BIN | ||||||
| pathview 1.28.1 Weijun Luo 
  | malbec2 | Linux (Ubuntu 18.04.4 LTS) / x86_64 | OK | OK | WARNINGS | |||||||
| tokay2 | Windows Server 2012 R2 Standard / x64 | OK | OK | WARNINGS | OK | |||||||
| machv2 | macOS 10.14.6 Mojave / x86_64 | OK | OK | WARNINGS | [ OK ] | 
| Package: pathview | 
| Version: 1.28.1 | 
| Command: rm -rf pathview.buildbin-libdir && mkdir pathview.buildbin-libdir && /Users/biocbuild/BBS/utils/build-universal.sh pathview_1.28.1.tar.gz /Library/Frameworks/R.framework/Versions/Current/Resources/bin/R pathview.buildbin-libdir | 
| StartedAt: 2020-10-17 07:39:07 -0400 (Sat, 17 Oct 2020) | 
| EndedAt: 2020-10-17 07:39:32 -0400 (Sat, 17 Oct 2020) | 
| EllapsedTime: 25.1 seconds | 
| RetCode: 0 | 
| Status: OK | 
| PackageFile: pathview_1.28.1.tgz | 
| PackageFileSize: 2.118 MiB | 
############################################################################## ############################################################################## ### ### Running command: ### ### rm -rf pathview.buildbin-libdir && mkdir pathview.buildbin-libdir && /Users/biocbuild/BBS/utils/build-universal.sh pathview_1.28.1.tar.gz /Library/Frameworks/R.framework/Versions/Current/Resources/bin/R pathview.buildbin-libdir ### ############################################################################## ############################################################################## >>>>>>> >>>>>>> INSTALLATION WITH 'R CMD INSTALL --preclean --no-multiarch --library=pathview.buildbin-libdir pathview_1.28.1.tar.gz' >>>>>>> * installing *source* package ‘pathview’ ... ** using staged installation ** R ** data ** inst ** byte-compile and prepare package for lazy loading ** help *** installing help indices ** building package indices ** installing vignettes ** testing if installed package can be loaded from temporary location ** testing if installed package can be loaded from final location ** testing if installed package keeps a record of temporary installation path * DONE (pathview)