| Back to Multiple platform build/check report for BioC 3.11 |
|
This page was generated on 2020-10-17 11:58:45 -0400 (Sat, 17 Oct 2020).
| TO THE DEVELOPERS/MAINTAINERS OF THE IsoformSwitchAnalyzeR PACKAGE: Please make sure to use the following settings in order to reproduce any error or warning you see on this page. |
| Package 901/1905 | Hostname | OS / Arch | INSTALL | BUILD | CHECK | BUILD BIN | ||||||
| IsoformSwitchAnalyzeR 1.10.0 Kristoffer Vitting-Seerup
| malbec2 | Linux (Ubuntu 18.04.4 LTS) / x86_64 | OK | OK | OK | |||||||
| tokay2 | Windows Server 2012 R2 Standard / x64 | OK | OK | OK | OK | |||||||
| machv2 | macOS 10.14.6 Mojave / x86_64 | OK | OK | [ OK ] | OK |
| Package: IsoformSwitchAnalyzeR |
| Version: 1.10.0 |
| Command: /Library/Frameworks/R.framework/Versions/Current/Resources/bin/R CMD check --install=check:IsoformSwitchAnalyzeR.install-out.txt --library=/Library/Frameworks/R.framework/Versions/Current/Resources/library --no-vignettes --timings IsoformSwitchAnalyzeR_1.10.0.tar.gz |
| StartedAt: 2020-10-17 02:19:21 -0400 (Sat, 17 Oct 2020) |
| EndedAt: 2020-10-17 02:32:10 -0400 (Sat, 17 Oct 2020) |
| EllapsedTime: 768.6 seconds |
| RetCode: 0 |
| Status: OK |
| CheckDir: IsoformSwitchAnalyzeR.Rcheck |
| Warnings: 0 |
##############################################################################
##############################################################################
###
### Running command:
###
### /Library/Frameworks/R.framework/Versions/Current/Resources/bin/R CMD check --install=check:IsoformSwitchAnalyzeR.install-out.txt --library=/Library/Frameworks/R.framework/Versions/Current/Resources/library --no-vignettes --timings IsoformSwitchAnalyzeR_1.10.0.tar.gz
###
##############################################################################
##############################################################################
* using log directory ‘/Users/biocbuild/bbs-3.11-bioc/meat/IsoformSwitchAnalyzeR.Rcheck’
* using R version 4.0.3 (2020-10-10)
* using platform: x86_64-apple-darwin17.0 (64-bit)
* using session charset: UTF-8
* using option ‘--no-vignettes’
* checking for file ‘IsoformSwitchAnalyzeR/DESCRIPTION’ ... OK
* checking extension type ... Package
* this is package ‘IsoformSwitchAnalyzeR’ version ‘1.10.0’
* checking package namespace information ... OK
* checking package dependencies ... OK
* checking if this is a source package ... OK
* checking if there is a namespace ... OK
* checking for hidden files and directories ... OK
* checking for portable file names ... OK
* checking for sufficient/correct file permissions ... OK
* checking whether package ‘IsoformSwitchAnalyzeR’ can be installed ... OK
* checking installed package size ... OK
* checking package directory ... OK
* checking ‘build’ directory ... OK
* checking DESCRIPTION meta-information ... NOTE
Malformed Title field: should not end in a period.
* checking top-level files ... OK
* checking for left-over files ... OK
* checking index information ... OK
* checking package subdirectories ... OK
* checking R files for non-ASCII characters ... OK
* checking R files for syntax errors ... OK
* checking whether the package can be loaded ... OK
* checking whether the package can be loaded with stated dependencies ... OK
* checking whether the package can be unloaded cleanly ... OK
* checking whether the namespace can be loaded with stated dependencies ... OK
* checking whether the namespace can be unloaded cleanly ... OK
* checking dependencies in R code ... OK
* checking S3 generic/method consistency ... OK
* checking replacement functions ... OK
* checking foreign function calls ... OK
* checking R code for possible problems ... NOTE
analyzeIUPred2A: no visible global function definition for ‘queryHits’
analyzeIUPred2A: no visible global function definition for
‘subjectHits’
compareAnnotationOfTwoIsoforms: no visible global function definition
for ‘queryHits’
compareAnnotationOfTwoIsoforms: no visible global function definition
for ‘subjectHits’
createSwitchAnalyzeRlist: no visible global function definition for
‘package.version’
expressionAnalysisPlot: no visible binding for global variable
‘Condition’
expressionAnalysisPlot: no visible binding for global variable
‘gene_expression’
expressionAnalysisPlot: no visible binding for global variable ‘CI_up’
expressionAnalysisPlot: no visible binding for global variable
‘CI_down’
expressionAnalysisPlot: no visible binding for global variable
‘sigLevelPos’
expressionAnalysisPlot: no visible binding for global variable
‘sigLevel’
expressionAnalysisPlot: no visible binding for global variable ‘CI_hi’
expressionAnalysisPlot: no visible binding for global variable ‘CI_low’
expressionAnalysisPlot: no visible binding for global variable ‘ymax’
expressionAnalysisPlot: no visible binding for global variable
‘sigEval’
expressionAnalysisPlot: no visible binding for global variable ‘idNr’
expressionAnalysisPlot: no visible binding for global variable ‘IF’
extractConsequenceEnrichment: no visible binding for global variable
‘feature2’
extractConsequenceEnrichment: no visible binding for global variable
‘propOfRelevantEvents’
extractConsequenceEnrichment: no visible binding for global variable
‘Significant’
extractConsequenceEnrichment: no visible binding for global variable
‘propCiLo’
extractConsequenceEnrichment: no visible binding for global variable
‘propCiHi’
extractConsequenceEnrichment: no visible binding for global variable
‘nTot’
extractConsequenceEnrichmentComparison: no visible binding for global
variable ‘Comparison’
extractConsequenceEnrichmentComparison: no visible binding for global
variable ‘propOfRelevantEvents’
extractConsequenceEnrichmentComparison: no visible binding for global
variable ‘Significant’
extractConsequenceEnrichmentComparison: no visible binding for global
variable ‘nTot’
extractConsequenceEnrichmentComparison: no visible binding for global
variable ‘propCiHi’
extractConsequenceEnrichmentComparison: no visible binding for global
variable ‘propCiLo’
extractConsequenceGenomeWide: no visible binding for global variable
‘isoform_feature’
extractConsequenceGenomeWide: no visible binding for global variable
‘value’
extractConsequenceGenomeWide: no visible binding for global variable
‘variable’
extractConsequenceGenomeWide: no visible binding for global variable
‘ymax’
extractConsequenceGenomeWide: no visible binding for global variable
‘significance’
extractConsequenceGenomeWide: no visible binding for global variable
‘idNr’
extractConsequenceSummary: no visible binding for global variable
‘switchConsequence’
extractConsequenceSummary: no visible binding for global variable
‘geneFraction’
extractConsequenceSummary: no visible binding for global variable
‘nrGenesWithConsequences’
extractConsequenceSummary: no visible binding for global variable
‘isoFraction’
extractConsequenceSummary: no visible binding for global variable
‘nrIsoWithConsequences’
extractSequence: no visible binding for global variable
‘filterShortAALength’
extractSequence: no visible binding for global variable
‘filterLongAALength’
extractSplicingEnrichment: no visible binding for global variable
‘AStype2’
extractSplicingEnrichment: no visible binding for global variable
‘propUp’
extractSplicingEnrichment: no visible binding for global variable
‘Significant’
extractSplicingEnrichment: no visible binding for global variable
‘nTot’
extractSplicingEnrichment: no visible binding for global variable
‘propUpCiHi’
extractSplicingEnrichment: no visible binding for global variable
‘propUpCiLo’
extractSplicingEnrichmentComparison: no visible binding for global
variable ‘Comparison’
extractSplicingEnrichmentComparison: no visible binding for global
variable ‘propUp’
extractSplicingEnrichmentComparison: no visible binding for global
variable ‘Significant’
extractSplicingEnrichmentComparison: no visible binding for global
variable ‘nTot’
extractSplicingEnrichmentComparison: no visible binding for global
variable ‘propUpCiHi’
extractSplicingEnrichmentComparison: no visible binding for global
variable ‘propUpCiLo’
extractSplicingGenomeWide: no visible binding for global variable
‘isoform_feature’
extractSplicingGenomeWide: no visible binding for global variable
‘value’
extractSplicingGenomeWide: no visible binding for global variable
‘variable’
extractSplicingGenomeWide: no visible binding for global variable
‘ymax’
extractSplicingGenomeWide: no visible binding for global variable
‘significance’
extractSplicingGenomeWide: no visible binding for global variable
‘idNr’
extractSplicingSummary: no visible binding for global variable
‘splicingResult’
extractSplicingSummary: no visible binding for global variable
‘geneFraction’
extractSplicingSummary: no visible binding for global variable
‘nrGenesWithConsequences’
extractSplicingSummary: no visible binding for global variable
‘isoFraction’
extractSplicingSummary: no visible binding for global variable
‘nrIsoWithConsequences’
grangesFracOverlap: no visible global function definition for
‘queryHits’
grangesFracOverlap: no visible global function definition for
‘subjectHits’
isoformToGeneExp: no visible binding for global variable ‘isoform_id’
isoformToGeneExp: no visible binding for global variable ‘gene_id’
preFilter: no visible global function definition for ‘setdff’
switchPlotTranscript: no visible global function definition for
‘queryHits’
switchPlotTranscript: no visible binding for global variable ‘y’
switchPlotTranscript: no visible binding for global variable ‘yend’
switchPlotTranscript: no visible binding for global variable ‘x’
switchPlotTranscript: no visible binding for global variable ‘ymin’
switchPlotTranscript: no visible binding for global variable ‘xmin’
switchPlotTranscript: no visible binding for global variable ‘ymax’
switchPlotTranscript: no visible binding for global variable ‘xmax’
switchPlotTranscript: no visible binding for global variable ‘Domain’
Undefined global functions or variables:
AStype2 CI_down CI_hi CI_low CI_up Comparison Condition Domain IF
Significant feature2 filterLongAALength filterShortAALength
geneFraction gene_expression gene_id idNr isoFraction isoform_feature
isoform_id nTot nrGenesWithConsequences nrIsoWithConsequences
package.version propCiHi propCiLo propOfRelevantEvents propUp
propUpCiHi propUpCiLo queryHits setdff sigEval sigLevel sigLevelPos
significance splicingResult subjectHits switchConsequence value
variable x xmax xmin y yend ymax ymin
* checking Rd files ... OK
* checking Rd metadata ... OK
* checking Rd cross-references ... OK
* checking for missing documentation entries ... OK
* checking for code/documentation mismatches ... OK
* checking Rd \usage sections ... OK
* checking Rd contents ... OK
* checking for unstated dependencies in examples ... OK
* checking contents of ‘data’ directory ... OK
* checking data for non-ASCII characters ... OK
* checking data for ASCII and uncompressed saves ... OK
* checking line endings in C/C++/Fortran sources/headers ... OK
* checking compiled code ... NOTE
Note: information on .o files is not available
* checking files in ‘vignettes’ ... OK
* checking examples ... OK
Examples with CPU (user + system) or elapsed time > 5s
user system elapsed
IsoformSwitchTestDEXSeq 57.545 0.568 58.176
importCufflinksGalaxyData 37.877 0.262 38.186
isoformSwitchAnalysisCombined 22.848 0.389 23.254
analyzeORF 17.259 0.106 17.376
extractSequence 16.946 0.074 17.035
extractSwitchSummary 15.551 0.062 15.636
extractTopSwitches 15.206 0.063 15.279
isoformSwitchAnalysisPart1 14.898 0.088 15.001
analyzeAlternativSplicing 12.872 0.035 12.923
IsoformSwitchTestDRIMSeq 12.789 0.091 13.369
isoformSwitchAnalysisPart2 10.581 0.176 10.763
* checking for unstated dependencies in vignettes ... OK
* checking package vignettes in ‘inst/doc’ ... OK
* checking running R code from vignettes ... SKIPPED
* checking re-building of vignette outputs ... SKIPPED
* checking PDF version of manual ... OK
* DONE
Status: 3 NOTEs
See
‘/Users/biocbuild/bbs-3.11-bioc/meat/IsoformSwitchAnalyzeR.Rcheck/00check.log’
for details.
IsoformSwitchAnalyzeR.Rcheck/00install.out
############################################################################## ############################################################################## ### ### Running command: ### ### /Library/Frameworks/R.framework/Versions/Current/Resources/bin/R CMD INSTALL IsoformSwitchAnalyzeR ### ############################################################################## ############################################################################## * installing to library ‘/Library/Frameworks/R.framework/Versions/4.0/Resources/library’ * installing *source* package ‘IsoformSwitchAnalyzeR’ ... ** using staged installation ** libs clang -mmacosx-version-min=10.13 -I"/Library/Frameworks/R.framework/Resources/include" -DNDEBUG -I/usr/local/include -fPIC -Wall -g -O2 -c utils.c -o utils.o clang -mmacosx-version-min=10.13 -dynamiclib -Wl,-headerpad_max_install_names -undefined dynamic_lookup -single_module -multiply_defined suppress -L/Library/Frameworks/R.framework/Resources/lib -L/usr/local/lib -o IsoformSwitchAnalyzeR.so utils.o -F/Library/Frameworks/R.framework/.. -framework R -Wl,-framework -Wl,CoreFoundation installing to /Library/Frameworks/R.framework/Versions/4.0/Resources/library/00LOCK-IsoformSwitchAnalyzeR/00new/IsoformSwitchAnalyzeR/libs ** R ** data ** inst ** byte-compile and prepare package for lazy loading ** help *** installing help indices ** building package indices ** installing vignettes ** testing if installed package can be loaded from temporary location ** checking absolute paths in shared objects and dynamic libraries ** testing if installed package can be loaded from final location ** testing if installed package keeps a record of temporary installation path * DONE (IsoformSwitchAnalyzeR)
IsoformSwitchAnalyzeR.Rcheck/IsoformSwitchAnalyzeR-Ex.timings
| name | user | system | elapsed | |
| IsoformSwitchTestDEXSeq | 57.545 | 0.568 | 58.176 | |
| IsoformSwitchTestDRIMSeq | 12.789 | 0.091 | 13.369 | |
| analyzeAlternativSplicing | 12.872 | 0.035 | 12.923 | |
| analyzeCPAT | 0.096 | 0.005 | 0.101 | |
| analyzeCPC2 | 0.072 | 0.005 | 0.078 | |
| analyzeIUPred2A | 4.050 | 0.041 | 4.094 | |
| analyzeORF | 17.259 | 0.106 | 17.376 | |
| analyzePFAM | 1.181 | 0.016 | 1.198 | |
| analyzeSignalP | 0.134 | 0.006 | 0.139 | |
| analyzeSwitchConsequences | 1.687 | 0.020 | 1.707 | |
| expressionAnalysisPlots | 1.487 | 0.010 | 1.501 | |
| extractConsequenceEnrichment | 0.878 | 0.011 | 0.892 | |
| extractConsequenceEnrichmentComparison | 1.238 | 0.008 | 1.246 | |
| extractConsequenceSummary | 1.087 | 0.006 | 1.093 | |
| extractGenomeWideAnalysis | 4.359 | 0.073 | 4.435 | |
| extractGenomeWideSplicingAnalysis | 4.859 | 0.064 | 4.926 | |
| extractSequence | 16.946 | 0.074 | 17.035 | |
| extractSplicingEnrichment | 2.275 | 0.012 | 2.289 | |
| extractSplicingEnrichmentComparison | 2.527 | 0.012 | 2.542 | |
| extractSplicingSummary | 1.902 | 0.008 | 1.912 | |
| extractSwitchOverlap | 0.568 | 0.010 | 0.579 | |
| extractSwitchSummary | 15.551 | 0.062 | 15.636 | |
| extractTopSwitches | 15.206 | 0.063 | 15.279 | |
| getCDS | 0.000 | 0.001 | 0.001 | |
| importCufflinksGalaxyData | 37.877 | 0.262 | 38.186 | |
| importGTF | 0.605 | 0.003 | 0.608 | |
| importIsoformExpression | 0.692 | 0.018 | 0.711 | |
| importRdata | 1.553 | 0.021 | 1.577 | |
| isoformSwitchAnalysisCombined | 22.848 | 0.389 | 23.254 | |
| isoformSwitchAnalysisPart1 | 14.898 | 0.088 | 15.001 | |
| isoformSwitchAnalysisPart2 | 10.581 | 0.176 | 10.763 | |
| isoformToGeneExp | 2.380 | 0.047 | 2.429 | |
| isoformToIsoformFraction | 0.276 | 0.011 | 0.293 | |
| preFilter | 0.061 | 0.004 | 0.065 | |
| subsetSwitchAnalyzeRlist | 0.063 | 0.005 | 0.068 | |
| switchAnalyzeRlist | 1.476 | 0.057 | 1.606 | |
| switchPlot | 4.847 | 0.010 | 4.861 | |
| switchPlotTranscript | 2.884 | 0.008 | 2.893 | |
| testData | 0.045 | 0.004 | 0.050 | |