| Back to Multiple platform build/check report for BioC 3.11 |
|
This page was generated on 2020-10-17 11:58:02 -0400 (Sat, 17 Oct 2020).
| TO THE DEVELOPERS/MAINTAINERS OF THE AllelicImbalance PACKAGE: Please make sure to use the following settings in order to reproduce any error or warning you see on this page. |
| Package 43/1905 | Hostname | OS / Arch | INSTALL | BUILD | CHECK | BUILD BIN | ||||||
| AllelicImbalance 1.26.0 Jesper R Gadin
| malbec2 | Linux (Ubuntu 18.04.4 LTS) / x86_64 | OK | OK | OK | |||||||
| tokay2 | Windows Server 2012 R2 Standard / x64 | OK | OK | OK | OK | |||||||
| machv2 | macOS 10.14.6 Mojave / x86_64 | OK | OK | [ OK ] | OK |
| Package: AllelicImbalance |
| Version: 1.26.0 |
| Command: /Library/Frameworks/R.framework/Versions/Current/Resources/bin/R CMD check --install=check:AllelicImbalance.install-out.txt --library=/Library/Frameworks/R.framework/Versions/Current/Resources/library --no-vignettes --timings AllelicImbalance_1.26.0.tar.gz |
| StartedAt: 2020-10-16 22:33:41 -0400 (Fri, 16 Oct 2020) |
| EndedAt: 2020-10-16 22:44:55 -0400 (Fri, 16 Oct 2020) |
| EllapsedTime: 673.9 seconds |
| RetCode: 0 |
| Status: OK |
| CheckDir: AllelicImbalance.Rcheck |
| Warnings: 0 |
##############################################################################
##############################################################################
###
### Running command:
###
### /Library/Frameworks/R.framework/Versions/Current/Resources/bin/R CMD check --install=check:AllelicImbalance.install-out.txt --library=/Library/Frameworks/R.framework/Versions/Current/Resources/library --no-vignettes --timings AllelicImbalance_1.26.0.tar.gz
###
##############################################################################
##############################################################################
* using log directory ‘/Users/biocbuild/bbs-3.11-bioc/meat/AllelicImbalance.Rcheck’
* using R version 4.0.3 (2020-10-10)
* using platform: x86_64-apple-darwin17.0 (64-bit)
* using session charset: UTF-8
* using option ‘--no-vignettes’
* checking for file ‘AllelicImbalance/DESCRIPTION’ ... OK
* checking extension type ... Package
* this is package ‘AllelicImbalance’ version ‘1.26.0’
* package encoding: UTF-8
* checking package namespace information ... OK
* checking package dependencies ... OK
* checking if this is a source package ... OK
* checking if there is a namespace ... OK
* checking for hidden files and directories ... OK
* checking for portable file names ... OK
* checking for sufficient/correct file permissions ... OK
* checking whether package ‘AllelicImbalance’ can be installed ... OK
* checking installed package size ... OK
* checking package directory ... OK
* checking ‘build’ directory ... OK
* checking DESCRIPTION meta-information ... OK
* checking top-level files ... OK
* checking for left-over files ... OK
* checking index information ... OK
* checking package subdirectories ... OK
* checking R files for non-ASCII characters ... OK
* checking R files for syntax errors ... OK
* checking whether the package can be loaded ... OK
* checking whether the package can be loaded with stated dependencies ... OK
* checking whether the package can be unloaded cleanly ... OK
* checking whether the namespace can be loaded with stated dependencies ... OK
* checking whether the namespace can be unloaded cleanly ... OK
* checking dependencies in R code ... OK
* checking S3 generic/method consistency ... OK
* checking replacement functions ... OK
* checking foreign function calls ... OK
* checking R code for possible problems ... OK
* checking Rd files ... OK
* checking Rd metadata ... OK
* checking Rd cross-references ... OK
* checking for missing documentation entries ... OK
* checking for code/documentation mismatches ... OK
* checking Rd \usage sections ... OK
* checking Rd contents ... OK
* checking for unstated dependencies in examples ... OK
* checking contents of ‘data’ directory ... OK
* checking data for non-ASCII characters ... OK
* checking data for ASCII and uncompressed saves ... OK
* checking sizes of PDF files under ‘inst/doc’ ... OK
* checking files in ‘vignettes’ ... OK
* checking examples ... OK
Examples with CPU (user + system) or elapsed time > 5s
user system elapsed
getSnpIdFromLocation 27.991 1.539 29.573
import-bam 23.224 0.275 23.538
lva 16.330 0.037 16.390
scanForHeterozygotes-old 7.991 0.033 8.028
getAlleleCounts 7.539 0.021 7.569
annotation-wrappers 6.638 0.268 6.913
getAlleleQuality 6.654 0.051 6.714
ASEset-glocationplot 6.602 0.092 6.707
* checking for unstated dependencies in ‘tests’ ... OK
* checking tests ...
Running ‘test-all.R’
OK
* checking for unstated dependencies in vignettes ... OK
* checking package vignettes in ‘inst/doc’ ... OK
* checking running R code from vignettes ... SKIPPED
* checking re-building of vignette outputs ... SKIPPED
* checking PDF version of manual ... OK
* DONE
Status: OK
AllelicImbalance.Rcheck/00install.out
############################################################################## ############################################################################## ### ### Running command: ### ### /Library/Frameworks/R.framework/Versions/Current/Resources/bin/R CMD INSTALL AllelicImbalance ### ############################################################################## ############################################################################## * installing to library ‘/Library/Frameworks/R.framework/Versions/4.0/Resources/library’ * installing *source* package ‘AllelicImbalance’ ... ** using staged installation ** R ** data *** moving datasets to lazyload DB ** inst ** byte-compile and prepare package for lazy loading Creating a generic function for 'chisq.test' from package 'stats' in package 'AllelicImbalance' Creating a generic function for 'binom.test' from package 'stats' in package 'AllelicImbalance' ** help *** installing help indices ** building package indices ** installing vignettes ** testing if installed package can be loaded from temporary location ** testing if installed package can be loaded from final location ** testing if installed package keeps a record of temporary installation path * DONE (AllelicImbalance)
AllelicImbalance.Rcheck/tests/test-all.Rout
R version 4.0.3 (2020-10-10) -- "Bunny-Wunnies Freak Out"
Copyright (C) 2020 The R Foundation for Statistical Computing
Platform: x86_64-apple-darwin17.0 (64-bit)
R is free software and comes with ABSOLUTELY NO WARRANTY.
You are welcome to redistribute it under certain conditions.
Type 'license()' or 'licence()' for distribution details.
R is a collaborative project with many contributors.
Type 'contributors()' for more information and
'citation()' on how to cite R or R packages in publications.
Type 'demo()' for some demos, 'help()' for on-line help, or
'help.start()' for an HTML browser interface to help.
Type 'q()' to quit R.
> library(testthat)
> test_check("AllelicImbalance")
Loading required package: AllelicImbalance
Loading required package: grid
Loading required package: GenomicRanges
Loading required package: stats4
Loading required package: BiocGenerics
Loading required package: parallel
Attaching package: 'BiocGenerics'
The following objects are masked from 'package:parallel':
clusterApply, clusterApplyLB, clusterCall, clusterEvalQ,
clusterExport, clusterMap, parApply, parCapply, parLapply,
parLapplyLB, parRapply, parSapply, parSapplyLB
The following objects are masked from 'package:stats':
IQR, mad, sd, var, xtabs
The following objects are masked from 'package:base':
Filter, Find, Map, Position, Reduce, anyDuplicated, append,
as.data.frame, basename, cbind, colnames, dirname, do.call,
duplicated, eval, evalq, get, grep, grepl, intersect, is.unsorted,
lapply, mapply, match, mget, order, paste, pmax, pmax.int, pmin,
pmin.int, rank, rbind, rownames, sapply, setdiff, sort, table,
tapply, union, unique, unsplit, which, which.max, which.min
Loading required package: S4Vectors
Attaching package: 'S4Vectors'
The following object is masked from 'package:base':
expand.grid
Loading required package: IRanges
Loading required package: GenomeInfoDb
Loading required package: SummarizedExperiment
Loading required package: Biobase
Welcome to Bioconductor
Vignettes contain introductory material; view with
'browseVignettes()'. To cite Bioconductor, see
'citation("Biobase")', and for packages 'citation("pkgname")'.
Loading required package: DelayedArray
Loading required package: matrixStats
Attaching package: 'matrixStats'
The following objects are masked from 'package:Biobase':
anyMissing, rowMedians
Attaching package: 'DelayedArray'
The following objects are masked from 'package:matrixStats':
colMaxs, colMins, colRanges, rowMaxs, rowMins, rowRanges
The following objects are masked from 'package:base':
aperm, apply, rowsum
Loading required package: GenomicAlignments
Loading required package: Biostrings
Loading required package: XVector
Attaching package: 'Biostrings'
The following object is masked from 'package:base':
strsplit
Loading required package: Rsamtools
══ testthat results ═══════════════════════════════════════════════════════════
[ OK: 96 | SKIPPED: 1 | WARNINGS: 0 | FAILED: 0 ]
>
>
>
> proc.time()
user system elapsed
26.033 1.065 30.035
AllelicImbalance.Rcheck/AllelicImbalance-Ex.timings
| name | user | system | elapsed | |
| ASEset-barplot | 0.438 | 0.009 | 0.447 | |
| ASEset-class | 0.755 | 0.034 | 0.790 | |
| ASEset-filters | 0.081 | 0.011 | 0.092 | |
| ASEset-gbarplot | 0.078 | 0.010 | 0.089 | |
| ASEset-glocationplot | 6.602 | 0.092 | 6.707 | |
| ASEset-gviztrack | 0.951 | 0.093 | 1.046 | |
| ASEset-scanForHeterozygotes | 3.266 | 0.041 | 3.313 | |
| ASEset.old | 0 | 0 | 0 | |
| ASEset.sim | 0.001 | 0.001 | 0.000 | |
| ASEsetFromBam | 0.002 | 0.004 | 0.005 | |
| DetectedAI-class | 0.190 | 0.004 | 0.194 | |
| DetectedAI-plot | 2.268 | 0.022 | 2.294 | |
| DetectedAI-summary | 0.212 | 0.014 | 0.226 | |
| GRvariants | 0.002 | 0.003 | 0.005 | |
| GlobalAnalysis-class | 0.002 | 0.003 | 0.005 | |
| LinkVariantAlmlof-class | 0 | 0 | 0 | |
| LinkVariantAlmlof-plot | 3.991 | 0.012 | 4.008 | |
| RegionSummary-class | 0.000 | 0.000 | 0.001 | |
| RiskVariant-class | 0.001 | 0.000 | 0.001 | |
| annotation-wrappers | 6.638 | 0.268 | 6.913 | |
| annotationBarplot | 0.000 | 0.001 | 0.001 | |
| barplot-lattice-support | 0.219 | 0.003 | 0.222 | |
| binom.test | 0.109 | 0.005 | 0.114 | |
| chisq.test | 0.263 | 0.003 | 0.266 | |
| cigar-utilities | 0.014 | 0.000 | 0.014 | |
| countAllelesFromBam | 0.001 | 0.002 | 0.003 | |
| coverageMatrixListFromGAL | 1.356 | 0.017 | 1.375 | |
| decorateWithExons | 0.002 | 0.003 | 0.005 | |
| decorateWithGenes | 0.001 | 0.003 | 0.005 | |
| defaultMapBias | 0.052 | 0.005 | 0.059 | |
| defaultPhase | 0.001 | 0.001 | 0.002 | |
| detectAI | 0.136 | 0.004 | 0.140 | |
| fractionPlotDf | 0.067 | 0.004 | 0.070 | |
| gba | 0.000 | 0.001 | 0.001 | |
| genomatrix | 0.000 | 0.001 | 0.000 | |
| genotype2phase | 0.049 | 0.006 | 0.055 | |
| getAlleleCounts | 7.539 | 0.021 | 7.569 | |
| getAlleleQuality | 6.654 | 0.051 | 6.714 | |
| getAreaFromGeneNames | 0.567 | 0.008 | 0.575 | |
| getDefaultMapBiasExpMean | 0.059 | 0.002 | 0.061 | |
| getSnpIdFromLocation | 27.991 | 1.539 | 29.573 | |
| histplot | 0.001 | 0.000 | 0.001 | |
| implodeList-old | 0.007 | 0.001 | 0.008 | |
| import-bam-2 | 0.015 | 0.001 | 0.015 | |
| import-bam | 23.224 | 0.275 | 23.538 | |
| import-bcf | 1.174 | 0.026 | 1.202 | |
| inferAlleles | 0.024 | 0.004 | 0.028 | |
| inferAltAllele | 0.037 | 0.004 | 0.040 | |
| inferGenotypes | 0.069 | 0.003 | 0.071 | |
| initialize-ASEset | 0.137 | 0.002 | 0.139 | |
| initialize-DetectedAI | 0.157 | 0.004 | 0.161 | |
| initialize-GlobalAnalysis | 0.006 | 0.003 | 0.010 | |
| initialize-RiskVariant | 0.002 | 0.003 | 0.005 | |
| legendBarplot | 0.000 | 0.000 | 0.001 | |
| locationplot | 2.435 | 0.028 | 2.467 | |
| lva | 16.330 | 0.037 | 16.390 | |
| lva.internal | 0.578 | 0.007 | 0.587 | |
| makeMaskedFasta | 1.001 | 0.014 | 1.015 | |
| mapBiasRef | 0.027 | 0.003 | 0.030 | |
| minCountFilt | 0.130 | 0.004 | 0.135 | |
| minFreqFilt | 0.112 | 0.003 | 0.115 | |
| multiAllelicFilt | 0.024 | 0.005 | 0.030 | |
| phase2genotype | 0.047 | 0.007 | 0.054 | |
| phaseArray2phaseMatrix | 0.009 | 0.002 | 0.011 | |
| phaseMatrix2Array | 0.014 | 0.004 | 0.017 | |
| randomRef | 0.040 | 0.002 | 0.042 | |
| reads | 0 | 0 | 0 | |
| refAllele | 0.022 | 0.003 | 0.026 | |
| regionSummary | 0.964 | 0.012 | 0.977 | |
| scanForHeterozygotes-old | 7.991 | 0.033 | 8.028 | |