| Back to Multiple platform build/check report for BioC 3.11 | 
  | 
This page was generated on 2020-10-17 11:59:40 -0400 (Sat, 17 Oct 2020).
| TO THE DEVELOPERS/MAINTAINERS OF THE soGGi PACKAGE: Please make sure to use the following settings in order to reproduce any error or warning you see on this page. | 
| Package 1696/1905 | Hostname | OS / Arch | INSTALL | BUILD | CHECK | BUILD BIN | ||||||
| soGGi 1.20.0 Tom Carroll 
  | malbec2 | Linux (Ubuntu 18.04.4 LTS) / x86_64 | OK | OK | OK | |||||||
| tokay2 | Windows Server 2012 R2 Standard / x64 | OK | OK | OK | NA | |||||||
| machv2 | macOS 10.14.6 Mojave / x86_64 | OK | OK | [ OK ] | OK | 
| Package: soGGi | 
| Version: 1.20.0 | 
| Command: /Library/Frameworks/R.framework/Versions/Current/Resources/bin/R CMD check --install=check:soGGi.install-out.txt --library=/Library/Frameworks/R.framework/Versions/Current/Resources/library --no-vignettes --timings soGGi_1.20.0.tar.gz | 
| StartedAt: 2020-10-17 05:30:43 -0400 (Sat, 17 Oct 2020) | 
| EndedAt: 2020-10-17 05:36:55 -0400 (Sat, 17 Oct 2020) | 
| EllapsedTime: 371.6 seconds | 
| RetCode: 0 | 
| Status: OK | 
| CheckDir: soGGi.Rcheck | 
| Warnings: 0 | 
##############################################################################
##############################################################################
###
### Running command:
###
###   /Library/Frameworks/R.framework/Versions/Current/Resources/bin/R CMD check --install=check:soGGi.install-out.txt --library=/Library/Frameworks/R.framework/Versions/Current/Resources/library --no-vignettes --timings soGGi_1.20.0.tar.gz
###
##############################################################################
##############################################################################
* using log directory ‘/Users/biocbuild/bbs-3.11-bioc/meat/soGGi.Rcheck’
* using R version 4.0.3 (2020-10-10)
* using platform: x86_64-apple-darwin17.0 (64-bit)
* using session charset: UTF-8
* using option ‘--no-vignettes’
* checking for file ‘soGGi/DESCRIPTION’ ... OK
* checking extension type ... Package
* this is package ‘soGGi’ version ‘1.20.0’
* checking package namespace information ... OK
* checking package dependencies ... OK
* checking if this is a source package ... OK
* checking if there is a namespace ... OK
* checking for hidden files and directories ... OK
* checking for portable file names ... OK
* checking for sufficient/correct file permissions ... OK
* checking whether package ‘soGGi’ can be installed ... OK
* checking installed package size ... OK
* checking package directory ... OK
* checking ‘build’ directory ... OK
* checking DESCRIPTION meta-information ... OK
* checking top-level files ... OK
* checking for left-over files ... OK
* checking index information ... OK
* checking package subdirectories ... OK
* checking R files for non-ASCII characters ... OK
* checking R files for syntax errors ... OK
* checking whether the package can be loaded ... OK
* checking whether the package can be loaded with stated dependencies ... OK
* checking whether the package can be unloaded cleanly ... OK
* checking whether the namespace can be loaded with stated dependencies ... OK
* checking whether the namespace can be unloaded cleanly ... OK
* checking dependencies in R code ... OK
* checking S3 generic/method consistency ... OK
* checking replacement functions ... OK
* checking foreign function calls ... NOTE
Foreign function call to a different package:
  .Call("rle_sum_any", ..., PACKAGE = "chipseq")
See chapter ‘System and foreign language interfaces’ in the ‘Writing R
Extensions’ manual.
* checking R code for possible problems ... NOTE
plotCuts: warning in ggsave(myP, file = outName): partial argument
  match of 'file' to 'filename'
GetGRanges: no visible global function definition for ‘read.delim’
GetGRanges: possible error in `seqlevels<-`(RegionRanges, force = TRUE,
  value = `*tmpv*`): unused argument (force = TRUE)
findconsensusRegions : <anonymous>: no visible global function
  definition for ‘weighted.mean’
getShifts: no visible global function definition for
  ‘readGAlignmentsFromBam’
getSummitScore: no visible global function definition for
  ‘readGAlignmentsFromBam’
plotHeatmap: no visible global function definition for ‘heat.colors’
plotHeatmap: no visible global function definition for ‘layout’
plotHeatmap: no visible global function definition for ‘par’
plotRegion.ChIPprofile: no visible global function definition for
  ‘formula’
runFindSummit: no visible global function definition for
  ‘readGAlignmentsFromBam’
runRegionPlot : <anonymous>: no visible global function definition for
  ‘spline’
summitPipeline: no visible global function definition for
  ‘readGAlignmentsFromBam’
plotRegion,ChIPprofile: no visible global function definition for
  ‘formula’
Undefined global functions or variables:
  formula heat.colors layout par read.delim readGAlignmentsFromBam
  spline weighted.mean
Consider adding
  importFrom("grDevices", "heat.colors")
  importFrom("graphics", "layout", "par")
  importFrom("stats", "formula", "spline", "weighted.mean")
  importFrom("utils", "read.delim")
to your NAMESPACE file.
* checking Rd files ... OK
* checking Rd metadata ... OK
* checking Rd cross-references ... OK
* checking for missing documentation entries ... OK
* checking for code/documentation mismatches ... OK
* checking Rd \usage sections ... OK
* checking Rd contents ... OK
* checking for unstated dependencies in examples ... OK
* checking contents of ‘data’ directory ... OK
* checking data for non-ASCII characters ... OK
* checking data for ASCII and uncompressed saves ... OK
* checking sizes of PDF files under ‘inst/doc’ ... OK
* checking installed files from ‘inst/doc’ ... OK
* checking files in ‘vignettes’ ... OK
* checking examples ... OK
* checking for unstated dependencies in ‘tests’ ... OK
* checking tests ...
  Running ‘testthat.R’
 OK
* checking for unstated dependencies in vignettes ... OK
* checking package vignettes in ‘inst/doc’ ... OK
* checking running R code from vignettes ... SKIPPED
* checking re-building of vignette outputs ... SKIPPED
* checking PDF version of manual ... OK
* DONE
Status: 2 NOTEs
See
  ‘/Users/biocbuild/bbs-3.11-bioc/meat/soGGi.Rcheck/00check.log’
for details.
soGGi.Rcheck/00install.out
############################################################################## ############################################################################## ### ### Running command: ### ### /Library/Frameworks/R.framework/Versions/Current/Resources/bin/R CMD INSTALL soGGi ### ############################################################################## ############################################################################## * installing to library ‘/Library/Frameworks/R.framework/Versions/4.0/Resources/library’ * installing *source* package ‘soGGi’ ... ** using staged installation ** R ** data ** inst ** byte-compile and prepare package for lazy loading ** help *** installing help indices ** building package indices ** installing vignettes ‘soggi.Rnw’ ** testing if installed package can be loaded from temporary location ** testing if installed package can be loaded from final location ** testing if installed package keeps a record of temporary installation path * DONE (soGGi)
soGGi.Rcheck/tests/testthat.Rout
R version 4.0.3 (2020-10-10) -- "Bunny-Wunnies Freak Out"
Copyright (C) 2020 The R Foundation for Statistical Computing
Platform: x86_64-apple-darwin17.0 (64-bit)
R is free software and comes with ABSOLUTELY NO WARRANTY.
You are welcome to redistribute it under certain conditions.
Type 'license()' or 'licence()' for distribution details.
R is a collaborative project with many contributors.
Type 'contributors()' for more information and
'citation()' on how to cite R or R packages in publications.
Type 'demo()' for some demos, 'help()' for on-line help, or
'help.start()' for an HTML browser interface to help.
Type 'q()' to quit R.
> library(testthat)
> library(soGGi)
Loading required package: BiocGenerics
Loading required package: parallel
Attaching package: 'BiocGenerics'
The following objects are masked from 'package:parallel':
    clusterApply, clusterApplyLB, clusterCall, clusterEvalQ,
    clusterExport, clusterMap, parApply, parCapply, parLapply,
    parLapplyLB, parRapply, parSapply, parSapplyLB
The following objects are masked from 'package:stats':
    IQR, mad, sd, var, xtabs
The following objects are masked from 'package:base':
    Filter, Find, Map, Position, Reduce, anyDuplicated, append,
    as.data.frame, basename, cbind, colnames, dirname, do.call,
    duplicated, eval, evalq, get, grep, grepl, intersect, is.unsorted,
    lapply, mapply, match, mget, order, paste, pmax, pmax.int, pmin,
    pmin.int, rank, rbind, rownames, sapply, setdiff, sort, table,
    tapply, union, unique, unsplit, which, which.max, which.min
Loading required package: SummarizedExperiment
Loading required package: GenomicRanges
Loading required package: stats4
Loading required package: S4Vectors
Attaching package: 'S4Vectors'
The following object is masked from 'package:base':
    expand.grid
Loading required package: IRanges
Loading required package: GenomeInfoDb
Loading required package: Biobase
Welcome to Bioconductor
    Vignettes contain introductory material; view with
    'browseVignettes()'. To cite Bioconductor, see
    'citation("Biobase")', and for packages 'citation("pkgname")'.
Loading required package: DelayedArray
Loading required package: matrixStats
Attaching package: 'matrixStats'
The following objects are masked from 'package:Biobase':
    anyMissing, rowMedians
Attaching package: 'DelayedArray'
The following objects are masked from 'package:matrixStats':
    colMaxs, colMins, colRanges, rowMaxs, rowMins, rowRanges
The following objects are masked from 'package:base':
    aperm, apply, rowsum
> 
> test_check("soGGi")
══ testthat results  ═══════════════════════════════════════════════════════════
[ OK: 4 | SKIPPED: 0 | WARNINGS: 4 | FAILED: 0 ]
> 
> proc.time()
   user  system elapsed 
 19.113   0.776  19.889 
soGGi.Rcheck/soGGi-Ex.timings
| name | user | system | elapsed | |
| ChIPprofile | 0.453 | 0.014 | 0.466 | |
| Ops | 0.718 | 0.020 | 0.739 | |
| groupByOverlaps | 0.710 | 0.028 | 0.738 | |
| manipulateObjects | 0.817 | 0.015 | 0.832 | |
| normalise | 1.040 | 0.068 | 1.096 | |
| normaliseQuantiles | 1.565 | 0.049 | 1.609 | |
| orientBy | 0.339 | 0.012 | 0.352 | |
| plotRegion | 0.808 | 0.045 | 0.854 | |
| pwmToCoverage | 0.003 | 0.006 | 0.009 | |