| Back to Multiple platform build/check report for BioC 3.11 | 
  | 
This page was generated on 2020-10-17 11:59:19 -0400 (Sat, 17 Oct 2020).
| TO THE DEVELOPERS/MAINTAINERS OF THE R3CPET PACKAGE: Please make sure to use the following settings in order to reproduce any error or warning you see on this page. | 
| Package 1406/1905 | Hostname | OS / Arch | INSTALL | BUILD | CHECK | BUILD BIN | ||||||
| R3CPET 1.20.0 Mohamed Nadhir Djekidel 
  | malbec2 | Linux (Ubuntu 18.04.4 LTS) / x86_64 | ERROR | ERROR | skipped | |||||||
| tokay2 | Windows Server 2012 R2 Standard / x64 | ERROR | ERROR | skipped | skipped | |||||||
| machv2 | macOS 10.14.6 Mojave / x86_64 | ERROR | [ ERROR ] | skipped | skipped | 
| Package: R3CPET | 
| Version: 1.20.0 | 
| Command: /Library/Frameworks/R.framework/Versions/Current/Resources/bin/R CMD build --keep-empty-dirs --no-resave-data R3CPET | 
| StartedAt: 2020-10-16 20:42:29 -0400 (Fri, 16 Oct 2020) | 
| EndedAt: 2020-10-16 20:42:30 -0400 (Fri, 16 Oct 2020) | 
| EllapsedTime: 1.0 seconds | 
| RetCode: 1 | 
| Status: ERROR | 
| PackageFile: None | 
| PackageFileSize: NA | 
##############################################################################
##############################################################################
###
### Running command:
###
###   /Library/Frameworks/R.framework/Versions/Current/Resources/bin/R CMD build --keep-empty-dirs --no-resave-data R3CPET
###
##############################################################################
##############################################################################
* checking for file ‘R3CPET/DESCRIPTION’ ... OK
* preparing ‘R3CPET’:
* checking DESCRIPTION meta-information ... OK
* cleaning src
* installing the package to build vignettes
      -----------------------------------
ERROR: dependency ‘clues’ is not available for package ‘R3CPET’
* removing ‘/private/tmp/RtmpWqGURL/Rinsta7361bd192b4/R3CPET’
      -----------------------------------
ERROR: package installation failed