| Back to Multiple platform build/check report for BioC 3.11 |
|
This page was generated on 2020-10-17 11:58:42 -0400 (Sat, 17 Oct 2020).
| TO THE DEVELOPERS/MAINTAINERS OF THE HPAanalyze PACKAGE: Please make sure to use the following settings in order to reproduce any error or warning you see on this page. |
| Package 831/1905 | Hostname | OS / Arch | INSTALL | BUILD | CHECK | BUILD BIN | ||||||
| HPAanalyze 1.6.0 Anh Nhat Tran
| malbec2 | Linux (Ubuntu 18.04.4 LTS) / x86_64 | OK | OK | OK | |||||||
| tokay2 | Windows Server 2012 R2 Standard / x64 | OK | OK | OK | OK | |||||||
| machv2 | macOS 10.14.6 Mojave / x86_64 | OK | OK | [ OK ] | OK |
| Package: HPAanalyze |
| Version: 1.6.0 |
| Command: /Library/Frameworks/R.framework/Versions/Current/Resources/bin/R CMD check --install=check:HPAanalyze.install-out.txt --library=/Library/Frameworks/R.framework/Versions/Current/Resources/library --no-vignettes --timings HPAanalyze_1.6.0.tar.gz |
| StartedAt: 2020-10-17 02:04:43 -0400 (Sat, 17 Oct 2020) |
| EndedAt: 2020-10-17 02:07:03 -0400 (Sat, 17 Oct 2020) |
| EllapsedTime: 140.2 seconds |
| RetCode: 0 |
| Status: OK |
| CheckDir: HPAanalyze.Rcheck |
| Warnings: 0 |
##############################################################################
##############################################################################
###
### Running command:
###
### /Library/Frameworks/R.framework/Versions/Current/Resources/bin/R CMD check --install=check:HPAanalyze.install-out.txt --library=/Library/Frameworks/R.framework/Versions/Current/Resources/library --no-vignettes --timings HPAanalyze_1.6.0.tar.gz
###
##############################################################################
##############################################################################
* using log directory ‘/Users/biocbuild/bbs-3.11-bioc/meat/HPAanalyze.Rcheck’
* using R version 4.0.3 (2020-10-10)
* using platform: x86_64-apple-darwin17.0 (64-bit)
* using session charset: UTF-8
* using option ‘--no-vignettes’
* checking for file ‘HPAanalyze/DESCRIPTION’ ... OK
* checking extension type ... Package
* this is package ‘HPAanalyze’ version ‘1.6.0’
* package encoding: UTF-8
* checking package namespace information ... OK
* checking package dependencies ... OK
* checking if this is a source package ... OK
* checking if there is a namespace ... OK
* checking for hidden files and directories ... NOTE
Found the following hidden files and directories:
.travis.yml
These were most likely included in error. See section ‘Package
structure’ in the ‘Writing R Extensions’ manual.
* checking for portable file names ... NOTE
Found the following non-portable file paths:
HPAanalyze/docs/articles/a_HPAanalyze_quick_start_files/elevate-section-attrs-2.0/elevate-section-attrs.js
HPAanalyze/docs/articles/b_HPAanalyze_indepth_files/elevate-section-attrs-2.0/elevate-section-attrs.js
HPAanalyze/docs/articles/c_HPAanalyze_case_query_files/elevate-section-attrs-2.0/elevate-section-attrs.js
HPAanalyze/docs/articles/d_HPAanalyze_case_offline_xml_files/elevate-section-attrs-2.0/elevate-section-attrs.js
HPAanalyze/docs/articles/e_HPAanalyze_case_json_files/elevate-section-attrs-2.0/elevate-section-attrs.js
HPAanalyze/docs/articles/f_HPAanalyze_case_images_files/elevate-section-attrs-2.0/elevate-section-attrs.js
HPAanalyze/docs/articles/z_HPAanalyze_paper_figures_files/elevate-section-attrs-2.0/elevate-section-attrs.js
Tarballs are only required to store paths of up to 100 bytes and cannot
store those of more than 256 bytes, with restrictions including to 100
bytes for the final component.
See section ‘Package structure’ in the ‘Writing R Extensions’ manual.
* checking for sufficient/correct file permissions ... OK
* checking whether package ‘HPAanalyze’ can be installed ... OK
* checking installed package size ... NOTE
installed size is 7.4Mb
sub-directories of 1Mb or more:
data 7.1Mb
* checking package directory ... OK
* checking ‘build’ directory ... OK
* checking DESCRIPTION meta-information ... OK
* checking top-level files ... OK
* checking for left-over files ... OK
* checking index information ... OK
* checking package subdirectories ... OK
* checking R files for non-ASCII characters ... OK
* checking R files for syntax errors ... OK
* checking whether the package can be loaded ... OK
* checking whether the package can be loaded with stated dependencies ... OK
* checking whether the package can be unloaded cleanly ... OK
* checking whether the namespace can be loaded with stated dependencies ... OK
* checking whether the namespace can be unloaded cleanly ... OK
* checking dependencies in R code ... OK
* checking S3 generic/method consistency ... OK
* checking replacement functions ... OK
* checking foreign function calls ... OK
* checking R code for possible problems ... NOTE
hpaListParam: no visible binding for global variable
‘hpa_histology_data’
hpaSubset: no visible binding for global variable ‘hpa_histology_data’
hpaSubset: no visible binding for global variable ‘gene’
hpaSubset: no visible binding for global variable ‘tissue’
hpaSubset: no visible binding for global variable ‘cell_type’
hpaSubset: no visible binding for global variable ‘cancer’
hpaSubset: no visible binding for global variable ‘cell_line’
hpaVis: no visible binding for global variable ‘hpa_histology_data’
hpaVisPatho: no visible binding for global variable
‘hpa_histology_data’
hpaVisPatho: no visible binding for global variable ‘gene’
hpaVisPatho: no visible binding for global variable ‘cancer’
hpaVisPatho: no visible binding for global variable ‘high’
hpaVisPatho: no visible binding for global variable ‘medium’
hpaVisPatho: no visible binding for global variable ‘low’
hpaVisPatho: no visible binding for global variable ‘not_detected’
hpaVisPatho: no visible binding for global variable ‘patient_count’
hpaVisPatho: no visible binding for global variable ‘level’
hpaVisSubcell: no visible binding for global variable
‘hpa_histology_data’
hpaVisSubcell: no visible binding for global variable ‘gene’
hpaVisSubcell: no visible binding for global variable ‘sub_location’
hpaVisSubcell: no visible binding for global variable ‘enhanced’
hpaVisSubcell: no visible binding for global variable ‘supported’
hpaVisSubcell: no visible binding for global variable ‘approved’
hpaVisSubcell: no visible binding for global variable ‘uncertain’
hpaVisTissue: no visible binding for global variable
‘hpa_histology_data’
hpaVisTissue: no visible binding for global variable ‘gene’
hpaVisTissue: no visible binding for global variable ‘tissue’
hpaVisTissue: no visible binding for global variable ‘cell_type’
hpaVisTissue: no visible binding for global variable ‘level’
hpaVisTissue: no visible binding for global variable ‘tissue_cell’
hpaXmlTissueExpr : <anonymous>: no visible binding for global variable
‘patientId’
hpaXmlTissueExpr : <anonymous>: no visible binding for global variable
‘age’
hpaXmlTissueExpr : <anonymous>: no visible binding for global variable
‘sex’
hpaXmlTissueExpr : <anonymous>: no visible binding for global variable
‘staining’
hpaXmlTissueExpr : <anonymous>: no visible binding for global variable
‘intensity’
hpaXmlTissueExpr : <anonymous>: no visible binding for global variable
‘quantity’
hpaXmlTissueExpr : <anonymous>: no visible binding for global variable
‘imageUrl’
hpaXmlTissueExprSum: no visible binding for global variable ‘tissue’
hpaXmlTissueExprSum: no visible binding for global variable ‘imageUrl’
named_vector_list_to_tibble: no visible binding for global variable
‘index’
Undefined global functions or variables:
age approved cancer cell_line cell_type enhanced gene high
hpa_histology_data imageUrl index intensity level low medium
not_detected patientId patient_count quantity sex staining
sub_location supported tissue tissue_cell uncertain
* checking Rd files ... OK
* checking Rd metadata ... OK
* checking Rd cross-references ... OK
* checking for missing documentation entries ... OK
* checking for code/documentation mismatches ... OK
* checking Rd \usage sections ... OK
* checking Rd contents ... OK
* checking for unstated dependencies in examples ... OK
* checking contents of ‘data’ directory ... OK
* checking data for non-ASCII characters ... OK
* checking data for ASCII and uncompressed saves ... OK
* checking R/sysdata.rda ... OK
* checking files in ‘vignettes’ ... OK
* checking examples ... OK
* checking for unstated dependencies in vignettes ... OK
* checking package vignettes in ‘inst/doc’ ... OK
* checking running R code from vignettes ... SKIPPED
* checking re-building of vignette outputs ... SKIPPED
* checking PDF version of manual ... OK
* DONE
Status: 4 NOTEs
See
‘/Users/biocbuild/bbs-3.11-bioc/meat/HPAanalyze.Rcheck/00check.log’
for details.
HPAanalyze.Rcheck/00install.out
############################################################################## ############################################################################## ### ### Running command: ### ### /Library/Frameworks/R.framework/Versions/Current/Resources/bin/R CMD INSTALL HPAanalyze ### ############################################################################## ############################################################################## * installing to library ‘/Library/Frameworks/R.framework/Versions/4.0/Resources/library’ * installing *source* package ‘HPAanalyze’ ... ** using staged installation ** R ** data *** moving datasets to lazyload DB ** inst ** byte-compile and prepare package for lazy loading ** help *** installing help indices ** building package indices ** installing vignettes ** testing if installed package can be loaded from temporary location ** testing if installed package can be loaded from final location ** testing if installed package keeps a record of temporary installation path * DONE (HPAanalyze)
HPAanalyze.Rcheck/HPAanalyze-Ex.timings
| name | user | system | elapsed | |
| hpaDownload | 2.216 | 0.185 | 2.402 | |
| hpaExport | 0.694 | 0.070 | 0.768 | |
| hpaListParam | 0.185 | 0.037 | 0.222 | |
| hpaVis | 1.259 | 0.050 | 1.311 | |
| hpaVisPatho | 4.310 | 0.100 | 4.418 | |
| hpaVisSubcell | 2.543 | 0.070 | 2.619 | |
| hpaVisTissue | 2.679 | 0.068 | 2.785 | |
| hpaXml | 0.330 | 0.050 | 1.943 | |
| hpaXmlAntibody | 0.000 | 0.001 | 0.000 | |
| hpaXmlGet | 0 | 0 | 0 | |
| hpaXmlProtClass | 0.001 | 0.000 | 0.001 | |
| hpaXmlTissueExpr | 0.001 | 0.001 | 0.000 | |
| hpaXmlTissueExprSum | 0.000 | 0.000 | 0.001 | |
| hpa_downloaded_histology_v18 | 1.712 | 0.072 | 1.785 | |
| hpa_histology_data | 2.048 | 0.148 | 2.198 | |