| Back to Multiple platform build/check report for BioC 3.11 | 
  | 
This page was generated on 2020-10-17 11:59:31 -0400 (Sat, 17 Oct 2020).
| TO THE DEVELOPERS/MAINTAINERS OF THE scds PACKAGE: Please make sure to use the following settings in order to reproduce any error or warning you see on this page. | 
| Package 1591/1905 | Hostname | OS / Arch | INSTALL | BUILD | CHECK | BUILD BIN | ||||||
| scds 1.4.0 Dennis Kostka 
  | malbec2 | Linux (Ubuntu 18.04.4 LTS) / x86_64 | OK | OK | OK | |||||||
| tokay2 | Windows Server 2012 R2 Standard / x64 | OK | OK | OK | OK | |||||||
| machv2 | macOS 10.14.6 Mojave / x86_64 | OK | OK | OK | [ OK ] | 
| Package: scds | 
| Version: 1.4.0 | 
| Command: rm -rf scds.buildbin-libdir && mkdir scds.buildbin-libdir && /Users/biocbuild/BBS/utils/build-universal.sh scds_1.4.0.tar.gz /Library/Frameworks/R.framework/Versions/Current/Resources/bin/R scds.buildbin-libdir | 
| StartedAt: 2020-10-17 07:55:51 -0400 (Sat, 17 Oct 2020) | 
| EndedAt: 2020-10-17 07:56:27 -0400 (Sat, 17 Oct 2020) | 
| EllapsedTime: 35.7 seconds | 
| RetCode: 0 | 
| Status: OK | 
| PackageFile: scds_1.4.0.tgz | 
| PackageFileSize: 989 KiB | 
############################################################################## ############################################################################## ### ### Running command: ### ### rm -rf scds.buildbin-libdir && mkdir scds.buildbin-libdir && /Users/biocbuild/BBS/utils/build-universal.sh scds_1.4.0.tar.gz /Library/Frameworks/R.framework/Versions/Current/Resources/bin/R scds.buildbin-libdir ### ############################################################################## ############################################################################## >>>>>>> >>>>>>> INSTALLATION WITH 'R CMD INSTALL --preclean --no-multiarch --library=scds.buildbin-libdir scds_1.4.0.tar.gz' >>>>>>> * installing *source* package ‘scds’ ... ** using staged installation ** R ** data ** inst ** byte-compile and prepare package for lazy loading ** help *** installing help indices ** building package indices ** installing vignettes ** testing if installed package can be loaded from temporary location ** testing if installed package can be loaded from final location ** testing if installed package keeps a record of temporary installation path * DONE (scds)