| Back to Multiple platform build/check report for BioC 3.11 |
|
This page was generated on 2020-10-17 11:59:05 -0400 (Sat, 17 Oct 2020).
| TO THE DEVELOPERS/MAINTAINERS OF THE NormalyzerDE PACKAGE: Please make sure to use the following settings in order to reproduce any error or warning you see on this page. |
| Package 1201/1905 | Hostname | OS / Arch | INSTALL | BUILD | CHECK | BUILD BIN | ||||||
| NormalyzerDE 1.6.0 Jakob Willforss
| malbec2 | Linux (Ubuntu 18.04.4 LTS) / x86_64 | OK | OK | OK | |||||||
| tokay2 | Windows Server 2012 R2 Standard / x64 | OK | OK | OK | OK | |||||||
| machv2 | macOS 10.14.6 Mojave / x86_64 | OK | OK | [ OK ] | OK |
| Package: NormalyzerDE |
| Version: 1.6.0 |
| Command: /Library/Frameworks/R.framework/Versions/Current/Resources/bin/R CMD check --install=check:NormalyzerDE.install-out.txt --library=/Library/Frameworks/R.framework/Versions/Current/Resources/library --no-vignettes --timings NormalyzerDE_1.6.0.tar.gz |
| StartedAt: 2020-10-17 03:32:47 -0400 (Sat, 17 Oct 2020) |
| EndedAt: 2020-10-17 03:39:51 -0400 (Sat, 17 Oct 2020) |
| EllapsedTime: 423.8 seconds |
| RetCode: 0 |
| Status: OK |
| CheckDir: NormalyzerDE.Rcheck |
| Warnings: 0 |
##############################################################################
##############################################################################
###
### Running command:
###
### /Library/Frameworks/R.framework/Versions/Current/Resources/bin/R CMD check --install=check:NormalyzerDE.install-out.txt --library=/Library/Frameworks/R.framework/Versions/Current/Resources/library --no-vignettes --timings NormalyzerDE_1.6.0.tar.gz
###
##############################################################################
##############################################################################
* using log directory ‘/Users/biocbuild/bbs-3.11-bioc/meat/NormalyzerDE.Rcheck’
* using R version 4.0.3 (2020-10-10)
* using platform: x86_64-apple-darwin17.0 (64-bit)
* using session charset: UTF-8
* using option ‘--no-vignettes’
* checking for file ‘NormalyzerDE/DESCRIPTION’ ... OK
* this is package ‘NormalyzerDE’ version ‘1.6.0’
* package encoding: UTF-8
* checking package namespace information ... OK
* checking package dependencies ... OK
* checking if this is a source package ... OK
* checking if there is a namespace ... OK
* checking for hidden files and directories ... NOTE
Found the following hidden files and directories:
.travis.yml
These were most likely included in error. See section ‘Package
structure’ in the ‘Writing R Extensions’ manual.
* checking for portable file names ... OK
* checking for sufficient/correct file permissions ... OK
* checking whether package ‘NormalyzerDE’ can be installed ... OK
* checking installed package size ... OK
* checking package directory ... OK
* checking ‘build’ directory ... OK
* checking DESCRIPTION meta-information ... OK
* checking top-level files ... OK
* checking for left-over files ... OK
* checking index information ... OK
* checking package subdirectories ... OK
* checking R files for non-ASCII characters ... OK
* checking R files for syntax errors ... OK
* checking whether the package can be loaded ... OK
* checking whether the package can be loaded with stated dependencies ... OK
* checking whether the package can be unloaded cleanly ... OK
* checking whether the namespace can be loaded with stated dependencies ... OK
* checking whether the namespace can be unloaded cleanly ... OK
* checking dependencies in R code ... OK
* checking S3 generic/method consistency ... OK
* checking replacement functions ... OK
* checking foreign function calls ... OK
* checking R code for possible problems ... OK
* checking Rd files ... OK
* checking Rd metadata ... OK
* checking Rd cross-references ... OK
* checking for missing documentation entries ... OK
* checking for code/documentation mismatches ... OK
* checking Rd \usage sections ... OK
* checking Rd contents ... OK
* checking for unstated dependencies in examples ... OK
* checking contents of ‘data’ directory ... OK
* checking data for non-ASCII characters ... OK
* checking data for ASCII and uncompressed saves ... OK
* checking sizes of PDF files under ‘inst/doc’ ... OK
* checking files in ‘vignettes’ ... OK
* checking examples ... OK
Examples with CPU (user + system) or elapsed time > 5s
user system elapsed
generatePlots 23.076 0.598 23.718
NormalyzerEvaluationResults 8.756 0.165 8.931
writeNormalizedDatasets 8.261 0.056 8.339
analyzeNormalizations 8.119 0.036 8.162
getSmoothedRTNormalizedMatrix 5.383 0.065 5.457
* checking for unstated dependencies in ‘tests’ ... OK
* checking tests ...
Running ‘testthat.R’
OK
* checking for unstated dependencies in vignettes ... OK
* checking package vignettes in ‘inst/doc’ ... OK
* checking running R code from vignettes ... SKIPPED
* checking re-building of vignette outputs ... SKIPPED
* checking PDF version of manual ... OK
* DONE
Status: 1 NOTE
See
‘/Users/biocbuild/bbs-3.11-bioc/meat/NormalyzerDE.Rcheck/00check.log’
for details.
NormalyzerDE.Rcheck/00install.out
############################################################################## ############################################################################## ### ### Running command: ### ### /Library/Frameworks/R.framework/Versions/Current/Resources/bin/R CMD INSTALL NormalyzerDE ### ############################################################################## ############################################################################## * installing to library ‘/Library/Frameworks/R.framework/Versions/4.0/Resources/library’ * installing *source* package ‘NormalyzerDE’ ... ** using staged installation ** R ** data ** inst ** byte-compile and prepare package for lazy loading ** help *** installing help indices ** building package indices ** installing vignettes ** testing if installed package can be loaded from temporary location ** testing if installed package can be loaded from final location ** testing if installed package keeps a record of temporary installation path * DONE (NormalyzerDE)
NormalyzerDE.Rcheck/tests/testthat.Rout
R version 4.0.3 (2020-10-10) -- "Bunny-Wunnies Freak Out"
Copyright (C) 2020 The R Foundation for Statistical Computing
Platform: x86_64-apple-darwin17.0 (64-bit)
R is free software and comes with ABSOLUTELY NO WARRANTY.
You are welcome to redistribute it under certain conditions.
Type 'license()' or 'licence()' for distribution details.
R is a collaborative project with many contributors.
Type 'contributors()' for more information and
'citation()' on how to cite R or R packages in publications.
Type 'demo()' for some demos, 'help()' for on-line help, or
'help.start()' for an HTML browser interface to help.
Type 'q()' to quit R.
> library(testthat)
> library(NormalyzerDE)
> test_check("NormalyzerDE")
══ testthat results ═══════════════════════════════════════════════════════════
[ OK: 85 | SKIPPED: 0 | WARNINGS: 0 | FAILED: 0 ]
>
> proc.time()
user system elapsed
43.332 1.063 44.457
NormalyzerDE.Rcheck/NormalyzerDE-Ex.timings
| name | user | system | elapsed | |
| NormalyzerEvaluationResults | 8.756 | 0.165 | 8.931 | |
| NormalyzerResults | 0.166 | 0.002 | 0.168 | |
| NormalyzerStatistics | 0.036 | 0.002 | 0.039 | |
| analyzeNormalizations | 8.119 | 0.036 | 8.162 | |
| calculateContrasts | 0.151 | 0.003 | 0.154 | |
| generateAnnotatedMatrix | 0.104 | 0.001 | 0.105 | |
| generatePlots | 23.076 | 0.598 | 23.718 | |
| generateStatsReport | 2.974 | 0.022 | 3.001 | |
| getRTNormalizedMatrix | 2.655 | 0.058 | 2.718 | |
| getSmoothedRTNormalizedMatrix | 5.383 | 0.065 | 5.457 | |
| getVerifiedNormalyzerObject | 0.053 | 0.002 | 0.056 | |
| globalIntensityNormalization | 0.008 | 0.001 | 0.009 | |
| loadData | 0.000 | 0.000 | 0.001 | |
| loadDesign | 0.000 | 0.000 | 0.001 | |
| meanNormalization | 0.006 | 0.001 | 0.007 | |
| medianNormalization | 0.007 | 0.001 | 0.008 | |
| normMethods | 3.040 | 0.018 | 3.063 | |
| normalyzer | 0 | 0 | 0 | |
| normalyzerDE | 1.431 | 0.011 | 1.466 | |
| performCyclicLoessNormalization | 0.011 | 0.001 | 0.012 | |
| performGlobalRLRNormalization | 0.023 | 0.001 | 0.024 | |
| performQuantileNormalization | 0.001 | 0.002 | 0.004 | |
| performSMADNormalization | 0.003 | 0.001 | 0.003 | |
| performVSNNormalization | 0.027 | 0.002 | 0.028 | |
| reduceTechnicalReplicates | 0.039 | 0.001 | 0.039 | |
| setupJobDir | 0.000 | 0.001 | 0.001 | |
| setupRawContrastObject | 0.019 | 0.001 | 0.020 | |
| setupRawDataObject | 0.027 | 0.001 | 0.028 | |
| setupTestData | 0.002 | 0.001 | 0.003 | |
| writeNormalizedDatasets | 8.261 | 0.056 | 8.339 | |