| Back to Multiple platform build/check report for BioC 3.11 |
|
This page was generated on 2020-10-17 11:59:06 -0400 (Sat, 17 Oct 2020).
| TO THE DEVELOPERS/MAINTAINERS OF THE OmnipathR PACKAGE: Please make sure to use the following settings in order to reproduce any error or warning you see on this page. |
| Package 1228/1905 | Hostname | OS / Arch | INSTALL | BUILD | CHECK | BUILD BIN | ||||||
| OmnipathR 1.2.1 Alberto Valdeolivas Urbelz
| malbec2 | Linux (Ubuntu 18.04.4 LTS) / x86_64 | OK | OK | OK | |||||||
| tokay2 | Windows Server 2012 R2 Standard / x64 | OK | OK | OK | OK | |||||||
| machv2 | macOS 10.14.6 Mojave / x86_64 | OK | OK | [ OK ] | OK |
| Package: OmnipathR |
| Version: 1.2.1 |
| Command: /Library/Frameworks/R.framework/Versions/Current/Resources/bin/R CMD check --install=check:OmnipathR.install-out.txt --library=/Library/Frameworks/R.framework/Versions/Current/Resources/library --no-vignettes --timings OmnipathR_1.2.1.tar.gz |
| StartedAt: 2020-10-17 03:38:15 -0400 (Sat, 17 Oct 2020) |
| EndedAt: 2020-10-17 03:41:15 -0400 (Sat, 17 Oct 2020) |
| EllapsedTime: 180.2 seconds |
| RetCode: 0 |
| Status: OK |
| CheckDir: OmnipathR.Rcheck |
| Warnings: 0 |
##############################################################################
##############################################################################
###
### Running command:
###
### /Library/Frameworks/R.framework/Versions/Current/Resources/bin/R CMD check --install=check:OmnipathR.install-out.txt --library=/Library/Frameworks/R.framework/Versions/Current/Resources/library --no-vignettes --timings OmnipathR_1.2.1.tar.gz
###
##############################################################################
##############################################################################
* using log directory ‘/Users/biocbuild/bbs-3.11-bioc/meat/OmnipathR.Rcheck’
* using R version 4.0.3 (2020-10-10)
* using platform: x86_64-apple-darwin17.0 (64-bit)
* using session charset: UTF-8
* using option ‘--no-vignettes’
* checking for file ‘OmnipathR/DESCRIPTION’ ... OK
* checking extension type ... Package
* this is package ‘OmnipathR’ version ‘1.2.1’
* package encoding: UTF-8
* checking package namespace information ... OK
* checking package dependencies ... OK
* checking if this is a source package ... OK
* checking if there is a namespace ... OK
* checking for hidden files and directories ... OK
* checking for portable file names ... OK
* checking for sufficient/correct file permissions ... OK
* checking whether package ‘OmnipathR’ can be installed ... OK
* checking installed package size ... OK
* checking package directory ... OK
* checking ‘build’ directory ... OK
* checking DESCRIPTION meta-information ... OK
* checking top-level files ... OK
* checking for left-over files ... OK
* checking index information ... OK
* checking package subdirectories ... OK
* checking R files for non-ASCII characters ... OK
* checking R files for syntax errors ... OK
* checking whether the package can be loaded ... OK
* checking whether the package can be loaded with stated dependencies ... OK
* checking whether the package can be unloaded cleanly ... OK
* checking whether the namespace can be loaded with stated dependencies ... OK
* checking whether the namespace can be unloaded cleanly ... OK
* checking dependencies in R code ... OK
* checking S3 generic/method consistency ... OK
* checking replacement functions ... OK
* checking foreign function calls ... OK
* checking R code for possible problems ... OK
* checking Rd files ... OK
* checking Rd metadata ... OK
* checking Rd cross-references ... OK
* checking for missing documentation entries ... OK
* checking for code/documentation mismatches ... OK
* checking Rd \usage sections ... OK
* checking Rd contents ... OK
* checking for unstated dependencies in examples ... OK
* checking R/sysdata.rda ... OK
* checking sizes of PDF files under ‘inst/doc’ ... OK
* checking files in ‘vignettes’ ... OK
* checking examples ... OK
Examples with CPU (user + system) or elapsed time > 5s
user system elapsed
get_signed_ptms 7.990 0.150 12.504
OmnipathR 4.604 0.139 7.712
import_Omnipath_intercell 4.384 0.208 10.575
printPath_vs 4.100 0.058 7.726
import_AllInteractions 3.939 0.065 5.424
print_interactions 3.668 0.060 6.479
* checking for unstated dependencies in ‘tests’ ... OK
* checking tests ...
Running ‘testthat.R’
OK
* checking for unstated dependencies in vignettes ... OK
* checking package vignettes in ‘inst/doc’ ... OK
* checking running R code from vignettes ... SKIPPED
* checking re-building of vignette outputs ... SKIPPED
* checking PDF version of manual ... OK
* DONE
Status: OK
OmnipathR.Rcheck/00install.out
############################################################################## ############################################################################## ### ### Running command: ### ### /Library/Frameworks/R.framework/Versions/Current/Resources/bin/R CMD INSTALL OmnipathR ### ############################################################################## ############################################################################## * installing to library ‘/Library/Frameworks/R.framework/Versions/4.0/Resources/library’ * installing *source* package ‘OmnipathR’ ... ** using staged installation ** R ** inst ** byte-compile and prepare package for lazy loading ** help *** installing help indices ** building package indices ** installing vignettes ** testing if installed package can be loaded from temporary location ** testing if installed package can be loaded from final location ** testing if installed package keeps a record of temporary installation path * DONE (OmnipathR)
OmnipathR.Rcheck/tests/testthat.Rout
R version 4.0.3 (2020-10-10) -- "Bunny-Wunnies Freak Out"
Copyright (C) 2020 The R Foundation for Statistical Computing
Platform: x86_64-apple-darwin17.0 (64-bit)
R is free software and comes with ABSOLUTELY NO WARRANTY.
You are welcome to redistribute it under certain conditions.
Type 'license()' or 'licence()' for distribution details.
R is a collaborative project with many contributors.
Type 'contributors()' for more information and
'citation()' on how to cite R or R packages in publications.
Type 'demo()' for some demos, 'help()' for on-line help, or
'help.start()' for an HTML browser interface to help.
Type 'q()' to quit R.
> library(testthat)
> library(OmnipathR)
Loading required package: igraph
Attaching package: 'igraph'
The following object is masked from 'package:testthat':
compare
The following objects are masked from 'package:stats':
decompose, spectrum
The following object is masked from 'package:base':
union
>
> test_check("OmnipathR")
══ testthat results ═══════════════════════════════════════════════════════════
[ OK: 10 | SKIPPED: 0 | WARNINGS: 0 | FAILED: 0 ]
>
> proc.time()
user system elapsed
17.501 0.509 41.029
OmnipathR.Rcheck/OmnipathR-Ex.timings
| name | user | system | elapsed | |
| OmnipathR | 4.604 | 0.139 | 7.712 | |
| get_annotation_databases | 0.067 | 0.008 | 1.307 | |
| get_complex_genes | 0.833 | 0.019 | 2.129 | |
| get_complexes_databases | 0.330 | 0.014 | 1.813 | |
| get_interaction_databases | 1.495 | 0.039 | 2.905 | |
| get_intercell_categories | 0.037 | 0.024 | 0.916 | |
| get_intercell_classes | 0.020 | 0.002 | 1.029 | |
| get_ptms_databases | 0.654 | 0.016 | 2.108 | |
| get_signed_ptms | 7.990 | 0.150 | 12.504 | |
| import_AllInteractions | 3.939 | 0.065 | 5.424 | |
| import_KinaseExtra_Interactions | 0.860 | 0.014 | 2.961 | |
| import_LigrecExtra_Interactions | 0.225 | 0.005 | 1.247 | |
| import_Omnipath_Interactions | 1.428 | 0.029 | 2.875 | |
| import_Omnipath_PTMS | 1.733 | 0.026 | 3.062 | |
| import_Omnipath_annotations | 0.085 | 0.009 | 2.160 | |
| import_Omnipath_complexes | 0.734 | 0.016 | 2.262 | |
| import_Omnipath_intercell | 4.384 | 0.208 | 10.575 | |
| import_PathwayExtra_Interactions | 0.840 | 0.031 | 3.072 | |
| import_TFregulons_Interactions | 0.487 | 0.031 | 1.790 | |
| import_miRNAtarget_Interactions | 0.345 | 0.007 | 1.611 | |
| interaction_graph | 1.826 | 0.031 | 3.266 | |
| printPath_es | 1.821 | 0.032 | 3.344 | |
| printPath_vs | 4.100 | 0.058 | 7.726 | |
| print_interactions | 3.668 | 0.060 | 6.479 | |
| ptms_graph | 2.266 | 0.027 | 3.684 | |