| Back to Multiple platform build/check report for BioC 3.11 |
|
This page was generated on 2020-10-17 11:58:43 -0400 (Sat, 17 Oct 2020).
| TO THE DEVELOPERS/MAINTAINERS OF THE idr2d PACKAGE: Please make sure to use the following settings in order to reproduce any error or warning you see on this page. |
| Package 859/1905 | Hostname | OS / Arch | INSTALL | BUILD | CHECK | BUILD BIN | ||||||
| idr2d 1.2.2 Konstantin Krismer
| malbec2 | Linux (Ubuntu 18.04.4 LTS) / x86_64 | OK | OK | OK | |||||||
| tokay2 | Windows Server 2012 R2 Standard / x64 | OK | OK | OK | OK | |||||||
| machv2 | macOS 10.14.6 Mojave / x86_64 | OK | OK | [ OK ] | OK |
| Package: idr2d |
| Version: 1.2.2 |
| Command: /Library/Frameworks/R.framework/Versions/Current/Resources/bin/R CMD check --install=check:idr2d.install-out.txt --library=/Library/Frameworks/R.framework/Versions/Current/Resources/library --no-vignettes --timings idr2d_1.2.2.tar.gz |
| StartedAt: 2020-10-17 02:08:53 -0400 (Sat, 17 Oct 2020) |
| EndedAt: 2020-10-17 02:13:22 -0400 (Sat, 17 Oct 2020) |
| EllapsedTime: 269.0 seconds |
| RetCode: 0 |
| Status: OK |
| CheckDir: idr2d.Rcheck |
| Warnings: 0 |
##############################################################################
##############################################################################
###
### Running command:
###
### /Library/Frameworks/R.framework/Versions/Current/Resources/bin/R CMD check --install=check:idr2d.install-out.txt --library=/Library/Frameworks/R.framework/Versions/Current/Resources/library --no-vignettes --timings idr2d_1.2.2.tar.gz
###
##############################################################################
##############################################################################
* using log directory ‘/Users/biocbuild/bbs-3.11-bioc/meat/idr2d.Rcheck’
* using R version 4.0.3 (2020-10-10)
* using platform: x86_64-apple-darwin17.0 (64-bit)
* using session charset: UTF-8
* using option ‘--no-vignettes’
* checking for file ‘idr2d/DESCRIPTION’ ... OK
* this is package ‘idr2d’ version ‘1.2.2’
* package encoding: UTF-8
* checking package namespace information ... OK
* checking package dependencies ... OK
* checking if this is a source package ... OK
* checking if there is a namespace ... OK
* checking for hidden files and directories ... OK
* checking for portable file names ... OK
* checking for sufficient/correct file permissions ... OK
* checking whether package ‘idr2d’ can be installed ... OK
* checking installed package size ... OK
* checking package directory ... OK
* checking ‘build’ directory ... OK
* checking DESCRIPTION meta-information ... OK
* checking top-level files ... OK
* checking for left-over files ... OK
* checking index information ... OK
* checking package subdirectories ... OK
* checking R files for non-ASCII characters ... OK
* checking R files for syntax errors ... OK
* checking whether the package can be loaded ... OK
* checking whether the package can be loaded with stated dependencies ... OK
* checking whether the package can be unloaded cleanly ... OK
* checking whether the namespace can be loaded with stated dependencies ... OK
* checking whether the namespace can be unloaded cleanly ... OK
* checking dependencies in R code ... OK
* checking S3 generic/method consistency ... OK
* checking replacement functions ... OK
* checking foreign function calls ... OK
* checking R code for possible problems ... OK
* checking Rd files ... OK
* checking Rd metadata ... OK
* checking Rd cross-references ... OK
* checking for missing documentation entries ... OK
* checking for code/documentation mismatches ... OK
* checking Rd \usage sections ... OK
* checking Rd contents ... OK
* checking for unstated dependencies in examples ... OK
* checking contents of ‘data’ directory ... OK
* checking data for non-ASCII characters ... OK
* checking data for ASCII and uncompressed saves ... OK
* checking files in ‘vignettes’ ... OK
* checking examples ... OK
Examples with CPU (user + system) or elapsed time > 5s
user system elapsed
estimate_idr2d 6.806 0.717 7.527
estimate_idr 6.406 0.641 7.056
* checking for unstated dependencies in ‘tests’ ... OK
* checking tests ...
Running ‘testthat.R’
OK
* checking for unstated dependencies in vignettes ... OK
* checking package vignettes in ‘inst/doc’ ... OK
* checking running R code from vignettes ... SKIPPED
* checking re-building of vignette outputs ... SKIPPED
* checking PDF version of manual ... OK
* DONE
Status: OK
idr2d.Rcheck/00install.out
############################################################################## ############################################################################## ### ### Running command: ### ### /Library/Frameworks/R.framework/Versions/Current/Resources/bin/R CMD INSTALL idr2d ### ############################################################################## ############################################################################## * installing to library ‘/Library/Frameworks/R.framework/Versions/4.0/Resources/library’ * installing *source* package ‘idr2d’ ... ** using staged installation ** R ** data ** inst ** byte-compile and prepare package for lazy loading ** help *** installing help indices ** building package indices ** installing vignettes ** testing if installed package can be loaded from temporary location ** testing if installed package can be loaded from final location ** testing if installed package keeps a record of temporary installation path * DONE (idr2d)
idr2d.Rcheck/tests/testthat.Rout
R version 4.0.3 (2020-10-10) -- "Bunny-Wunnies Freak Out"
Copyright (C) 2020 The R Foundation for Statistical Computing
Platform: x86_64-apple-darwin17.0 (64-bit)
R is free software and comes with ABSOLUTELY NO WARRANTY.
You are welcome to redistribute it under certain conditions.
Type 'license()' or 'licence()' for distribution details.
R is a collaborative project with many contributors.
Type 'contributors()' for more information and
'citation()' on how to cite R or R packages in publications.
Type 'demo()' for some demos, 'help()' for on-line help, or
'help.start()' for an HTML browser interface to help.
Type 'q()' to quit R.
> library(testthat)
> library(idr2d)
>
> test_check("idr2d")
══ testthat results ═══════════════════════════════════════════════════════════
[ OK: 132 | SKIPPED: 0 | WARNINGS: 0 | FAILED: 0 ]
>
> proc.time()
user system elapsed
70.625 7.189 76.607
idr2d.Rcheck/idr2d-Ex.timings
| name | user | system | elapsed | |
| calculate_midpoint_distance1d | 0.001 | 0.001 | 0.002 | |
| calculate_midpoint_distance2d | 0.002 | 0.002 | 0.003 | |
| calculate_relative_overlap1d | 0.001 | 0.001 | 0.002 | |
| calculate_relative_overlap2d | 0.003 | 0.001 | 0.004 | |
| determine_anchor_overlap | 0.318 | 0.004 | 0.322 | |
| draw_hic_contact_map | 4.267 | 0.481 | 4.752 | |
| draw_idr_distribution_histogram | 1.743 | 0.109 | 1.915 | |
| draw_rank_idr_scatterplot | 1.831 | 0.102 | 1.936 | |
| draw_value_idr_scatterplot | 1.812 | 0.114 | 1.928 | |
| establish_bijection | 0.212 | 0.007 | 0.219 | |
| establish_bijection1d | 0.280 | 0.005 | 0.284 | |
| establish_bijection2d | 1.604 | 0.020 | 1.625 | |
| establish_overlap1d | 0.217 | 0.003 | 0.220 | |
| establish_overlap2d | 0.508 | 0.006 | 0.515 | |
| estimate_idr | 6.406 | 0.641 | 7.056 | |
| estimate_idr1d | 1.378 | 0.088 | 1.467 | |
| estimate_idr2d | 6.806 | 0.717 | 7.527 | |
| estimate_idr2d_hic | 3.348 | 0.381 | 3.730 | |
| preprocess | 0.002 | 0.000 | 0.003 | |
| remove_nonstandard_chromosomes1d | 0.217 | 0.018 | 0.234 | |
| remove_nonstandard_chromosomes2d | 0.497 | 0.027 | 0.526 | |