| Back to Multiple platform build/check report for BioC 3.11 | 
  | 
This page was generated on 2020-10-17 11:59:39 -0400 (Sat, 17 Oct 2020).
| TO THE DEVELOPERS/MAINTAINERS OF THE SMITE PACKAGE: Please make sure to use the following settings in order to reproduce any error or warning you see on this page. | 
| Package 1687/1905 | Hostname | OS / Arch | INSTALL | BUILD | CHECK | BUILD BIN | ||||||
| SMITE 1.16.0 Neil Ari Wijetunga 
  | malbec2 | Linux (Ubuntu 18.04.4 LTS) / x86_64 | OK | OK | OK | |||||||
| tokay2 | Windows Server 2012 R2 Standard / x64 | OK | OK | OK | NA | |||||||
| machv2 | macOS 10.14.6 Mojave / x86_64 | OK | OK | [ OK ] | OK | 
| Package: SMITE | 
| Version: 1.16.0 | 
| Command: /Library/Frameworks/R.framework/Versions/Current/Resources/bin/R CMD check --install=check:SMITE.install-out.txt --library=/Library/Frameworks/R.framework/Versions/Current/Resources/library --no-vignettes --timings SMITE_1.16.0.tar.gz | 
| StartedAt: 2020-10-17 05:28:23 -0400 (Sat, 17 Oct 2020) | 
| EndedAt: 2020-10-17 05:35:37 -0400 (Sat, 17 Oct 2020) | 
| EllapsedTime: 434.9 seconds | 
| RetCode: 0 | 
| Status: OK | 
| CheckDir: SMITE.Rcheck | 
| Warnings: 0 | 
############################################################################## ############################################################################## ### ### Running command: ### ### /Library/Frameworks/R.framework/Versions/Current/Resources/bin/R CMD check --install=check:SMITE.install-out.txt --library=/Library/Frameworks/R.framework/Versions/Current/Resources/library --no-vignettes --timings SMITE_1.16.0.tar.gz ### ############################################################################## ############################################################################## * using log directory ‘/Users/biocbuild/bbs-3.11-bioc/meat/SMITE.Rcheck’ * using R version 4.0.3 (2020-10-10) * using platform: x86_64-apple-darwin17.0 (64-bit) * using session charset: UTF-8 * using option ‘--no-vignettes’ * checking for file ‘SMITE/DESCRIPTION’ ... OK * checking extension type ... Package * this is package ‘SMITE’ version ‘1.16.0’ * checking package namespace information ... OK * checking package dependencies ... OK * checking if this is a source package ... OK * checking if there is a namespace ... OK * checking for hidden files and directories ... OK * checking for portable file names ... OK * checking for sufficient/correct file permissions ... OK * checking whether package ‘SMITE’ can be installed ... OK * checking installed package size ... OK * checking package directory ... OK * checking ‘build’ directory ... OK * checking DESCRIPTION meta-information ... OK * checking top-level files ... OK * checking for left-over files ... OK * checking index information ... OK * checking package subdirectories ... OK * checking R files for non-ASCII characters ... OK * checking R files for syntax errors ... OK * checking whether the package can be loaded ... OK * checking whether the package can be loaded with stated dependencies ... OK * checking whether the package can be unloaded cleanly ... OK * checking whether the namespace can be loaded with stated dependencies ... OK * checking whether the namespace can be unloaded cleanly ... OK * checking dependencies in R code ... OK * checking S3 generic/method consistency ... OK * checking replacement functions ... OK * checking foreign function calls ... OK * checking R code for possible problems ... OK * checking Rd files ... OK * checking Rd metadata ... OK * checking Rd cross-references ... OK * checking for missing documentation entries ... OK * checking for code/documentation mismatches ... OK * checking Rd \usage sections ... OK * checking Rd contents ... OK * checking for unstated dependencies in examples ... OK * checking contents of ‘data’ directory ... OK * checking data for non-ASCII characters ... OK * checking data for ASCII and uncompressed saves ... OK * checking sizes of PDF files under ‘inst/doc’ ... OK * checking files in ‘vignettes’ ... OK * checking examples ... OK * checking for unstated dependencies in vignettes ... OK * checking package vignettes in ‘inst/doc’ ... OK * checking running R code from vignettes ... SKIPPED * checking re-building of vignette outputs ... SKIPPED * checking PDF version of manual ... OK * DONE Status: OK
SMITE.Rcheck/00install.out
############################################################################## ############################################################################## ### ### Running command: ### ### /Library/Frameworks/R.framework/Versions/Current/Resources/bin/R CMD INSTALL SMITE ### ############################################################################## ############################################################################## * installing to library ‘/Library/Frameworks/R.framework/Versions/4.0/Resources/library’ * installing *source* package ‘SMITE’ ... ** using staged installation ** R ** data ** inst ** byte-compile and prepare package for lazy loading ** help *** installing help indices ** building package indices ** installing vignettes ** testing if installed package can be loaded from temporary location ** testing if installed package can be loaded from final location ** testing if installed package keeps a record of temporary installation path * DONE (SMITE)
SMITE.Rcheck/SMITE-Ex.timings
| name | user | system | elapsed | |
| Reactome.Symbol.Igraph | 0.179 | 0.012 | 0.191 | |
| SMITE-package | 0.546 | 0.018 | 0.564 | |
| addShadowText | 0.005 | 0.001 | 0.005 | |
| annotateExpression | 0.284 | 0.009 | 0.293 | |
| annotateModification | 0.001 | 0.001 | 0.001 | |
| convertGeneIds | 3.003 | 0.161 | 3.166 | |
| curated_expression | 0.064 | 0.002 | 0.066 | |
| extractExpression | 0.227 | 0.007 | 0.234 | |
| extractGOseq | 0.057 | 0.005 | 0.061 | |
| extractModification | 1.190 | 0.036 | 1.227 | |
| extractModules | 0.059 | 0.003 | 0.062 | |
| extractScores | 0.088 | 0.007 | 0.094 | |
| genes_for_conversiontest | 1.195 | 0.005 | 1.200 | |
| hg19_gene_bed | 0.206 | 0.004 | 0.210 | |
| highScores | 0.057 | 0.004 | 0.060 | |
| histone_h3k4me1 | 0.111 | 0.003 | 0.114 | |
| makePvalueAnnotation | 0.981 | 0.028 | 1.010 | |
| makePvalueObject | 0.084 | 0.003 | 0.087 | |
| methylationdata | 0.069 | 0.003 | 0.071 | |
| normalizePval | 0.046 | 0.002 | 0.048 | |
| plotCompareScores | 0.560 | 0.022 | 0.583 | |
| plotDensityPval | 0.100 | 0.004 | 0.104 | |
| plotModule | 0.060 | 0.003 | 0.062 | |
| removeModification | 0.137 | 0.006 | 0.143 | |
| runBioNet | 0.047 | 0.002 | 0.049 | |
| runGOseq | 0.066 | 0.003 | 0.068 | |
| runSpinglass | 0.610 | 0.034 | 0.646 | |
| scorePval | 0.058 | 0.003 | 0.061 | |
| stoufferTest | 0.002 | 0.000 | 0.002 | |
| test_annotation_score_data | 0.094 | 0.004 | 0.099 | |