| Back to Multiple platform build/check report for BioC 3.11 |
|
This page was generated on 2020-10-17 11:58:59 -0400 (Sat, 17 Oct 2020).
| TO THE DEVELOPERS/MAINTAINERS OF THE MOFA PACKAGE: Please make sure to use the following settings in order to reproduce any error or warning you see on this page. |
| Package 1116/1905 | Hostname | OS / Arch | INSTALL | BUILD | CHECK | BUILD BIN | ||||||
| MOFA 1.4.0 Britta Velten
| malbec2 | Linux (Ubuntu 18.04.4 LTS) / x86_64 | OK | OK | OK | |||||||
| tokay2 | Windows Server 2012 R2 Standard / x64 | OK | OK | OK | OK | |||||||
| machv2 | macOS 10.14.6 Mojave / x86_64 | OK | OK | [ OK ] | OK |
| Package: MOFA |
| Version: 1.4.0 |
| Command: /Library/Frameworks/R.framework/Versions/Current/Resources/bin/R CMD check --install=check:MOFA.install-out.txt --library=/Library/Frameworks/R.framework/Versions/Current/Resources/library --no-vignettes --timings MOFA_1.4.0.tar.gz |
| StartedAt: 2020-10-17 03:12:05 -0400 (Sat, 17 Oct 2020) |
| EndedAt: 2020-10-17 03:23:37 -0400 (Sat, 17 Oct 2020) |
| EllapsedTime: 691.4 seconds |
| RetCode: 0 |
| Status: OK |
| CheckDir: MOFA.Rcheck |
| Warnings: 0 |
##############################################################################
##############################################################################
###
### Running command:
###
### /Library/Frameworks/R.framework/Versions/Current/Resources/bin/R CMD check --install=check:MOFA.install-out.txt --library=/Library/Frameworks/R.framework/Versions/Current/Resources/library --no-vignettes --timings MOFA_1.4.0.tar.gz
###
##############################################################################
##############################################################################
* using log directory ‘/Users/biocbuild/bbs-3.11-bioc/meat/MOFA.Rcheck’
* using R version 4.0.3 (2020-10-10)
* using platform: x86_64-apple-darwin17.0 (64-bit)
* using session charset: UTF-8
* using option ‘--no-vignettes’
* checking for file ‘MOFA/DESCRIPTION’ ... OK
* checking extension type ... Package
* this is package ‘MOFA’ version ‘1.4.0’
* package encoding: UTF-8
* checking package namespace information ... OK
* checking package dependencies ... OK
* checking if this is a source package ... OK
* checking if there is a namespace ... OK
* checking for hidden files and directories ... NOTE
Found the following hidden files and directories:
.BBSoptions
These were most likely included in error. See section ‘Package
structure’ in the ‘Writing R Extensions’ manual.
* checking for portable file names ... OK
* checking for sufficient/correct file permissions ... OK
* checking whether package ‘MOFA’ can be installed ... OK
* checking installed package size ... OK
* checking package directory ... OK
* checking ‘build’ directory ... OK
* checking DESCRIPTION meta-information ... OK
* checking top-level files ... OK
* checking for left-over files ... OK
* checking index information ... OK
* checking package subdirectories ... OK
* checking R files for non-ASCII characters ... OK
* checking R files for syntax errors ... OK
* checking whether the package can be loaded ... OK
* checking whether the package can be loaded with stated dependencies ... OK
* checking whether the package can be unloaded cleanly ... OK
* checking whether the namespace can be loaded with stated dependencies ... OK
* checking whether the namespace can be unloaded cleanly ... OK
* checking dependencies in R code ... OK
* checking S3 generic/method consistency ... OK
* checking replacement functions ... OK
* checking foreign function calls ... OK
* checking R code for possible problems ... NOTE
plotEnrichmentDetailed: no visible binding for global variable
‘pathway’
plotEnrichmentDetailed: no visible binding for global variable
‘feature.statistic’
Undefined global functions or variables:
feature.statistic pathway
* checking Rd files ... OK
* checking Rd metadata ... OK
* checking Rd cross-references ... NOTE
Package unavailable to check Rd xrefs: ‘PCGSE’
* checking for missing documentation entries ... OK
* checking for code/documentation mismatches ... OK
* checking Rd \usage sections ... OK
* checking Rd contents ... OK
* checking for unstated dependencies in examples ... OK
* checking files in ‘vignettes’ ... OK
* checking examples ... OK
Examples with CPU (user + system) or elapsed time > 5s
user system elapsed
compareModels 52.355 0.187 55.808
compareFactors 49.468 1.604 53.953
selectModel 46.952 0.215 50.484
regressCovariates 27.055 0.245 27.326
runEnrichmentAnalysis 18.423 1.101 19.577
predict 17.124 0.992 18.274
plotEnrichmentDetailed 10.083 1.126 11.212
plotEnrichment 8.015 1.107 9.127
plotFactorScatters 8.535 0.425 8.965
plotEnrichmentBars 7.726 0.813 8.543
plotEnrichmentHeatmap 7.412 0.727 8.145
plotWeightsHeatmap 6.363 0.463 6.831
clusterSamples 6.193 0.599 6.797
plotTopWeights 5.709 0.700 6.417
calculateVarianceExplained 5.681 0.604 6.301
getTrainData 5.742 0.335 6.081
plotFactorBeeswarm 5.365 0.670 6.042
plotVarianceExplained 5.605 0.402 6.011
plotWeights 5.318 0.359 5.680
trainCurveFactors 4.916 0.514 5.445
plotDataOverview 4.756 0.566 5.327
plotFactorScatter 4.832 0.431 5.267
plotFactorHist 4.830 0.422 5.255
trainCurveELBO 4.596 0.527 5.191
* checking for unstated dependencies in vignettes ... OK
* checking package vignettes in ‘inst/doc’ ... OK
* checking running R code from vignettes ... SKIPPED
* checking re-building of vignette outputs ... SKIPPED
* checking PDF version of manual ... OK
* DONE
Status: 3 NOTEs
See
‘/Users/biocbuild/bbs-3.11-bioc/meat/MOFA.Rcheck/00check.log’
for details.
MOFA.Rcheck/00install.out
############################################################################## ############################################################################## ### ### Running command: ### ### /Library/Frameworks/R.framework/Versions/Current/Resources/bin/R CMD INSTALL MOFA ### ############################################################################## ############################################################################## * installing to library ‘/Library/Frameworks/R.framework/Versions/4.0/Resources/library’ * installing *source* package ‘MOFA’ ... ** using staged installation ** R ** byte-compile and prepare package for lazy loading ** help *** installing help indices ** building package indices ** installing vignettes ** testing if installed package can be loaded from temporary location ** testing if installed package can be loaded from final location ** testing if installed package keeps a record of temporary installation path * DONE (MOFA)
MOFA.Rcheck/MOFA-Ex.timings
| name | user | system | elapsed | |
| DataOptions | 4.307 | 0.368 | 4.687 | |
| Dimensions | 2.725 | 0.285 | 3.012 | |
| Expectations | 2.674 | 0.272 | 2.948 | |
| FeatureIntercepts | 2.753 | 0.334 | 3.114 | |
| ImputedData | 3.035 | 0.356 | 3.393 | |
| InputData | 2.926 | 0.217 | 3.145 | |
| ModelOptions | 2.519 | 0.212 | 2.732 | |
| Status | 2.515 | 0.215 | 2.734 | |
| TrainData | 2.818 | 0.260 | 3.083 | |
| TrainOptions | 2.561 | 0.232 | 2.797 | |
| TrainStats | 2.523 | 0.270 | 2.796 | |
| calculateVarianceExplained | 5.681 | 0.604 | 6.301 | |
| clusterSamples | 6.193 | 0.599 | 6.797 | |
| compareFactors | 49.468 | 1.604 | 53.953 | |
| compareModels | 52.355 | 0.187 | 55.808 | |
| createMOFAobject | 2.607 | 0.242 | 2.853 | |
| factorNames | 2.821 | 0.297 | 3.118 | |
| featureNames | 0.799 | 0.041 | 0.840 | |
| getCovariates | 4.111 | 0.190 | 4.306 | |
| getDefaultDataOptions | 0.021 | 0.000 | 0.021 | |
| getDefaultModelOptions | 1.927 | 0.182 | 2.110 | |
| getDefaultTrainOptions | 0.020 | 0.001 | 0.021 | |
| getDimensions | 2.705 | 0.304 | 3.012 | |
| getELBO | 2.560 | 0.213 | 2.773 | |
| getExpectations | 2.747 | 0.339 | 3.088 | |
| getFactors | 2.580 | 0.260 | 2.841 | |
| getImputedData | 3.669 | 0.813 | 4.484 | |
| getTrainData | 5.742 | 0.335 | 6.081 | |
| getWeights | 2.607 | 0.285 | 2.893 | |
| impute | 4.294 | 0.490 | 4.786 | |
| loadModel | 2.646 | 0.372 | 3.019 | |
| makeExampleData | 0.047 | 0.002 | 0.048 | |
| plotDataHeatmap | 2.670 | 0.359 | 3.034 | |
| plotDataOverview | 4.756 | 0.566 | 5.327 | |
| plotDataScatter | 3.961 | 0.156 | 4.119 | |
| plotEnrichment | 8.015 | 1.107 | 9.127 | |
| plotEnrichmentBars | 7.726 | 0.813 | 8.543 | |
| plotEnrichmentDetailed | 10.083 | 1.126 | 11.212 | |
| plotEnrichmentHeatmap | 7.412 | 0.727 | 8.145 | |
| plotFactorBeeswarm | 5.365 | 0.670 | 6.042 | |
| plotFactorCor | 4.101 | 0.564 | 4.669 | |
| plotFactorHist | 4.830 | 0.422 | 5.255 | |
| plotFactorScatter | 4.832 | 0.431 | 5.267 | |
| plotFactorScatters | 8.535 | 0.425 | 8.965 | |
| plotTopWeights | 5.709 | 0.700 | 6.417 | |
| plotVarianceExplained | 5.605 | 0.402 | 6.011 | |
| plotWeights | 5.318 | 0.359 | 5.680 | |
| plotWeightsHeatmap | 6.363 | 0.463 | 6.831 | |
| predict | 17.124 | 0.992 | 18.274 | |
| prepareMOFA | 2.024 | 0.084 | 2.110 | |
| qualityControl | 3.234 | 0.322 | 3.557 | |
| regressCovariates | 27.055 | 0.245 | 27.326 | |
| runEnrichmentAnalysis | 18.423 | 1.101 | 19.577 | |
| runMOFA | 0.598 | 0.001 | 0.601 | |
| sampleNames | 0.950 | 0.086 | 1.037 | |
| selectModel | 46.952 | 0.215 | 50.484 | |
| subsetFactors | 2.064 | 0.211 | 2.279 | |
| subsetSamples | 2.065 | 0.171 | 2.237 | |
| subsetViews | 2.663 | 0.394 | 3.063 | |
| trainCurveELBO | 4.596 | 0.527 | 5.191 | |
| trainCurveFactors | 4.916 | 0.514 | 5.445 | |
| viewNames | 1.117 | 0.027 | 1.147 | |