| Back to Multiple platform build/check report for BioC 3.11 | 
  | 
This page was generated on 2020-10-17 11:58:45 -0400 (Sat, 17 Oct 2020).
| TO THE DEVELOPERS/MAINTAINERS OF THE inveRsion PACKAGE: Please make sure to use the following settings in order to reproduce any error or warning you see on this page. | 
| Package 888/1905 | Hostname | OS / Arch | INSTALL | BUILD | CHECK | BUILD BIN | ||||||
| inveRsion 1.36.0 Alejandro Caceres 
  | malbec2 | Linux (Ubuntu 18.04.4 LTS) / x86_64 | OK | OK | WARNINGS | |||||||
| tokay2 | Windows Server 2012 R2 Standard / x64 | OK | OK | WARNINGS | OK | |||||||
| machv2 | macOS 10.14.6 Mojave / x86_64 | OK | OK | [ OK ] | OK | 
| Package: inveRsion | 
| Version: 1.36.0 | 
| Command: /Library/Frameworks/R.framework/Versions/Current/Resources/bin/R CMD check --install=check:inveRsion.install-out.txt --library=/Library/Frameworks/R.framework/Versions/Current/Resources/library --no-vignettes --timings inveRsion_1.36.0.tar.gz | 
| StartedAt: 2020-10-17 02:15:06 -0400 (Sat, 17 Oct 2020) | 
| EndedAt: 2020-10-17 02:16:58 -0400 (Sat, 17 Oct 2020) | 
| EllapsedTime: 112.8 seconds | 
| RetCode: 0 | 
| Status: OK | 
| CheckDir: inveRsion.Rcheck | 
| Warnings: 0 | 
##############################################################################
##############################################################################
###
### Running command:
###
###   /Library/Frameworks/R.framework/Versions/Current/Resources/bin/R CMD check --install=check:inveRsion.install-out.txt --library=/Library/Frameworks/R.framework/Versions/Current/Resources/library --no-vignettes --timings inveRsion_1.36.0.tar.gz
###
##############################################################################
##############################################################################
* using log directory ‘/Users/biocbuild/bbs-3.11-bioc/meat/inveRsion.Rcheck’
* using R version 4.0.3 (2020-10-10)
* using platform: x86_64-apple-darwin17.0 (64-bit)
* using session charset: UTF-8
* using option ‘--no-vignettes’
* checking for file ‘inveRsion/DESCRIPTION’ ... OK
* checking extension type ... Package
* this is package ‘inveRsion’ version ‘1.36.0’
* checking package namespace information ... OK
* checking package dependencies ... OK
* checking if this is a source package ... OK
* checking if there is a namespace ... OK
* checking for hidden files and directories ... OK
* checking for portable file names ... OK
* checking for sufficient/correct file permissions ... OK
* checking whether package ‘inveRsion’ can be installed ... OK
* checking installed package size ... OK
* checking package directory ... OK
* checking ‘build’ directory ... OK
* checking DESCRIPTION meta-information ... NOTE
Package listed in more than one of Depends, Imports, Suggests, Enhances:
  ‘methods’
A package should be listed in only one of these fields.
* checking top-level files ... OK
* checking for left-over files ... OK
* checking index information ... OK
* checking package subdirectories ... OK
* checking R files for non-ASCII characters ... OK
* checking R files for syntax errors ... OK
* checking whether the package can be loaded ... OK
* checking whether the package can be loaded with stated dependencies ... OK
* checking whether the package can be unloaded cleanly ... OK
* checking whether the namespace can be loaded with stated dependencies ... OK
* checking whether the namespace can be unloaded cleanly ... OK
* checking dependencies in R code ... NOTE
Package in Depends field not imported from: ‘haplo.stats’
  These packages need to be imported from (in the NAMESPACE file)
  for when this namespace is loaded but not attached.
* checking S3 generic/method consistency ... OK
* checking replacement functions ... OK
* checking foreign function calls ... OK
* checking R code for possible problems ... NOTE
File ‘inveRsion/R/zzz.R’:
  .onLoad calls:
    packageStartupMessage("\n")
    packageStartupMessage("Hola!\n")
    packageStartupMessage("welcome to inevRsion package. \n \n \n")
    packageStartupMessage("type: manual() for full manual \n      vignette(\"inveRsion\") for a quick start \n")
See section ‘Good practice’ in '?.onAttach'.
callEncode: no visible global function definition for ‘quantile’
encodeGeno: no visible global function definition for ‘setupGeno’
encodeGeno: no visible global function definition for ‘haplo.em’
encodeGeno: no visible global function definition for
  ‘haplo.em.control’
encodeGenoAcross: no visible global function definition for ‘setupGeno’
encodeGenoAcross: no visible global function definition for ‘haplo.em’
encodeGenoAcross: no visible global function definition for
  ‘haplo.em.control’
Undefined global functions or variables:
  haplo.em haplo.em.control quantile setupGeno
Consider adding
  importFrom("stats", "quantile")
to your NAMESPACE file.
* checking Rd files ... OK
* checking Rd metadata ... OK
* checking Rd cross-references ... OK
* checking for missing documentation entries ... OK
* checking for code/documentation mismatches ... OK
* checking Rd \usage sections ... OK
* checking Rd contents ... OK
* checking for unstated dependencies in examples ... OK
* checking contents of ‘data’ directory ... OK
* checking data for non-ASCII characters ... OK
* checking data for ASCII and uncompressed saves ... OK
* checking line endings in C/C++/Fortran sources/headers ... OK
* checking line endings in Makefiles ... OK
* checking compilation flags in Makevars ... OK
* checking for GNU extensions in Makefiles ... OK
* checking for portable use of $(BLAS_LIBS) and $(LAPACK_LIBS) ... OK
* checking use of PKG_*FLAGS in Makefiles ... OK
* checking compiled code ... NOTE
Note: information on .o files is not available
* checking sizes of PDF files under ‘inst/doc’ ... OK
* checking files in ‘vignettes’ ... OK
* checking examples ... OK
* checking for unstated dependencies in vignettes ... OK
* checking package vignettes in ‘inst/doc’ ... OK
* checking running R code from vignettes ... SKIPPED
* checking re-building of vignette outputs ... SKIPPED
* checking PDF version of manual ... OK
* DONE
Status: 4 NOTEs
See
  ‘/Users/biocbuild/bbs-3.11-bioc/meat/inveRsion.Rcheck/00check.log’
for details.
inveRsion.Rcheck/00install.out
############################################################################## ############################################################################## ### ### Running command: ### ### /Library/Frameworks/R.framework/Versions/Current/Resources/bin/R CMD INSTALL inveRsion ### ############################################################################## ############################################################################## * installing to library ‘/Library/Frameworks/R.framework/Versions/4.0/Resources/library’ * installing *source* package ‘inveRsion’ ... ** using staged installation ** libs clang -mmacosx-version-min=10.13 -I"/Library/Frameworks/R.framework/Resources/include" -DNDEBUG -I/usr/local/include -fPIC -Wall -g -O2 -c init_inveRsion.c -o init_inveRsion.o clang -mmacosx-version-min=10.13 -I"/Library/Frameworks/R.framework/Resources/include" -DNDEBUG -I/usr/local/include -fPIC -Wall -g -O2 -c inversionModel.c -o inversionModel.o clang -mmacosx-version-min=10.13 -I"/Library/Frameworks/R.framework/Resources/include" -DNDEBUG -I/usr/local/include -fPIC -Wall -g -O2 -c writeGenoDat.c -o writeGenoDat.o clang -mmacosx-version-min=10.13 -dynamiclib -Wl,-headerpad_max_install_names -undefined dynamic_lookup -single_module -multiply_defined suppress -L/Library/Frameworks/R.framework/Resources/lib -L/usr/local/lib -o inveRsion.so init_inveRsion.o inversionModel.o writeGenoDat.o -L/Library/Frameworks/R.framework/Resources/lib -lRlapack -L/Library/Frameworks/R.framework/Resources/lib -lRblas -L/usr/local/gfortran/lib/gcc/x86_64-apple-darwin18/8.2.0 -L/usr/local/gfortran/lib -lgfortran -lquadmath -lm -F/Library/Frameworks/R.framework/.. -framework R -Wl,-framework -Wl,CoreFoundation installing to /Library/Frameworks/R.framework/Versions/4.0/Resources/library/00LOCK-inveRsion/00new/inveRsion/libs ** R ** data ** inst ** byte-compile and prepare package for lazy loading ** help *** installing help indices ** building package indices ** installing vignettes ** testing if installed package can be loaded from temporary location ** checking absolute paths in shared objects and dynamic libraries ** testing if installed package can be loaded from final location ** testing if installed package keeps a record of temporary installation path * DONE (inveRsion)
inveRsion.Rcheck/inveRsion-Ex.timings
| name | user | system | elapsed | |
| GenoDat-class | 0.005 | 0.003 | 0.008 | |
| GenoDatROI-class | 0.019 | 0.004 | 0.024 | |
| HaploCode-class | 0.117 | 0.004 | 0.122 | |
| ac | 0.002 | 0.001 | 0.004 | |
| accBic | 1.662 | 0.062 | 1.740 | |
| accuracy-class | 0.027 | 0.004 | 0.032 | |
| codeHaplo | 0.064 | 0.003 | 0.068 | |
| gDat | 0.005 | 0.002 | 0.008 | |
| getClassif-methods | 0.157 | 0.003 | 0.159 | |
| getInv-methods | 0.001 | 0.002 | 0.002 | |
| getROIs-methods | 0.002 | 0.001 | 0.003 | |
| hapCode | 0.015 | 0.002 | 0.018 | |
| invList | 0.004 | 0.002 | 0.006 | |
| inveRsion-package | 0 | 0 | 0 | |
| inversionList-class | 0.004 | 0.002 | 0.006 | |
| listInv-methods | 0.425 | 0.009 | 0.434 | |
| scan-class | 0.007 | 0.002 | 0.010 | |
| scanInv | 0.072 | 0.005 | 0.077 | |
| scanRes | 0.007 | 0.002 | 0.010 | |
| setUpGenoDatFile | 0.009 | 0.003 | 0.011 | |