| Back to Multiple platform build/check report for BioC 3.11 | 
 | 
This page was generated on 2020-10-17 11:58:38 -0400 (Sat, 17 Oct 2020).
| TO THE DEVELOPERS/MAINTAINERS OF THE groHMM PACKAGE: Please make sure to use the following settings in order to reproduce any error or warning you see on this page. | 
| Package 779/1905 | Hostname | OS / Arch | INSTALL | BUILD | CHECK | BUILD BIN | ||||||
| groHMM 1.22.0 Anusha Nagari 
 | malbec2 | Linux (Ubuntu 18.04.4 LTS) / x86_64 | OK | OK | OK |  | ||||||
| tokay2 | Windows Server 2012 R2 Standard / x64 | OK | OK | OK | OK |  | ||||||
| machv2 | macOS 10.14.6 Mojave / x86_64 | [ OK ] | OK | OK | OK |  | 
| Package: groHMM | 
| Version: 1.22.0 | 
| Command: /Library/Frameworks/R.framework/Versions/Current/Resources/bin/R CMD INSTALL groHMM | 
| StartedAt: 2020-10-16 17:03:26 -0400 (Fri, 16 Oct 2020) | 
| EndedAt: 2020-10-16 17:04:02 -0400 (Fri, 16 Oct 2020) | 
| EllapsedTime: 36.1 seconds | 
| RetCode: 0 | 
| Status: OK | 
##############################################################################
##############################################################################
###
### Running command:
###
###   /Library/Frameworks/R.framework/Versions/Current/Resources/bin/R CMD INSTALL groHMM
###
##############################################################################
##############################################################################
* installing to library ‘/Library/Frameworks/R.framework/Versions/4.0/Resources/library’
* installing *source* package ‘groHMM’ ...
** using staged installation
** libs
clang -mmacosx-version-min=10.13 -I"/Library/Frameworks/R.framework/Resources/include" -DNDEBUG   -I/usr/local/include   -fPIC  -Wall -g -O2  -c AnnotateProbes.c -o AnnotateProbes.o
clang -mmacosx-version-min=10.13 -I"/Library/Frameworks/R.framework/Resources/include" -DNDEBUG   -I/usr/local/include   -fPIC  -Wall -g -O2  -c DecayAlgorithm.c -o DecayAlgorithm.o
clang -mmacosx-version-min=10.13 -I"/Library/Frameworks/R.framework/Resources/include" -DNDEBUG   -I/usr/local/include   -fPIC  -Wall -g -O2  -c MLEfit.c -o MLEfit.o
In file included from MLEfit.c:44:
./hmmHeader.h:281:16: warning: unused function 'MargainalizeSumLogProbOver' [-Wunused-function]
static  double MargainalizeSumLogProbOver(int state, int position, 
               ^
./hmmHeader.h:301:16: warning: unused function 'expSum' [-Wunused-function]
static  double expSum(double *logValues, int length) {
               ^
2 warnings generated.
clang -mmacosx-version-min=10.13 -I"/Library/Frameworks/R.framework/Resources/include" -DNDEBUG   -I/usr/local/include   -fPIC  -Wall -g -O2  -c RegisterRRoutines.c -o RegisterRRoutines.o
clang -mmacosx-version-min=10.13 -I"/Library/Frameworks/R.framework/Resources/include" -DNDEBUG   -I/usr/local/include   -fPIC  -Wall -g -O2  -c Windowing.c -o Windowing.o
Windowing.c:147:6: warning: unused variable 'II' [-Wunused-variable]
        int II = 0;
            ^
1 warning generated.
clang -mmacosx-version-min=10.13 -I"/Library/Frameworks/R.framework/Resources/include" -DNDEBUG   -I/usr/local/include   -fPIC  -Wall -g -O2  -c hmmEM.c -o hmmEM.o
In file included from hmmEM.c:51:
./hmmHeader.h:281:16: warning: unused function 'MargainalizeSumLogProbOver' [-Wunused-function]
static  double MargainalizeSumLogProbOver(int state, int position, 
               ^
./hmmHeader.h:301:16: warning: unused function 'expSum' [-Wunused-function]
static  double expSum(double *logValues, int length) {
               ^
2 warnings generated.
clang -mmacosx-version-min=10.13 -I"/Library/Frameworks/R.framework/Resources/include" -DNDEBUG   -I/usr/local/include   -fPIC  -Wall -g -O2  -c hmmFwBw.c -o hmmFwBw.o
In file included from hmmFwBw.c:46:
./hmmHeader.h:281:16: warning: unused function 'MargainalizeSumLogProbOver' [-Wunused-function]
static  double MargainalizeSumLogProbOver(int state, int position, 
               ^
./hmmHeader.h:301:16: warning: unused function 'expSum' [-Wunused-function]
static  double expSum(double *logValues, int length) {
               ^
2 warnings generated.
clang -mmacosx-version-min=10.13 -I"/Library/Frameworks/R.framework/Resources/include" -DNDEBUG   -I/usr/local/include   -fPIC  -Wall -g -O2  -c hmmMiscFunctions.c -o hmmMiscFunctions.o
hmmMiscFunctions.c:385:10: warning: unused variable 'wi' [-Wunused-variable]
  double wi, *newEx;
         ^
hmmMiscFunctions.c:418:10: warning: unused variable 'epsilon' [-Wunused-variable]
  double epsilon=0.00001;
         ^
2 warnings generated.
clang -mmacosx-version-min=10.13 -I"/Library/Frameworks/R.framework/Resources/include" -DNDEBUG   -I/usr/local/include   -fPIC  -Wall -g -O2  -c hmmViterbi.c -o hmmViterbi.o
In file included from hmmViterbi.c:49:
./hmmHeader.h:281:16: warning: unused function 'MargainalizeSumLogProbOver' [-Wunused-function]
static  double MargainalizeSumLogProbOver(int state, int position, 
               ^
./hmmHeader.h:301:16: warning: unused function 'expSum' [-Wunused-function]
static  double expSum(double *logValues, int length) {
               ^
2 warnings generated.
clang -mmacosx-version-min=10.13 -dynamiclib -Wl,-headerpad_max_install_names -undefined dynamic_lookup -single_module -multiply_defined suppress -L/Library/Frameworks/R.framework/Resources/lib -L/usr/local/lib -o groHMM.so AnnotateProbes.o DecayAlgorithm.o MLEfit.o RegisterRRoutines.o Windowing.o hmmEM.o hmmFwBw.o hmmMiscFunctions.o hmmViterbi.o -F/Library/Frameworks/R.framework/.. -framework R -Wl,-framework -Wl,CoreFoundation
installing to /Library/Frameworks/R.framework/Versions/4.0/Resources/library/00LOCK-groHMM/00new/groHMM/libs
** R
** inst
** byte-compile and prepare package for lazy loading
** help
*** installing help indices
** building package indices
** installing vignettes
** testing if installed package can be loaded from temporary location
** checking absolute paths in shared objects and dynamic libraries
** testing if installed package can be loaded from final location
** testing if installed package keeps a record of temporary installation path
* DONE (groHMM)