| Back to Multiple platform build/check report for BioC 3.11 |
|
This page was generated on 2020-10-17 11:58:12 -0400 (Sat, 17 Oct 2020).
| TO THE DEVELOPERS/MAINTAINERS OF THE ChIPpeakAnno PACKAGE: Please make sure to use the following settings in order to reproduce any error or warning you see on this page. |
| Package 282/1905 | Hostname | OS / Arch | INSTALL | BUILD | CHECK | BUILD BIN | ||||||
| ChIPpeakAnno 3.22.4 Lihua Julie Zhu
| malbec2 | Linux (Ubuntu 18.04.4 LTS) / x86_64 | OK | OK | OK | |||||||
| tokay2 | Windows Server 2012 R2 Standard / x64 | OK | OK | OK | OK | |||||||
| machv2 | macOS 10.14.6 Mojave / x86_64 | OK | OK | [ OK ] | OK |
| Package: ChIPpeakAnno |
| Version: 3.22.4 |
| Command: /Library/Frameworks/R.framework/Versions/Current/Resources/bin/R CMD check --install=check:ChIPpeakAnno.install-out.txt --library=/Library/Frameworks/R.framework/Versions/Current/Resources/library --no-vignettes --timings ChIPpeakAnno_3.22.4.tar.gz |
| StartedAt: 2020-10-16 23:35:48 -0400 (Fri, 16 Oct 2020) |
| EndedAt: 2020-10-16 23:47:42 -0400 (Fri, 16 Oct 2020) |
| EllapsedTime: 713.9 seconds |
| RetCode: 0 |
| Status: OK |
| CheckDir: ChIPpeakAnno.Rcheck |
| Warnings: 0 |
##############################################################################
##############################################################################
###
### Running command:
###
### /Library/Frameworks/R.framework/Versions/Current/Resources/bin/R CMD check --install=check:ChIPpeakAnno.install-out.txt --library=/Library/Frameworks/R.framework/Versions/Current/Resources/library --no-vignettes --timings ChIPpeakAnno_3.22.4.tar.gz
###
##############################################################################
##############################################################################
* using log directory ‘/Users/biocbuild/bbs-3.11-bioc/meat/ChIPpeakAnno.Rcheck’
* using R version 4.0.3 (2020-10-10)
* using platform: x86_64-apple-darwin17.0 (64-bit)
* using session charset: UTF-8
* using option ‘--no-vignettes’
* checking for file ‘ChIPpeakAnno/DESCRIPTION’ ... OK
* checking extension type ... Package
* this is package ‘ChIPpeakAnno’ version ‘3.22.4’
* package encoding: UTF-8
* checking package namespace information ... OK
* checking package dependencies ... OK
* checking if this is a source package ... OK
* checking if there is a namespace ... OK
* checking for hidden files and directories ... OK
* checking for portable file names ... OK
* checking for sufficient/correct file permissions ... OK
* checking whether package ‘ChIPpeakAnno’ can be installed ... OK
* checking installed package size ... NOTE
installed size is 19.1Mb
sub-directories of 1Mb or more:
data 12.6Mb
extdata 5.2Mb
* checking package directory ... OK
* checking ‘build’ directory ... OK
* checking DESCRIPTION meta-information ... OK
* checking top-level files ... OK
* checking for left-over files ... OK
* checking index information ... OK
* checking package subdirectories ... OK
* checking R files for non-ASCII characters ... OK
* checking R files for syntax errors ... OK
* checking whether the package can be loaded ... OK
* checking whether the package can be loaded with stated dependencies ... OK
* checking whether the package can be unloaded cleanly ... OK
* checking whether the namespace can be loaded with stated dependencies ... OK
* checking whether the namespace can be unloaded cleanly ... OK
* checking dependencies in R code ... OK
* checking S3 generic/method consistency ... OK
* checking replacement functions ... OK
* checking foreign function calls ... OK
* checking R code for possible problems ... OK
* checking Rd files ... OK
* checking Rd metadata ... OK
* checking Rd cross-references ... OK
* checking for missing documentation entries ... OK
* checking for code/documentation mismatches ... OK
* checking Rd \usage sections ... OK
* checking Rd contents ... OK
* checking for unstated dependencies in examples ... OK
* checking contents of ‘data’ directory ... OK
* checking data for non-ASCII characters ... OK
* checking data for ASCII and uncompressed saves ... OK
* checking files in ‘vignettes’ ... OK
* checking examples ... OK
Examples with CPU (user + system) or elapsed time > 5s
user system elapsed
findEnhancers 33.217 0.348 33.588
findMotifsInPromoterSeqs 23.292 0.231 23.692
* checking for unstated dependencies in ‘tests’ ... OK
* checking tests ...
Running ‘runTests.R’
OK
* checking for unstated dependencies in vignettes ... OK
* checking package vignettes in ‘inst/doc’ ... OK
* checking running R code from vignettes ... SKIPPED
* checking re-building of vignette outputs ... SKIPPED
* checking PDF version of manual ... OK
* DONE
Status: 1 NOTE
See
‘/Users/biocbuild/bbs-3.11-bioc/meat/ChIPpeakAnno.Rcheck/00check.log’
for details.
ChIPpeakAnno.Rcheck/00install.out
############################################################################## ############################################################################## ### ### Running command: ### ### /Library/Frameworks/R.framework/Versions/Current/Resources/bin/R CMD INSTALL ChIPpeakAnno ### ############################################################################## ############################################################################## * installing to library ‘/Library/Frameworks/R.framework/Versions/4.0/Resources/library’ * installing *source* package ‘ChIPpeakAnno’ ... ** using staged installation ** R ** data ** inst ** byte-compile and prepare package for lazy loading ** help *** installing help indices ** building package indices ** installing vignettes ** testing if installed package can be loaded from temporary location ** testing if installed package can be loaded from final location ** testing if installed package keeps a record of temporary installation path * DONE (ChIPpeakAnno)
ChIPpeakAnno.Rcheck/tests/runTests.Rout
R version 4.0.3 (2020-10-10) -- "Bunny-Wunnies Freak Out"
Copyright (C) 2020 The R Foundation for Statistical Computing
Platform: x86_64-apple-darwin17.0 (64-bit)
R is free software and comes with ABSOLUTELY NO WARRANTY.
You are welcome to redistribute it under certain conditions.
Type 'license()' or 'licence()' for distribution details.
R is a collaborative project with many contributors.
Type 'contributors()' for more information and
'citation()' on how to cite R or R packages in publications.
Type 'demo()' for some demos, 'help()' for on-line help, or
'help.start()' for an HTML browser interface to help.
Type 'q()' to quit R.
> require("ChIPpeakAnno") || stop("unable to load Package:ChIPpeakAnno")
Loading required package: ChIPpeakAnno
Loading required package: IRanges
Loading required package: BiocGenerics
Loading required package: parallel
Attaching package: 'BiocGenerics'
The following objects are masked from 'package:parallel':
clusterApply, clusterApplyLB, clusterCall, clusterEvalQ,
clusterExport, clusterMap, parApply, parCapply, parLapply,
parLapplyLB, parRapply, parSapply, parSapplyLB
The following objects are masked from 'package:stats':
IQR, mad, sd, var, xtabs
The following objects are masked from 'package:base':
Filter, Find, Map, Position, Reduce, anyDuplicated, append,
as.data.frame, basename, cbind, colnames, dirname, do.call,
duplicated, eval, evalq, get, grep, grepl, intersect, is.unsorted,
lapply, mapply, match, mget, order, paste, pmax, pmax.int, pmin,
pmin.int, rank, rbind, rownames, sapply, setdiff, sort, table,
tapply, union, unique, unsplit, which, which.max, which.min
Loading required package: S4Vectors
Loading required package: stats4
Attaching package: 'S4Vectors'
The following object is masked from 'package:base':
expand.grid
Loading required package: Biostrings
Loading required package: XVector
Attaching package: 'Biostrings'
The following object is masked from 'package:base':
strsplit
Loading required package: GenomicRanges
Loading required package: GenomeInfoDb
[1] TRUE
> require("BSgenome.Drerio.UCSC.danRer7") || stop("unable to load Package:BSgenome.Drerio.UCSC.danRer7")
Loading required package: BSgenome.Drerio.UCSC.danRer7
Loading required package: BSgenome
Loading required package: rtracklayer
[1] TRUE
> require("org.Hs.eg.db") || stop("unable to load Package:org.Hs.eg.db")
Loading required package: org.Hs.eg.db
Loading required package: AnnotationDbi
Loading required package: Biobase
Welcome to Bioconductor
Vignettes contain introductory material; view with
'browseVignettes()'. To cite Bioconductor, see
'citation("Biobase")', and for packages 'citation("pkgname")'.
[1] TRUE
> require("org.Ce.eg.db") || stop("unable to load Package:org.Ce.eg.db")
Loading required package: org.Ce.eg.db
[1] TRUE
> require("BSgenome.Celegans.UCSC.ce10") || stop("unable to load Package:BSgenome.Celegans.UCSC.ce10")
Loading required package: BSgenome.Celegans.UCSC.ce10
[1] TRUE
> require("EnsDb.Hsapiens.v79") || stop("unable to load Package:EnsDb.Hsapiens.v79")
Loading required package: EnsDb.Hsapiens.v79
Loading required package: ensembldb
Loading required package: GenomicFeatures
Loading required package: AnnotationFilter
Attaching package: 'ensembldb'
The following object is masked from 'package:stats':
filter
[1] TRUE
> require("TxDb.Hsapiens.UCSC.hg38.knownGene") || stop("unable to load TxDb.Hsapiens.UCSC.hg38.knownGene")
Loading required package: TxDb.Hsapiens.UCSC.hg38.knownGene
[1] TRUE
> require("biomaRt") || stop("unable to load biomaRt")
Loading required package: biomaRt
[1] TRUE
> require("testthat") || stop("unable to load testthat")
Loading required package: testthat
Attaching package: 'testthat'
The following object is masked from 'package:AnnotationFilter':
not
[1] TRUE
> test_check("ChIPpeakAnno")
══ testthat results ═══════════════════════════════════════════════════════════
[ OK: 186 | SKIPPED: 5 | WARNINGS: 1 | FAILED: 0 ]
>
> proc.time()
user system elapsed
124.248 2.719 130.079
ChIPpeakAnno.Rcheck/ChIPpeakAnno-Ex.timings
| name | user | system | elapsed | |
| ChIPpeakAnno-package | 0.001 | 0.000 | 0.002 | |
| ExonPlusUtr.human.GRCh37 | 3.731 | 0.100 | 3.834 | |
| HOT.spots | 0.177 | 0.006 | 0.184 | |
| IDRfilter | 0.002 | 0.001 | 0.003 | |
| Peaks.Ste12.Replicate1 | 0.063 | 0.004 | 0.068 | |
| Peaks.Ste12.Replicate2 | 0.019 | 0.003 | 0.022 | |
| Peaks.Ste12.Replicate3 | 0.016 | 0.002 | 0.019 | |
| TSS.human.GRCh37 | 0.164 | 0.004 | 0.167 | |
| TSS.human.GRCh38 | 0.665 | 0.016 | 0.681 | |
| TSS.human.NCBI36 | 0.178 | 0.005 | 0.183 | |
| TSS.mouse.GRCm38 | 0.266 | 0.008 | 0.274 | |
| TSS.mouse.NCBIM37 | 0.172 | 0.005 | 0.176 | |
| TSS.rat.RGSC3.4 | 0.139 | 0.005 | 0.143 | |
| TSS.rat.Rnor_5.0 | 0.130 | 0.004 | 0.134 | |
| TSS.zebrafish.Zv8 | 0.128 | 0.007 | 0.135 | |
| TSS.zebrafish.Zv9 | 0.347 | 0.008 | 0.355 | |
| addAncestors | 2.834 | 0.072 | 2.911 | |
| addGeneIDs | 2.332 | 0.535 | 2.869 | |
| addMetadata | 2.065 | 0.083 | 2.151 | |
| annoGR | 0.001 | 0.000 | 0.001 | |
| annoPeaks | 2.776 | 0.303 | 3.135 | |
| annotatePeakInBatch | 3.828 | 0.162 | 3.999 | |
| annotatedPeak | 0.136 | 0.004 | 0.141 | |
| assignChromosomeRegion | 0.005 | 0.001 | 0.006 | |
| bdp | 0.001 | 0.001 | 0.001 | |
| binOverFeature | 1.104 | 0.041 | 1.147 | |
| binOverGene | 0.002 | 0.001 | 0.002 | |
| binOverRegions | 0.002 | 0.000 | 0.003 | |
| condenseMatrixByColnames | 0.021 | 0.002 | 0.024 | |
| convert2EntrezID | 0.420 | 0.024 | 0.444 | |
| countPatternInSeqs | 0.222 | 0.009 | 0.232 | |
| cumulativePercentage | 0.000 | 0.001 | 0.000 | |
| egOrgMap | 0.000 | 0.000 | 0.001 | |
| enrichedGO | 0.003 | 0.002 | 0.005 | |
| estFragmentLength | 0.001 | 0.001 | 0.001 | |
| estLibSize | 0.001 | 0.001 | 0.002 | |
| featureAlignedDistribution | 0.367 | 0.003 | 0.371 | |
| featureAlignedExtentSignal | 0.003 | 0.000 | 0.003 | |
| featureAlignedHeatmap | 0.572 | 0.005 | 0.577 | |
| featureAlignedSignal | 0.280 | 0.090 | 0.371 | |
| findEnhancers | 33.217 | 0.348 | 33.588 | |
| findMotifsInPromoterSeqs | 23.292 | 0.231 | 23.692 | |
| findOverlappingPeaks | 0.004 | 0.001 | 0.004 | |
| findOverlapsOfPeaks | 0.873 | 0.010 | 0.927 | |
| getAllPeakSequence | 0.717 | 0.019 | 0.739 | |
| getAnnotation | 0.001 | 0.000 | 0.001 | |
| getEnrichedGO | 0.018 | 0.007 | 0.025 | |
| getEnrichedPATH | 0.001 | 0.001 | 0.002 | |
| getGO | 0.001 | 0.001 | 0.001 | |
| getGeneSeq | 0.004 | 0.001 | 0.005 | |
| getUniqueGOidCount | 0.002 | 0.000 | 0.002 | |
| getVennCounts | 0.004 | 0.001 | 0.004 | |
| hyperGtest | 0.002 | 0.002 | 0.004 | |
| makeVennDiagram | 0.009 | 0.002 | 0.010 | |
| mergePlusMinusPeaks | 0.002 | 0.001 | 0.003 | |
| myPeakList | 0.029 | 0.003 | 0.032 | |
| oligoFrequency | 0.012 | 0.012 | 0.023 | |
| oligoSummary | 0.001 | 0.000 | 0.002 | |
| peakPermTest | 0.003 | 0.001 | 0.003 | |
| peaksNearBDP | 0.002 | 0.001 | 0.003 | |
| pie1 | 0.012 | 0.002 | 0.013 | |
| plotBinOverRegions | 0.003 | 0.001 | 0.003 | |
| preparePool | 0.002 | 0.001 | 0.002 | |
| reCenterPeaks | 0.044 | 0.001 | 0.045 | |
| summarizeOverlapsByBins | 2.873 | 0.418 | 2.954 | |
| summarizePatternInPeaks | 0.757 | 0.077 | 0.836 | |
| tileCount | 0.606 | 0.347 | 0.584 | |
| tileGRanges | 0.071 | 0.008 | 0.079 | |
| toGRanges | 0.224 | 0.026 | 0.251 | |
| translatePattern | 0.001 | 0.000 | 0.001 | |
| wgEncodeTfbsV3 | 0.242 | 0.008 | 0.251 | |
| write2FASTA | 0.022 | 0.003 | 0.025 | |
| xget | 0.127 | 0.010 | 0.138 | |