| Back to Multiple platform build/check report for BioC 3.11 | 
  | 
This page was generated on 2020-10-17 11:58:04 -0400 (Sat, 17 Oct 2020).
| TO THE DEVELOPERS/MAINTAINERS OF THE AUCell PACKAGE: Please make sure to use the following settings in order to reproduce any error or warning you see on this page. | 
| Package 99/1905 | Hostname | OS / Arch | INSTALL | BUILD | CHECK | BUILD BIN | ||||||
| AUCell 1.10.0 Sara Aibar 
  | malbec2 | Linux (Ubuntu 18.04.4 LTS) / x86_64 | OK | OK | OK | |||||||
| tokay2 | Windows Server 2012 R2 Standard / x64 | OK | OK | OK | OK | |||||||
| machv2 | macOS 10.14.6 Mojave / x86_64 | OK | OK | [ OK ] | OK | 
| Package: AUCell | 
| Version: 1.10.0 | 
| Command: /Library/Frameworks/R.framework/Versions/Current/Resources/bin/R CMD check --install=check:AUCell.install-out.txt --library=/Library/Frameworks/R.framework/Versions/Current/Resources/library --no-vignettes --timings AUCell_1.10.0.tar.gz | 
| StartedAt: 2020-10-16 22:47:28 -0400 (Fri, 16 Oct 2020) | 
| EndedAt: 2020-10-16 22:51:56 -0400 (Fri, 16 Oct 2020) | 
| EllapsedTime: 267.9 seconds | 
| RetCode: 0 | 
| Status: OK | 
| CheckDir: AUCell.Rcheck | 
| Warnings: 0 | 
##############################################################################
##############################################################################
###
### Running command:
###
###   /Library/Frameworks/R.framework/Versions/Current/Resources/bin/R CMD check --install=check:AUCell.install-out.txt --library=/Library/Frameworks/R.framework/Versions/Current/Resources/library --no-vignettes --timings AUCell_1.10.0.tar.gz
###
##############################################################################
##############################################################################
* using log directory ‘/Users/biocbuild/bbs-3.11-bioc/meat/AUCell.Rcheck’
* using R version 4.0.3 (2020-10-10)
* using platform: x86_64-apple-darwin17.0 (64-bit)
* using session charset: UTF-8
* using option ‘--no-vignettes’
* checking for file ‘AUCell/DESCRIPTION’ ... OK
* checking extension type ... Package
* this is package ‘AUCell’ version ‘1.10.0’
* checking package namespace information ... OK
* checking package dependencies ... NOTE
Package which this enhances but not available for checking: ‘doMC’
* checking if this is a source package ... OK
* checking if there is a namespace ... OK
* checking for hidden files and directories ... OK
* checking for portable file names ... OK
* checking for sufficient/correct file permissions ... OK
* checking whether package ‘AUCell’ can be installed ... OK
* checking installed package size ... OK
* checking package directory ... OK
* checking ‘build’ directory ... OK
* checking DESCRIPTION meta-information ... OK
* checking top-level files ... OK
* checking for left-over files ... OK
* checking index information ... OK
* checking package subdirectories ... OK
* checking R files for non-ASCII characters ... OK
* checking R files for syntax errors ... OK
* checking whether the package can be loaded ... OK
* checking whether the package can be loaded with stated dependencies ... OK
* checking whether the package can be unloaded cleanly ... OK
* checking whether the namespace can be loaded with stated dependencies ... OK
* checking whether the namespace can be unloaded cleanly ... OK
* checking dependencies in R code ... NOTE
Namespace in Imports field not imported from: ‘S4Vectors’
  All declared Imports should be used.
* checking S3 generic/method consistency ... OK
* checking replacement functions ... OK
* checking foreign function calls ... OK
* checking R code for possible problems ... NOTE
AUCell_createViewerApp : <anonymous>: no visible global function
  definition for ‘%>%’
AUCell_createViewerApp : <anonymous>: no visible binding for global
  variable ‘tsne1’
AUCell_createViewerApp : <anonymous>: no visible binding for global
  variable ‘tsne2’
AUCell_createViewerApp : <anonymous>: no visible binding for global
  variable ‘cell’
Undefined global functions or variables:
  %>% cell tsne1 tsne2
* checking Rd files ... OK
* checking Rd metadata ... OK
* checking Rd cross-references ... OK
* checking for missing documentation entries ... OK
* checking for code/documentation mismatches ... OK
* checking Rd \usage sections ... OK
* checking Rd contents ... OK
* checking for unstated dependencies in examples ... OK
* checking files in ‘vignettes’ ... OK
* checking examples ... OK
Examples with CPU (user + system) or elapsed time > 5s
                        user system elapsed
AUCell_createViewerApp 5.865  0.707   6.607
* checking for unstated dependencies in ‘tests’ ... OK
* checking tests ...
  Running ‘testthat.R’
 OK
* checking for unstated dependencies in vignettes ... OK
* checking package vignettes in ‘inst/doc’ ... OK
* checking running R code from vignettes ... SKIPPED
* checking re-building of vignette outputs ... SKIPPED
* checking PDF version of manual ... OK
* DONE
Status: 3 NOTEs
See
  ‘/Users/biocbuild/bbs-3.11-bioc/meat/AUCell.Rcheck/00check.log’
for details.
AUCell.Rcheck/00install.out
############################################################################## ############################################################################## ### ### Running command: ### ### /Library/Frameworks/R.framework/Versions/Current/Resources/bin/R CMD INSTALL AUCell ### ############################################################################## ############################################################################## * installing to library ‘/Library/Frameworks/R.framework/Versions/4.0/Resources/library’ * installing *source* package ‘AUCell’ ... ** using staged installation ** R ** inst ** byte-compile and prepare package for lazy loading ** help *** installing help indices ** building package indices ** installing vignettes ** testing if installed package can be loaded from temporary location ** testing if installed package can be loaded from final location ** testing if installed package keeps a record of temporary installation path * DONE (AUCell)
AUCell.Rcheck/tests/testthat.Rout
R version 4.0.3 (2020-10-10) -- "Bunny-Wunnies Freak Out"
Copyright (C) 2020 The R Foundation for Statistical Computing
Platform: x86_64-apple-darwin17.0 (64-bit)
R is free software and comes with ABSOLUTELY NO WARRANTY.
You are welcome to redistribute it under certain conditions.
Type 'license()' or 'licence()' for distribution details.
R is a collaborative project with many contributors.
Type 'contributors()' for more information and
'citation()' on how to cite R or R packages in publications.
Type 'demo()' for some demos, 'help()' for on-line help, or
'help.start()' for an HTML browser interface to help.
Type 'q()' to quit R.
> library(testthat)
> library(AUCell)
> 
> test_check("AUCell")
 min   1%   5%  10%  50% 100% 
   3    5    6    7   10   16 
 min   1%   5%  10%  50% 100% 
   3    5    6    7   10   16 
══ testthat results  ═══════════════════════════════════════════════════════════
[ OK: 42 | SKIPPED: 0 | WARNINGS: 0 | FAILED: 0 ]
> 
> proc.time()
   user  system elapsed 
 24.708   1.358  26.070 
AUCell.Rcheck/AUCell-Ex.timings
| name | user | system | elapsed | |
| AUCell_buildRankings | 1.678 | 0.051 | 1.739 | |
| AUCell_calcAUC | 1.789 | 0.112 | 1.902 | |
| AUCell_createViewerApp | 5.865 | 0.707 | 6.607 | |
| AUCell_exploreThresholds | 3.104 | 0.131 | 3.238 | |
| AUCell_plotHist | 0.897 | 0.008 | 0.908 | |
| AUCell_plotTSNE | 3.153 | 0.114 | 3.271 | |
| GeneSet-methods | 0.249 | 0.016 | 0.266 | |
| aucellResults-class | 1.069 | 0.010 | 1.080 | |
| orderAUC | 0.001 | 0.001 | 0.000 | |
| plotGeneCount | 0.005 | 0.002 | 0.007 | |
| plotTsne_cellProps | 3.875 | 0.101 | 3.979 | |
| updateAucellResults | 0.049 | 0.004 | 0.052 | |