| Back to Multiple platform build/check report for BioC 3.11 | 
  | 
This page was generated on 2020-10-17 11:59:23 -0400 (Sat, 17 Oct 2020).
| TO THE DEVELOPERS/MAINTAINERS OF THE regutools PACKAGE: Please make sure to use the following settings in order to reproduce any error or warning you see on this page. | 
| Package 1462/1905 | Hostname | OS / Arch | INSTALL | BUILD | CHECK | BUILD BIN | ||||||
| regutools 1.0.1 Joselyn Chavez 
  | malbec2 | Linux (Ubuntu 18.04.4 LTS) / x86_64 | OK | OK | OK | |||||||
| tokay2 | Windows Server 2012 R2 Standard / x64 | OK | OK | OK | OK | |||||||
| machv2 | macOS 10.14.6 Mojave / x86_64 | OK | OK | [ OK ] | OK | 
| Package: regutools | 
| Version: 1.0.1 | 
| Command: /Library/Frameworks/R.framework/Versions/Current/Resources/bin/R CMD check --install=check:regutools.install-out.txt --library=/Library/Frameworks/R.framework/Versions/Current/Resources/library --no-vignettes --timings regutools_1.0.1.tar.gz | 
| StartedAt: 2020-10-17 04:29:27 -0400 (Sat, 17 Oct 2020) | 
| EndedAt: 2020-10-17 04:41:33 -0400 (Sat, 17 Oct 2020) | 
| EllapsedTime: 726.1 seconds | 
| RetCode: 0 | 
| Status: OK | 
| CheckDir: regutools.Rcheck | 
| Warnings: 0 | 
##############################################################################
##############################################################################
###
### Running command:
###
###   /Library/Frameworks/R.framework/Versions/Current/Resources/bin/R CMD check --install=check:regutools.install-out.txt --library=/Library/Frameworks/R.framework/Versions/Current/Resources/library --no-vignettes --timings regutools_1.0.1.tar.gz
###
##############################################################################
##############################################################################
* using log directory ‘/Users/biocbuild/bbs-3.11-bioc/meat/regutools.Rcheck’
* using R version 4.0.3 (2020-10-10)
* using platform: x86_64-apple-darwin17.0 (64-bit)
* using session charset: UTF-8
* using option ‘--no-vignettes’
* checking for file ‘regutools/DESCRIPTION’ ... OK
* this is package ‘regutools’ version ‘1.0.1’
* package encoding: UTF-8
* checking package namespace information ... OK
* checking package dependencies ... OK
* checking if this is a source package ... OK
* checking if there is a namespace ... OK
* checking for hidden files and directories ... OK
* checking for portable file names ... OK
* checking for sufficient/correct file permissions ... OK
* checking whether package ‘regutools’ can be installed ... OK
* checking installed package size ... OK
* checking package directory ... OK
* checking ‘build’ directory ... OK
* checking DESCRIPTION meta-information ... OK
* checking top-level files ... OK
* checking for left-over files ... OK
* checking index information ... OK
* checking package subdirectories ... OK
* checking R files for non-ASCII characters ... OK
* checking R files for syntax errors ... OK
* checking whether the package can be loaded ... OK
* checking whether the package can be loaded with stated dependencies ... OK
* checking whether the package can be unloaded cleanly ... OK
* checking whether the namespace can be loaded with stated dependencies ... OK
* checking whether the namespace can be unloaded cleanly ... OK
* checking dependencies in R code ... OK
* checking S3 generic/method consistency ... OK
* checking replacement functions ... OK
* checking foreign function calls ... OK
* checking R code for possible problems ... OK
* checking Rd files ... OK
* checking Rd metadata ... OK
* checking Rd cross-references ... OK
* checking for missing documentation entries ... OK
* checking for code/documentation mismatches ... OK
* checking Rd \usage sections ... OK
* checking Rd contents ... OK
* checking for unstated dependencies in examples ... OK
* checking files in ‘vignettes’ ... OK
* checking examples ... OK
Examples with CPU (user + system) or elapsed time > 5s
                         user system elapsed
build_condition        20.115  1.588  25.180
plot_dna_objects       12.172  0.268  15.737
convert_to_granges      7.079  0.288   7.434
convert_to_biostrings   6.746  0.423   7.773
connect_database        6.270  0.276   6.972
get_dna_objects         5.990  0.262   6.345
get_dataset             5.899  0.231   6.200
get_regulatory_summary  5.726  0.265   6.062
get_binding_sites       5.645  0.242   5.958
regulondb               5.647  0.236   5.944
list_datasets           5.642  0.212   5.917
get_gene_synonyms       5.570  0.218   5.870
list_attributes         5.552  0.205   5.840
get_regulatory_network  5.517  0.230   6.120
get_gene_regulators     5.223  0.251   5.544
guess_id                5.217  0.209   5.492
* checking for unstated dependencies in ‘tests’ ... OK
* checking tests ...
  Running ‘testthat.R’
 OK
* checking for unstated dependencies in vignettes ... OK
* checking package vignettes in ‘inst/doc’ ... OK
* checking running R code from vignettes ... SKIPPED
* checking re-building of vignette outputs ... SKIPPED
* checking PDF version of manual ... OK
* DONE
Status: OK
regutools.Rcheck/00install.out
############################################################################## ############################################################################## ### ### Running command: ### ### /Library/Frameworks/R.framework/Versions/Current/Resources/bin/R CMD INSTALL regutools ### ############################################################################## ############################################################################## * installing to library ‘/Library/Frameworks/R.framework/Versions/4.0/Resources/library’ * installing *source* package ‘regutools’ ... ** using staged installation ** R ** inst ** byte-compile and prepare package for lazy loading ** help *** installing help indices *** copying figures ** building package indices ** installing vignettes ** testing if installed package can be loaded from temporary location ** testing if installed package can be loaded from final location ** testing if installed package keeps a record of temporary installation path * DONE (regutools)
regutools.Rcheck/tests/testthat.Rout
R version 4.0.3 (2020-10-10) -- "Bunny-Wunnies Freak Out"
Copyright (C) 2020 The R Foundation for Statistical Computing
Platform: x86_64-apple-darwin17.0 (64-bit)
R is free software and comes with ABSOLUTELY NO WARRANTY.
You are welcome to redistribute it under certain conditions.
Type 'license()' or 'licence()' for distribution details.
R is a collaborative project with many contributors.
Type 'contributors()' for more information and
'citation()' on how to cite R or R packages in publications.
Type 'demo()' for some demos, 'help()' for on-line help, or
'help.start()' for an HTML browser interface to help.
Type 'q()' to quit R.
> library("testthat")
> library("regutools")
> 
> test_check("regutools")
══ testthat results  ═══════════════════════════════════════════════════════════
[ OK: 110 | SKIPPED: 0 | WARNINGS: 0 | FAILED: 0 ]
Warning message:
call dbDisconnect() when finished working with a connection 
> 
> proc.time()
   user  system elapsed 
128.477   6.285 143.320 
regutools.Rcheck/regutools-Ex.timings
| name | user | system | elapsed | |
| build_condition | 20.115 | 1.588 | 25.180 | |
| connect_database | 6.270 | 0.276 | 6.972 | |
| convert_to_biostrings | 6.746 | 0.423 | 7.773 | |
| convert_to_granges | 7.079 | 0.288 | 7.434 | |
| existing_intervals | 0.002 | 0.000 | 0.002 | |
| existing_partial_match | 0.001 | 0.000 | 0.002 | |
| get_binding_sites | 5.645 | 0.242 | 5.958 | |
| get_dataset | 5.899 | 0.231 | 6.200 | |
| get_dna_objects | 5.990 | 0.262 | 6.345 | |
| get_gene_regulators | 5.223 | 0.251 | 5.544 | |
| get_gene_synonyms | 5.570 | 0.218 | 5.870 | |
| get_regulatory_network | 5.517 | 0.230 | 6.120 | |
| get_regulatory_summary | 5.726 | 0.265 | 6.062 | |
| guess_id | 5.217 | 0.209 | 5.492 | |
| list_attributes | 5.552 | 0.205 | 5.840 | |
| list_datasets | 5.642 | 0.212 | 5.917 | |
| non_existing_intervals | 0.001 | 0.000 | 0.001 | |
| plot_dna_objects | 12.172 | 0.268 | 15.737 | |
| regulondb | 5.647 | 0.236 | 5.944 | |